{"text_format":"1","workbook":"xlsx","n_sheets":7,"sheets":["Paramètres","Feuil1","Feuil2","Feuil3","Feuil4","Feuil5","Consolidation"],"not_rendered":{"charts":0,"images":0,"macros":1,"external_links":0,"defined_names":21,"comments":0,"pivot_tables":0},"unopened":[],"bounds":{"document_bytes":16777216,"sheet_cells":100000,"rows_first":2000,"rows_last":500,"rows_between":2000,"halvings":0,"cell_chars":16384,"cell_head_chars":4096},"cells_cut":0,"cells_raw":0,"read":"whole","date_system":"1900"}

{"sheet":"Paramètres","index":0,"n_rows":20,"n_cols":23,"rows_kept":20,"cut":false,"hidden":false,"merged":[]}
[null,null,{"$f":"IF(COUNTA(C3:C15)=0,\"\",COUNTA(C3:C15))","v":4},7,6,5,"","","","","","","","","","","","","","","","",""]
[]
["i",null,"Nom institution","Complément adresse","Rue","NPA Localité"]
["i"]
["i"]
["i",null,"Année budget","Début période","Fin période","Nb jours période"]
["i",null,null,{"$f":"IF(ISBLANK(Annee),\"\",CONCATENATE(\"01.01.\",Annee))","v":""},{"$f":"IF(ISBLANK(Annee),\"\",CONCATENATE(\"31.12.\",Annee))","v":""},{"$f":"IF(ISBLANK(Annee),\"\",(Fin_peirode-Debut_periode)+1)","v":""}]
["i"]
["i",null,"Utilisateur","Code liste","Liste","Modèle"]
["i",null,null,"ENPES002","Budgets","BUDGET_v08_conso.xltm"]
["i"]
["i",null,"Type d'institution","Type de budget","Version"]
[{"$f":"IF(COUNTA(#REF!)=0,\"\",COUNTA(#REF!))","v":1}]
[{"$f":"IF(COUNTA(#REF!)=0,\"\",COUNTA(#REF!))","v":1}]
[{"$f":"IF(COUNTA(#REF!)=0,\"\",COUNTA(#REF!))","v":1},null,null,"Secteurs"]
[null,null,"Feuil1"]
[null,null,"Feuil2"]
[null,null,"Feuil3"]
[null,null,"Feuil4"]
[null,null,"Feuil5"]

{"sheet":"Feuil1","index":1,"n_rows":0,"n_cols":0,"rows_kept":0,"cut":false,"hidden":false,"merged":[]}

{"sheet":"Feuil2","index":2,"n_rows":0,"n_cols":0,"rows_kept":0,"cut":false,"hidden":false,"merged":[]}

{"sheet":"Feuil3","index":3,"n_rows":0,"n_cols":0,"rows_kept":0,"cut":false,"hidden":false,"merged":[]}

{"sheet":"Feuil4","index":4,"n_rows":0,"n_cols":0,"rows_kept":0,"cut":false,"hidden":false,"merged":[]}

{"sheet":"Feuil5","index":5,"n_rows":0,"n_cols":0,"rows_kept":0,"cut":false,"hidden":false,"merged":[]}

{"sheet":"Consolidation","index":6,"n_rows":411,"n_cols":40,"rows_kept":411,"cut":false,"hidden":false,"merged":[[2,25,2,26],[2,27,2,36],[2,37,2,38],[3,27,3,28],[3,29,3,30],[3,31,3,32],[3,33,3,34],[3,35,3,36],[3,37,3,38],[3,25,3,26],[2,13,2,14],[2,3,2,12],[3,11,3,12],[3,3,3,4],[3,5,3,6],[3,7,3,8],[3,9,3,10],[3,13,3,14],[2,15,2,24],[3,15,3,16],[3,17,3,18],[3,19,3,20],[3,21,3,22],[3,23,3,24]]}
[null,"i","i",null,null,null,null,null,null,null,null,null,null,"i","i",null,null,null,null,null,null,null,null,null,null,"i","i",null,null,null,null,null,null,null,null,null,null,"i","i","."]
["InsererLigne",null,null,{"$f":"SUMIF(Feuil1!$B:$B,Consolidation!$B2,Feuil1!$D:$D)","v":0},null,{"$f":"SUMIF(Feuil2!$B:$B,Consolidation!$B2,Feuil2!$D:$D)","v":0},null,{"$f":"SUMIF(Feuil3!$B:$B,Consolidation!$B2,Feuil3!$D:$D)","v":0},null,{"$f":"SUMIF(Feuil4!$B:$B,Consolidation!$B2,Feuil4!$D:$D)","v":0},null,{"$f":"SUMIF(Feuil5!$B:$B,Consolidation!$B2,Feuil5!$D:$D)","v":0},null,{"$f":"D2+F2+H2+J2+L2","v":0},{"$f":"E2+G2+I2+K2+M2","v":0},{"$f":"SUMIF(Feuil1!$B:$B,Consolidation!$B2,Feuil1!$F:$F)","v":0},null,{"$f":"SUMIF(Feuil2!$B:$B,Consolidation!$B2,Feuil2!$F:$F)","v":0},null,{"$f":"SUMIF(Feuil3!$B:$B,Consolidation!$B2,Feuil3!$F:$F)","v":0},null,{"$f":"SUMIF(Feuil4!$B:$B,Consolidation!$B2,Feuil4!$F:$F)","v":0},null,{"$f":"SUMIF(Feuil5!$B:$B,Consolidation!$B2,Feuil5!$F:$F)","v":0},null,{"$f":"P2+R2+T2+V2+X2","v":0},{"$f":"Q2+S2+U2+W2+Y2","v":0},{"$f":"SUMIF(Feuil1!$B:$B,Consolidation!$B2,Feuil1!$H:$H)","v":0},null,{"$f":"SUMIF(Feuil2!$B:$B,Consolidation!$B2,Feuil2!$H:$H)","v":0},null,{"$f":"SUMIF(Feuil3!$B:$B,Consolidation!$B2,Feuil3!$H:$H)","v":0},null,{"$f":"SUMIF(Feuil4!$B:$B,Consolidation!$B2,Feuil4!$H:$H)","v":0},null,{"$f":"SUMIF(Feuil5!$B:$B,Consolidation!$B2,Feuil5!$H:$H)","v":0},null,{"$f":"AB2+AD2+AF2+AH2+AJ2","v":0},{"$f":"AC2+AE2+AG2+AI2+AK2","v":0},{"$f":"SUM(D2:AM2)","v":0}]
[null,null,null,{"$f":"CONCATENATE(\"Comptes \",Annee-2)","v":"Comptes -2"},null,null,null,null,null,null,null,null,null,{"$f":"CONCATENATE(\"Comptes \",Annee-2)","v":"Comptes -2"},null,{"$f":"CONCATENATE(\"Budgets \",Annee-1)","v":"Budgets -1"},null,null,null,null,null,null,null,null,null,{"$f":"CONCATENATE(\"Budgets \",Annee-1)","v":"Budgets -1"},null,{"$f":"CONCATENATE(\"Budgets \",Annee)","v":"Budgets "},null,null,null,null,null,null,null,null,null,{"$f":"CONCATENATE(\"Budgets \",Annee)","v":"Budgets "}]
[null,null,null,{"$f":"IF(ISBLANK(Feuil1),\"\",Feuil1)","v":""},null,{"$f":"IF(ISBLANK(Feuil2),\"\",Feuil2)","v":""},null,{"$f":"IF(ISBLANK(Feuil3),\"\",Feuil3)","v":""},null,{"$f":"IF(ISBLANK(Feuil4),\"\",Feuil4)","v":""},null,{"$f":"IF(ISBLANK(Feuil5),\"\",Feuil5)","v":""},null,"TOTAL",null,{"$f":"IF(ISBLANK(Feuil1),\"\",Feuil1)","v":""},null,{"$f":"IF(ISBLANK(Feuil2),\"\",Feuil2)","v":""},null,{"$f":"IF(ISBLANK(Feuil3),\"\",Feuil3)","v":""},null,{"$f":"IF(ISBLANK(Feuil4),\"\",Feuil4)","v":""},null,{"$f":"IF(ISBLANK(Feuil5),\"\",Feuil5)","v":""},null,"TOTAL",null,{"$f":"IF(ISBLANK(Feuil1),\"\",Feuil1)","v":""},null,{"$f":"IF(ISBLANK(Feuil2),\"\",Feuil2)","v":""},null,{"$f":"IF(ISBLANK(Feuil3),\"\",Feuil3)","v":""},null,{"$f":"IF(ISBLANK(Feuil4),\"\",Feuil4)","v":""},null,{"$f":"IF(ISBLANK(Feuil5),\"\",Feuil5)","v":""},null,"TOTAL",null,"."]
[null,null,null,"Nb journées",{"$f":"Feuil1!$E$6","v":0},"Nb journées",{"$f":"Feuil2!$G$6","v":0},"Nb journées",{"$f":"Feuil3!$E$6","v":0},"Nb journées",{"$f":"Feuil4!$E$6","v":0},"Nb journées",{"$f":"Feuil5!$E$6","v":0},"Nb journées",{"$f":"E5+G5+I5+K5+M5","v":0},"Nb journées",{"$f":"Feuil1!$G$6","v":0},"Nb journées",{"$f":"Feuil2!$G$6","v":0},"Nb journées",{"$f":"Feuil3!$G$6","v":0},"Nb journées",{"$f":"Feuil4!$G$6","v":0},"Nb journées",{"$f":"Feuil5!$G$6","v":0},"Nb journées",{"$f":"Q5+S5+U5+W5+Y5","v":0},"Nb journées",{"$f":"Feuil1!$I$6","v":0},"Nb journées",{"$f":"Feuil2!$I$6","v":0},"Nb journées",{"$f":"Feuil3!$I$6","v":0},"Nb journées",{"$f":"Feuil4!$I$6","v":0},"Nb journées",{"$f":"Feuil5!$I$6","v":0},"Nb journées",{"$f":"AC5+AE5+AG5+AI5+AK5","v":0},"."]
[null,"N°","Libellé","Fr.","Quot.","Fr.","Quot.","Fr.","Quot.","Fr.","Quot.","Fr.","Quot.","Fr.","Quot.","Fr.","Quot.","Fr.","Quot.","Fr.","Quot.","Fr.","Quot.","Fr.","Quot.","Fr.","Quot.","Fr.","Quot.","Fr.","Quot.","Fr.","Quot.","Fr.","Quot.","Fr.","Quot.","Fr.","Quot.","."]
[null,3,"CHARGES DE PERSONNEL",{"$f":"SUBTOTAL(9,D8:D126)","v":0},0,0,0,0,0,0,0,0,0,{"$f":"D7+F7+H7+J7+L7","v":0},{"$f":"E7+G7+I7+K7+M7","v":0},{"$f":"SUBTOTAL(9,P8:P126)","v":0},{"$f":"SUBTOTAL(9,Q8:Q126)","v":0},0,{"$f":"SUBTOTAL(9,S8:S126)","v":0},0,{"$f":"SUBTOTAL(9,U8:U126)","v":0},0,{"$f":"SUBTOTAL(9,W8:W126)","v":0},0,{"$f":"SUBTOTAL(9,Y8:Y126)","v":0},{"$f":"P7+R7+T7+V7+X7","v":0},{"$f":"Q7+S7+U7+W7+Y7","v":0},{"$f":"SUBTOTAL(9,AB8:AB126)","v":0},{"$f":"SUBTOTAL(9,AC8:AC126)","v":0},0,{"$f":"SUBTOTAL(9,AE8:AE126)","v":0},0,{"$f":"SUBTOTAL(9,AG8:AG126)","v":0},0,{"$f":"SUBTOTAL(9,AI8:AI126)","v":0},0,{"$f":"SUBTOTAL(9,AK8:AK126)","v":0},{"$f":"AB7+AD7+AF7+AH7+AJ7","v":0},{"$f":"AC7+AE7+AG7+AI7+AK7","v":0},{"$f":"SUM(D7:AM7)","v":0}]
[null,null,null,null,null,null,null,null,null,null,null,null,null,null,null,null,null,null,null,null,null,null,null,null,null,null,null,null,null,null,null,null,null,null,null,null,null,null,null,0]
[null,30,"Salaires formation",{"$f":"SUBTOTAL(9,D10:D18)","v":0},{"$f":"IF($E$5>0,D9/$E$5,0)","v":0},{"$f":"SUBTOTAL(9,F10:F18)","v":0},{"$f":"IF($G$5>0,F9/$G$5,0)","v":0},{"$f":"SUBTOTAL(9,H10:H18)","v":0},{"$f":"IF($I$5>0,H9/$I$5,0)","v":0},{"$f":"SUBTOTAL(9,J10:J18)","v":0},{"$f":"IF($K$5>0,J9/$K$5,0)","v":0},{"$f":"SUBTOTAL(9,L10:L18)","v":0},{"$f":"IF($M$5>0,L9/$M$5,0)","v":0},{"$f":"D9+F9+H9+J9+L9","v":0},{"$f":"E9+G9+I9+K9+M9","v":0},{"$f":"SUBTOTAL(9,P10:P18)","v":0},{"$f":"IF($Q$5>0,P9/$Q$5,0)","v":0},{"$f":"SUBTOTAL(9,R10:R18)","v":0},{"$f":"IF($S$5>0,R9/$S$5,0)","v":0},{"$f":"SUBTOTAL(9,T10:T18)","v":0},{"$f":"IF($U$5>0,T9/$U$5,0)","v":0},{"$f":"SUBTOTAL(9,V10:V18)","v":0},{"$f":"IF($W$5>0,V9/$W$5,0)","v":0},{"$f":"SUBTOTAL(9,X10:X18)","v":0},{"$f":"IF($Y$5>0,X9/$Y$5,0)","v":0},{"$f":"P9+R9+T9+V9+X9","v":0},{"$f":"Q9+S9+U9+W9+Y9","v":0},{"$f":"SUBTOTAL(9,AB10:AB18)","v":0},{"$f":"IF($AC$5>0,AB9/$AC$5,0)","v":0},{"$f":"SUBTOTAL(9,AD10:AD18)","v":0},{"$f":"IF($AE$5>0,AD9/$AE$5,0)","v":0},{"$f":"SUBTOTAL(9,AF10:AF18)","v":0},{"$f":"IF($AG$5>0,AF9/$AG$5,0)","v":0},{"$f":"SUBTOTAL(9,AH10:AH18)","v":0},{"$f":"IF($AI$5>0,AH9/$AI$5,0)","v":0},{"$f":"SUBTOTAL(9,AJ10:AJ18)","v":0},{"$f":"IF($AK$5>0,AJ9/$AK$5,0)","v":0},{"$f":"AB9+AD9+AF9+AH9+AJ9","v":0},{"$f":"AC9+AE9+AG9+AI9+AK9","v":0},0]
[null,3000,"Enseignants                                                  ",{"$f":"SUMIF(Feuil1!$B:$B,Consolidation!$B10,Feuil1!$D:$D)","v":0},null,{"$f":"SUMIF(Feuil2!$B:$B,Consolidation!$B10,Feuil2!$D:$D)","v":0},null,{"$f":"SUMIF(Feuil3!$B:$B,Consolidation!$B10,Feuil3!$D:$D)","v":0},null,{"$f":"SUMIF(Feuil4!$B:$B,Consolidation!$B10,Feuil4!$D:$D)","v":0},null,{"$f":"SUMIF(Feuil5!$B:$B,Consolidation!$B10,Feuil5!$D:$D)","v":0},null,{"$f":"D10+F10+H10+J10+L10","v":0},{"$f":"E10+G10+I10+K10+M10","v":0},{"$f":"SUMIF(Feuil1!$B:$B,Consolidation!$B10,Feuil1!$F:$F)","v":0},null,{"$f":"SUMIF(Feuil2!$B:$B,Consolidation!$B10,Feuil2!$F:$F)","v":0},null,{"$f":"SUMIF(Feuil3!$B:$B,Consolidation!$B10,Feuil3!$F:$F)","v":0},null,{"$f":"SUMIF(Feuil4!$B:$B,Consolidation!$B10,Feuil4!$F:$F)","v":0},null,{"$f":"SUMIF(Feuil5!$B:$B,Consolidation!$B10,Feuil5!$F:$F)","v":0},null,{"$f":"P10+R10+T10+V10+X10","v":0},{"$f":"Q10+S10+U10+W10+Y10","v":0},{"$f":"SUMIF(Feuil1!$B:$B,Consolidation!$B10,Feuil1!$H:$H)","v":0},null,{"$f":"SUMIF(Feuil2!$B:$B,Consolidation!$B10,Feuil2!$H:$H)","v":0},null,{"$f":"SUMIF(Feuil3!$B:$B,Consolidation!$B10,Feuil3!$H:$H)","v":0},null,{"$f":"SUMIF(Feuil4!$B:$B,Consolidation!$B10,Feuil4!$H:$H)","v":0},null,{"$f":"SUMIF(Feuil5!$B:$B,Consolidation!$B10,Feuil5!$H:$H)","v":0},null,{"$f":"AB10+AD10+AF10+AH10+AJ10","v":0},{"$f":"AC10+AE10+AG10+AI10+AK10","v":0},0]
["InsererLigne",3010,"Enseignants non subventionnés",{"$f":"SUMIF(Feuil1!$B:$B,Consolidation!$B11,Feuil1!$D:$D)","v":0},null,{"$f":"SUMIF(Feuil2!$B:$B,Consolidation!$B11,Feuil2!$D:$D)","v":0},null,{"$f":"SUMIF(Feuil3!$B:$B,Consolidation!$B11,Feuil3!$D:$D)","v":0},null,{"$f":"SUMIF(Feuil4!$B:$B,Consolidation!$B11,Feuil4!$D:$D)","v":0},null,{"$f":"SUMIF(Feuil5!$B:$B,Consolidation!$B11,Feuil5!$D:$D)","v":0},null,{"$f":"D11+F11+H11+J11+L11","v":0},{"$f":"E11+G11+I11+K11+M11","v":0},{"$f":"SUMIF(Feuil1!$B:$B,Consolidation!$B11,Feuil1!$F:$F)","v":0},null,{"$f":"SUMIF(Feuil2!$B:$B,Consolidation!$B11,Feuil2!$F:$F)","v":0},null,{"$f":"SUMIF(Feuil3!$B:$B,Consolidation!$B11,Feuil3!$F:$F)","v":0},null,{"$f":"SUMIF(Feuil4!$B:$B,Consolidation!$B11,Feuil4!$F:$F)","v":0},null,{"$f":"SUMIF(Feuil5!$B:$B,Consolidation!$B11,Feuil5!$F:$F)","v":0},null,{"$f":"P11+R11+T11+V11+X11","v":0},{"$f":"Q11+S11+U11+W11+Y11","v":0},{"$f":"SUMIF(Feuil1!$B:$B,Consolidation!$B11,Feuil1!$H:$H)","v":0},null,{"$f":"SUMIF(Feuil2!$B:$B,Consolidation!$B11,Feuil2!$H:$H)","v":0},null,{"$f":"SUMIF(Feuil3!$B:$B,Consolidation!$B11,Feuil3!$H:$H)","v":0},null,{"$f":"SUMIF(Feuil4!$B:$B,Consolidation!$B11,Feuil4!$H:$H)","v":0},null,{"$f":"SUMIF(Feuil5!$B:$B,Consolidation!$B11,Feuil5!$H:$H)","v":0},null,{"$f":"AB11+AD11+AF11+AH11+AJ11","v":0},{"$f":"AC11+AE11+AG11+AI11+AK11","v":0},0]
["InsererLigne",3015,"Soutien scolaire",{"$f":"SUMIF(Feuil1!$B:$B,Consolidation!$B12,Feuil1!$D:$D)","v":0},null,{"$f":"SUMIF(Feuil2!$B:$B,Consolidation!$B12,Feuil2!$D:$D)","v":0},null,{"$f":"SUMIF(Feuil3!$B:$B,Consolidation!$B12,Feuil3!$D:$D)","v":0},null,{"$f":"SUMIF(Feuil4!$B:$B,Consolidation!$B12,Feuil4!$D:$D)","v":0},null,{"$f":"SUMIF(Feuil5!$B:$B,Consolidation!$B12,Feuil5!$D:$D)","v":0},null,0,0,{"$f":"SUMIF(Feuil1!$B:$B,Consolidation!$B12,Feuil1!$F:$F)","v":0},null,{"$f":"SUMIF(Feuil2!$B:$B,Consolidation!$B12,Feuil2!$F:$F)","v":0},null,{"$f":"SUMIF(Feuil3!$B:$B,Consolidation!$B12,Feuil3!$F:$F)","v":0},null,{"$f":"SUMIF(Feuil4!$B:$B,Consolidation!$B12,Feuil4!$F:$F)","v":0},null,{"$f":"SUMIF(Feuil5!$B:$B,Consolidation!$B12,Feuil5!$F:$F)","v":0},null,0,0,{"$f":"SUMIF(Feuil1!$B:$B,Consolidation!$B12,Feuil1!$H:$H)","v":0},null,{"$f":"SUMIF(Feuil2!$B:$B,Consolidation!$B12,Feuil2!$H:$H)","v":0},null,{"$f":"SUMIF(Feuil3!$B:$B,Consolidation!$B12,Feuil3!$H:$H)","v":0},null,{"$f":"SUMIF(Feuil4!$B:$B,Consolidation!$B12,Feuil4!$H:$H)","v":0},null,{"$f":"SUMIF(Feuil5!$B:$B,Consolidation!$B12,Feuil5!$H:$H)","v":0},null,0,0,0]
["InsererLigne",3020,"Remplaçant(e)s                                                  ",{"$f":"SUMIF(Feuil1!$B:$B,Consolidation!$B13,Feuil1!$D:$D)","v":0},null,{"$f":"SUMIF(Feuil2!$B:$B,Consolidation!$B13,Feuil2!$D:$D)","v":0},null,{"$f":"SUMIF(Feuil3!$B:$B,Consolidation!$B13,Feuil3!$D:$D)","v":0},null,{"$f":"SUMIF(Feuil4!$B:$B,Consolidation!$B13,Feuil4!$D:$D)","v":0},null,{"$f":"SUMIF(Feuil5!$B:$B,Consolidation!$B13,Feuil5!$D:$D)","v":0},null,0,0,{"$f":"SUMIF(Feuil1!$B:$B,Consolidation!$B13,Feuil1!$F:$F)","v":0},null,{"$f":"SUMIF(Feuil2!$B:$B,Consolidation!$B13,Feuil2!$F:$F)","v":0},null,{"$f":"SUMIF(Feuil3!$B:$B,Consolidation!$B13,Feuil3!$F:$F)","v":0},null,{"$f":"SUMIF(Feuil4!$B:$B,Consolidation!$B13,Feuil4!$F:$F)","v":0},null,{"$f":"SUMIF(Feuil5!$B:$B,Consolidation!$B13,Feuil5!$F:$F)","v":0},null,0,0,{"$f":"SUMIF(Feuil1!$B:$B,Consolidation!$B13,Feuil1!$H:$H)","v":0},null,{"$f":"SUMIF(Feuil2!$B:$B,Consolidation!$B13,Feuil2!$H:$H)","v":0},null,{"$f":"SUMIF(Feuil3!$B:$B,Consolidation!$B13,Feuil3!$H:$H)","v":0},null,{"$f":"SUMIF(Feuil4!$B:$B,Consolidation!$B13,Feuil4!$H:$H)","v":0},null,{"$f":"SUMIF(Feuil5!$B:$B,Consolidation!$B13,Feuil5!$H:$H)","v":0},null,0,0,0]
["InsererLigne",3030,"Stagiaires et apprentis                                                  ",{"$f":"SUMIF(Feuil1!$B:$B,Consolidation!$B14,Feuil1!$D:$D)","v":0},null,{"$f":"SUMIF(Feuil2!$B:$B,Consolidation!$B14,Feuil2!$D:$D)","v":0},null,{"$f":"SUMIF(Feuil3!$B:$B,Consolidation!$B14,Feuil3!$D:$D)","v":0},null,{"$f":"SUMIF(Feuil4!$B:$B,Consolidation!$B14,Feuil4!$D:$D)","v":0},null,{"$f":"SUMIF(Feuil5!$B:$B,Consolidation!$B14,Feuil5!$D:$D)","v":0},null,0,0,{"$f":"SUMIF(Feuil1!$B:$B,Consolidation!$B14,Feuil1!$F:$F)","v":0},null,{"$f":"SUMIF(Feuil2!$B:$B,Consolidation!$B14,Feuil2!$F:$F)","v":0},null,{"$f":"SUMIF(Feuil3!$B:$B,Consolidation!$B14,Feuil3!$F:$F)","v":0},null,{"$f":"SUMIF(Feuil4!$B:$B,Consolidation!$B14,Feuil4!$F:$F)","v":0},null,{"$f":"SUMIF(Feuil5!$B:$B,Consolidation!$B14,Feuil5!$F:$F)","v":0},null,0,0,{"$f":"SUMIF(Feuil1!$B:$B,Consolidation!$B14,Feuil1!$H:$H)","v":0},null,{"$f":"SUMIF(Feuil2!$B:$B,Consolidation!$B14,Feuil2!$H:$H)","v":0},null,{"$f":"SUMIF(Feuil3!$B:$B,Consolidation!$B14,Feuil3!$H:$H)","v":0},null,{"$f":"SUMIF(Feuil4!$B:$B,Consolidation!$B14,Feuil4!$H:$H)","v":0},null,{"$f":"SUMIF(Feuil5!$B:$B,Consolidation!$B14,Feuil5!$H:$H)","v":0},null,0,0,0]
["InsererLigne",3090,"Récupération LAA",{"$f":"SUMIF(Feuil1!$B:$B,Consolidation!$B15,Feuil1!$D:$D)","v":0},null,{"$f":"SUMIF(Feuil2!$B:$B,Consolidation!$B15,Feuil2!$D:$D)","v":0},null,{"$f":"SUMIF(Feuil3!$B:$B,Consolidation!$B15,Feuil3!$D:$D)","v":0},null,{"$f":"SUMIF(Feuil4!$B:$B,Consolidation!$B15,Feuil4!$D:$D)","v":0},null,{"$f":"SUMIF(Feuil5!$B:$B,Consolidation!$B15,Feuil5!$D:$D)","v":0},null,0,0,{"$f":"SUMIF(Feuil1!$B:$B,Consolidation!$B15,Feuil1!$F:$F)","v":0},null,{"$f":"SUMIF(Feuil2!$B:$B,Consolidation!$B15,Feuil2!$F:$F)","v":0},null,{"$f":"SUMIF(Feuil3!$B:$B,Consolidation!$B15,Feuil3!$F:$F)","v":0},null,{"$f":"SUMIF(Feuil4!$B:$B,Consolidation!$B15,Feuil4!$F:$F)","v":0},null,{"$f":"SUMIF(Feuil5!$B:$B,Consolidation!$B15,Feuil5!$F:$F)","v":0},null,0,0,{"$f":"SUMIF(Feuil1!$B:$B,Consolidation!$B15,Feuil1!$H:$H)","v":0},null,{"$f":"SUMIF(Feuil2!$B:$B,Consolidation!$B15,Feuil2!$H:$H)","v":0},null,{"$f":"SUMIF(Feuil3!$B:$B,Consolidation!$B15,Feuil3!$H:$H)","v":0},null,{"$f":"SUMIF(Feuil4!$B:$B,Consolidation!$B15,Feuil4!$H:$H)","v":0},null,{"$f":"SUMIF(Feuil5!$B:$B,Consolidation!$B15,Feuil5!$H:$H)","v":0},null,0,0,0]
["InsererLigne",3091,"Récupération APG",{"$f":"SUMIF(Feuil1!$B:$B,Consolidation!$B16,Feuil1!$D:$D)","v":0},null,{"$f":"SUMIF(Feuil2!$B:$B,Consolidation!$B16,Feuil2!$D:$D)","v":0},null,{"$f":"SUMIF(Feuil3!$B:$B,Consolidation!$B16,Feuil3!$D:$D)","v":0},null,{"$f":"SUMIF(Feuil4!$B:$B,Consolidation!$B16,Feuil4!$D:$D)","v":0},null,{"$f":"SUMIF(Feuil5!$B:$B,Consolidation!$B16,Feuil5!$D:$D)","v":0},null,0,0,{"$f":"SUMIF(Feuil1!$B:$B,Consolidation!$B16,Feuil1!$F:$F)","v":0},null,{"$f":"SUMIF(Feuil2!$B:$B,Consolidation!$B16,Feuil2!$F:$F)","v":0},null,{"$f":"SUMIF(Feuil3!$B:$B,Consolidation!$B16,Feuil3!$F:$F)","v":0},null,{"$f":"SUMIF(Feuil4!$B:$B,Consolidation!$B16,Feuil4!$F:$F)","v":0},null,{"$f":"SUMIF(Feuil5!$B:$B,Consolidation!$B16,Feuil5!$F:$F)","v":0},null,0,0,{"$f":"SUMIF(Feuil1!$B:$B,Consolidation!$B16,Feuil1!$H:$H)","v":0},null,{"$f":"SUMIF(Feuil2!$B:$B,Consolidation!$B16,Feuil2!$H:$H)","v":0},null,{"$f":"SUMIF(Feuil3!$B:$B,Consolidation!$B16,Feuil3!$H:$H)","v":0},null,{"$f":"SUMIF(Feuil4!$B:$B,Consolidation!$B16,Feuil4!$H:$H)","v":0},null,{"$f":"SUMIF(Feuil5!$B:$B,Consolidation!$B16,Feuil5!$H:$H)","v":0},null,0,0,0]
["InsererLigne",3092,"Récupération diverses",{"$f":"SUMIF(Feuil1!$B:$B,Consolidation!$B17,Feuil1!$D:$D)","v":0},null,{"$f":"SUMIF(Feuil2!$B:$B,Consolidation!$B17,Feuil2!$D:$D)","v":0},null,{"$f":"SUMIF(Feuil3!$B:$B,Consolidation!$B17,Feuil3!$D:$D)","v":0},null,{"$f":"SUMIF(Feuil4!$B:$B,Consolidation!$B17,Feuil4!$D:$D)","v":0},null,{"$f":"SUMIF(Feuil5!$B:$B,Consolidation!$B17,Feuil5!$D:$D)","v":0},null,0,0,{"$f":"SUMIF(Feuil1!$B:$B,Consolidation!$B17,Feuil1!$F:$F)","v":0},null,{"$f":"SUMIF(Feuil2!$B:$B,Consolidation!$B17,Feuil2!$F:$F)","v":0},null,{"$f":"SUMIF(Feuil3!$B:$B,Consolidation!$B17,Feuil3!$F:$F)","v":0},null,{"$f":"SUMIF(Feuil4!$B:$B,Consolidation!$B17,Feuil4!$F:$F)","v":0},null,{"$f":"SUMIF(Feuil5!$B:$B,Consolidation!$B17,Feuil5!$F:$F)","v":0},null,0,0,{"$f":"SUMIF(Feuil1!$B:$B,Consolidation!$B17,Feuil1!$H:$H)","v":0},null,{"$f":"SUMIF(Feuil2!$B:$B,Consolidation!$B17,Feuil2!$H:$H)","v":0},null,{"$f":"SUMIF(Feuil3!$B:$B,Consolidation!$B17,Feuil3!$H:$H)","v":0},null,{"$f":"SUMIF(Feuil4!$B:$B,Consolidation!$B17,Feuil4!$H:$H)","v":0},null,{"$f":"SUMIF(Feuil5!$B:$B,Consolidation!$B17,Feuil5!$H:$H)","v":0},null,0,0,0]
["InsererLigne",null,null,null,null,null,null,null,null,null,null,null,null,null,null,null,null,null,null,null,null,null,null,null,null,null,null,null,null,null,null,null,null,null,null,null,null,null,null,0]
[null,31,"Salaires accompagnement                                                  ",{"$f":"SUBTOTAL(9,D20:D32)","v":0},{"$f":"IF($E$5>0,D19/$E$5,0)","v":0},{"$f":"SUBTOTAL(9,F20:F32)","v":0},{"$f":"IF($G$5>0,F19/$G$5,0)","v":0},{"$f":"SUBTOTAL(9,H20:H32)","v":0},{"$f":"IF($I$5>0,H19/$I$5,0)","v":0},{"$f":"SUBTOTAL(9,J20:J32)","v":0},{"$f":"IF($K$5>0,J19/$K$5,0)","v":0},{"$f":"SUBTOTAL(9,L20:L32)","v":0},{"$f":"IF($M$5>0,L19/$M$5,0)","v":0},{"$f":"D19+F19+H19+J19+L19","v":0},{"$f":"E19+G19+I19+K19+M19","v":0},{"$f":"SUBTOTAL(9,P20:P32)","v":0},{"$f":"IF($Q$5>0,P19/$Q$5,0)","v":0},{"$f":"SUBTOTAL(9,R20:R32)","v":0},{"$f":"IF($S$5>0,R19/$S$5,0)","v":0},{"$f":"SUBTOTAL(9,T20:T32)","v":0},{"$f":"IF($U$5>0,T19/$U$5,0)","v":0},{"$f":"SUBTOTAL(9,V20:V32)","v":0},{"$f":"IF($W$5>0,V19/$W$5,0)","v":0},{"$f":"SUBTOTAL(9,X20:X32)","v":0},{"$f":"IF($Y$5>0,X19/$Y$5,0)","v":0},{"$f":"P19+R19+T19+V19+X19","v":0},{"$f":"Q19+S19+U19+W19+Y19","v":0},{"$f":"SUBTOTAL(9,AB20:AB32)","v":0},{"$f":"IF($AC$5>0,AB19/$AC$5,0)","v":0},{"$f":"SUBTOTAL(9,AD20:AD32)","v":0},{"$f":"IF($AE$5>0,AD19/$AE$5,0)","v":0},{"$f":"SUBTOTAL(9,AF20:AF32)","v":0},{"$f":"IF($AG$5>0,AF19/$AG$5,0)","v":0},{"$f":"SUBTOTAL(9,AH20:AH32)","v":0},{"$f":"IF($AI$5>0,AH19/$AI$5,0)","v":0},{"$f":"SUBTOTAL(9,AJ20:AJ32)","v":0},{"$f":"IF($AK$5>0,AJ19/$AK$5,0)","v":0},{"$f":"AB19+AD19+AF19+AH19+AJ19","v":0},{"$f":"AC19+AE19+AG19+AI19+AK19","v":0},0]
[null,3100,"Educateurs, MSP                                                  ",{"$f":"SUMIF(Feuil1!$B:$B,Consolidation!$B20,Feuil1!$D:$D)","v":0},null,{"$f":"SUMIF(Feuil2!$B:$B,Consolidation!B20,Feuil2!$D:$D)","v":0},null,{"$f":"SUMIF(Feuil3!$B:$B,Consolidation!D20,Feuil3!$D:$D)","v":0},null,{"$f":"SUMIF(Feuil4!$B:$B,Consolidation!F20,Feuil4!$D:$D)","v":0},null,{"$f":"SUMIF(Feuil5!$B:$B,Consolidation!H20,Feuil5!$D:$D)","v":0},null,{"$f":"D20+F20+H20+J20+L20","v":0},{"$f":"E20+G20+I20+K20+M20","v":0},{"$f":"SUMIF(Feuil1!$B:$B,Consolidation!$B20,Feuil1!$F:$F)","v":0},null,{"$f":"SUMIF(Feuil2!$B:$B,Consolidation!$B20,Feuil2!$F:$F)","v":0},null,{"$f":"SUMIF(Feuil3!$B:$B,Consolidation!$B20,Feuil3!$F:$F)","v":0},null,{"$f":"SUMIF(Feuil4!$B:$B,Consolidation!$B20,Feuil4!$F:$F)","v":0},null,{"$f":"SUMIF(Feuil5!$B:$B,Consolidation!$B20,Feuil5!$F:$F)","v":0},null,{"$f":"P20+R20+T20+V20+X20","v":0},{"$f":"Q20+S20+U20+W20+Y20","v":0},{"$f":"SUMIF(Feuil1!$B:$B,Consolidation!$B20,Feuil1!$H:$H)","v":0},null,{"$f":"SUMIF(Feuil2!$B:$B,Consolidation!$B20,Feuil2!$H:$H)","v":0},null,{"$f":"SUMIF(Feuil3!$B:$B,Consolidation!$B20,Feuil3!$H:$H)","v":0},null,{"$f":"SUMIF(Feuil4!$B:$B,Consolidation!$B20,Feuil4!$H:$H)","v":0},null,{"$f":"SUMIF(Feuil5!$B:$B,Consolidation!$B20,Feuil5!$H:$H)","v":0},null,{"$f":"AB20+AD20+AF20+AH20+AJ20","v":0},{"$f":"AC20+AE20+AG20+AI20+AK20","v":0},0]
["InsererLigne",3110,"Veilleurs/veilleuses                                                  ",{"$f":"SUMIF(Feuil1!$B:$B,Consolidation!$B21,Feuil1!$D:$D)","v":0},null,{"$f":"SUMIF(Feuil2!$B:$B,Consolidation!$B21,Feuil2!$D:$D)","v":0},null,{"$f":"SUMIF(Feuil3!$B:$B,Consolidation!$B21,Feuil3!$D:$D)","v":0},null,{"$f":"SUMIF(Feuil4!$B:$B,Consolidation!$B21,Feuil4!$D:$D)","v":0},null,{"$f":"SUMIF(Feuil5!$B:$B,Consolidation!$B21,Feuil5!$D:$D)","v":0},null,0,0,{"$f":"SUMIF(Feuil1!$B:$B,Consolidation!$B21,Feuil1!$F:$F)","v":0},null,{"$f":"SUMIF(Feuil2!$B:$B,Consolidation!$B21,Feuil2!$F:$F)","v":0},null,{"$f":"SUMIF(Feuil3!$B:$B,Consolidation!$B21,Feuil3!$F:$F)","v":0},null,{"$f":"SUMIF(Feuil4!$B:$B,Consolidation!$B21,Feuil4!$F:$F)","v":0},null,{"$f":"SUMIF(Feuil5!$B:$B,Consolidation!$B21,Feuil5!$F:$F)","v":0},null,0,0,{"$f":"SUMIF(Feuil1!$B:$B,Consolidation!$B21,Feuil1!$H:$H)","v":0},null,{"$f":"SUMIF(Feuil2!$B:$B,Consolidation!$B21,Feuil2!$H:$H)","v":0},null,{"$f":"SUMIF(Feuil3!$B:$B,Consolidation!$B21,Feuil3!$H:$H)","v":0},null,{"$f":"SUMIF(Feuil4!$B:$B,Consolidation!$B21,Feuil4!$H:$H)","v":0},null,{"$f":"SUMIF(Feuil5!$B:$B,Consolidation!$B21,Feuil5!$H:$H)","v":0},null,0,0,0]
["InsererLigne",3120,"Remplaçant(e)s                                                  ",{"$f":"SUMIF(Feuil1!$B:$B,Consolidation!$B22,Feuil1!$D:$D)","v":0},null,{"$f":"SUMIF(Feuil2!$B:$B,Consolidation!$B22,Feuil2!$D:$D)","v":0},null,{"$f":"SUMIF(Feuil3!$B:$B,Consolidation!$B22,Feuil3!$D:$D)","v":0},null,{"$f":"SUMIF(Feuil4!$B:$B,Consolidation!$B22,Feuil4!$D:$D)","v":0},null,{"$f":"SUMIF(Feuil5!$B:$B,Consolidation!$B22,Feuil5!$D:$D)","v":0},null,0,0,{"$f":"SUMIF(Feuil1!$B:$B,Consolidation!$B22,Feuil1!$F:$F)","v":0},null,{"$f":"SUMIF(Feuil2!$B:$B,Consolidation!$B22,Feuil2!$F:$F)","v":0},null,{"$f":"SUMIF(Feuil3!$B:$B,Consolidation!$B22,Feuil3!$F:$F)","v":0},null,{"$f":"SUMIF(Feuil4!$B:$B,Consolidation!$B22,Feuil4!$F:$F)","v":0},null,{"$f":"SUMIF(Feuil5!$B:$B,Consolidation!$B22,Feuil5!$F:$F)","v":0},null,0,0,{"$f":"SUMIF(Feuil1!$B:$B,Consolidation!$B22,Feuil1!$H:$H)","v":0},null,{"$f":"SUMIF(Feuil2!$B:$B,Consolidation!$B22,Feuil2!$H:$H)","v":0},null,{"$f":"SUMIF(Feuil3!$B:$B,Consolidation!$B22,Feuil3!$H:$H)","v":0},null,{"$f":"SUMIF(Feuil4!$B:$B,Consolidation!$B22,Feuil4!$H:$H)","v":0},null,{"$f":"SUMIF(Feuil5!$B:$B,Consolidation!$B22,Feuil5!$H:$H)","v":0},null,0,0,0]
["InsererLigne",3121,"Remplaçant(e)s accident",{"$f":"SUMIF(Feuil1!$B:$B,Consolidation!$B23,Feuil1!$D:$D)","v":0},null,{"$f":"SUMIF(Feuil2!$B:$B,Consolidation!$B23,Feuil2!$D:$D)","v":0},null,{"$f":"SUMIF(Feuil3!$B:$B,Consolidation!$B23,Feuil3!$D:$D)","v":0},null,{"$f":"SUMIF(Feuil4!$B:$B,Consolidation!$B23,Feuil4!$D:$D)","v":0},null,{"$f":"SUMIF(Feuil5!$B:$B,Consolidation!$B23,Feuil5!$D:$D)","v":0},null,null,null,{"$f":"SUMIF(Feuil1!$B:$B,Consolidation!$B23,Feuil1!$F:$F)","v":0},null,{"$f":"SUMIF(Feuil2!$B:$B,Consolidation!$B23,Feuil2!$F:$F)","v":0},null,{"$f":"SUMIF(Feuil3!$B:$B,Consolidation!$B23,Feuil3!$F:$F)","v":0},null,{"$f":"SUMIF(Feuil4!$B:$B,Consolidation!$B23,Feuil4!$F:$F)","v":0},null,{"$f":"SUMIF(Feuil5!$B:$B,Consolidation!$B23,Feuil5!$F:$F)","v":0},null,null,null,{"$f":"SUMIF(Feuil1!$B:$B,Consolidation!$B23,Feuil1!$H:$H)","v":0},null,{"$f":"SUMIF(Feuil2!$B:$B,Consolidation!$B23,Feuil2!$H:$H)","v":0},null,{"$f":"SUMIF(Feuil3!$B:$B,Consolidation!$B23,Feuil3!$H:$H)","v":0},null,{"$f":"SUMIF(Feuil4!$B:$B,Consolidation!$B23,Feuil4!$H:$H)","v":0},null,{"$f":"SUMIF(Feuil5!$B:$B,Consolidation!$B23,Feuil5!$H:$H)","v":0},null,null,null,0]
["InsererLigne",3122,"Remplaçant(e)s maladie Educ.En",{"$f":"SUMIF(Feuil1!$B:$B,Consolidation!$B24,Feuil1!$D:$D)","v":0},null,{"$f":"SUMIF(Feuil2!$B:$B,Consolidation!$B24,Feuil2!$D:$D)","v":0},null,{"$f":"SUMIF(Feuil3!$B:$B,Consolidation!$B24,Feuil3!$D:$D)","v":0},null,{"$f":"SUMIF(Feuil4!$B:$B,Consolidation!$B24,Feuil4!$D:$D)","v":0},null,{"$f":"SUMIF(Feuil5!$B:$B,Consolidation!$B24,Feuil5!$D:$D)","v":0},null,null,null,{"$f":"SUMIF(Feuil1!$B:$B,Consolidation!$B24,Feuil1!$F:$F)","v":0},null,{"$f":"SUMIF(Feuil2!$B:$B,Consolidation!$B24,Feuil2!$F:$F)","v":0},null,{"$f":"SUMIF(Feuil3!$B:$B,Consolidation!$B24,Feuil3!$F:$F)","v":0},null,{"$f":"SUMIF(Feuil4!$B:$B,Consolidation!$B24,Feuil4!$F:$F)","v":0},null,{"$f":"SUMIF(Feuil5!$B:$B,Consolidation!$B24,Feuil5!$F:$F)","v":0},null,null,null,{"$f":"SUMIF(Feuil1!$B:$B,Consolidation!$B24,Feuil1!$H:$H)","v":0},null,{"$f":"SUMIF(Feuil2!$B:$B,Consolidation!$B24,Feuil2!$H:$H)","v":0},null,{"$f":"SUMIF(Feuil3!$B:$B,Consolidation!$B24,Feuil3!$H:$H)","v":0},null,{"$f":"SUMIF(Feuil4!$B:$B,Consolidation!$B24,Feuil4!$H:$H)","v":0},null,{"$f":"SUMIF(Feuil5!$B:$B,Consolidation!$B24,Feuil5!$H:$H)","v":0},null,null,null,0]
["InsererLigne",3123,"Fonds caisse de remplacements",{"$f":"SUMIF(Feuil1!$B:$B,Consolidation!$B25,Feuil1!$D:$D)","v":0},null,{"$f":"SUMIF(Feuil2!$B:$B,Consolidation!$B25,Feuil2!$D:$D)","v":0},null,{"$f":"SUMIF(Feuil3!$B:$B,Consolidation!$B25,Feuil3!$D:$D)","v":0},null,{"$f":"SUMIF(Feuil4!$B:$B,Consolidation!$B25,Feuil4!$D:$D)","v":0},null,{"$f":"SUMIF(Feuil5!$B:$B,Consolidation!$B25,Feuil5!$D:$D)","v":0},null,null,null,{"$f":"SUMIF(Feuil1!$B:$B,Consolidation!$B25,Feuil1!$F:$F)","v":0},null,{"$f":"SUMIF(Feuil2!$B:$B,Consolidation!$B25,Feuil2!$F:$F)","v":0},null,{"$f":"SUMIF(Feuil3!$B:$B,Consolidation!$B25,Feuil3!$F:$F)","v":0},null,{"$f":"SUMIF(Feuil4!$B:$B,Consolidation!$B25,Feuil4!$F:$F)","v":0},null,{"$f":"SUMIF(Feuil5!$B:$B,Consolidation!$B25,Feuil5!$F:$F)","v":0},null,null,null,{"$f":"SUMIF(Feuil1!$B:$B,Consolidation!$B25,Feuil1!$H:$H)","v":0},null,{"$f":"SUMIF(Feuil2!$B:$B,Consolidation!$B25,Feuil2!$H:$H)","v":0},null,{"$f":"SUMIF(Feuil3!$B:$B,Consolidation!$B25,Feuil3!$H:$H)","v":0},null,{"$f":"SUMIF(Feuil4!$B:$B,Consolidation!$B25,Feuil4!$H:$H)","v":0},null,{"$f":"SUMIF(Feuil5!$B:$B,Consolidation!$B25,Feuil5!$H:$H)","v":0},null,null,null,0]
["InsererLigne",3130,"Stagiaires et apprentis                                                  ",{"$f":"SUMIF(Feuil1!$B:$B,Consolidation!$B26,Feuil1!$D:$D)","v":0},null,{"$f":"SUMIF(Feuil2!$B:$B,Consolidation!$B26,Feuil2!$D:$D)","v":0},null,{"$f":"SUMIF(Feuil3!$B:$B,Consolidation!$B26,Feuil3!$D:$D)","v":0},null,{"$f":"SUMIF(Feuil4!$B:$B,Consolidation!$B26,Feuil4!$D:$D)","v":0},null,{"$f":"SUMIF(Feuil5!$B:$B,Consolidation!$B26,Feuil5!$D:$D)","v":0},null,0,0,{"$f":"SUMIF(Feuil1!$B:$B,Consolidation!$B26,Feuil1!$F:$F)","v":0},null,{"$f":"SUMIF(Feuil2!$B:$B,Consolidation!$B26,Feuil2!$F:$F)","v":0},null,{"$f":"SUMIF(Feuil3!$B:$B,Consolidation!$B26,Feuil3!$F:$F)","v":0},null,{"$f":"SUMIF(Feuil4!$B:$B,Consolidation!$B26,Feuil4!$F:$F)","v":0},null,{"$f":"SUMIF(Feuil5!$B:$B,Consolidation!$B26,Feuil5!$F:$F)","v":0},null,{"$f":"P26+R26+T26+V26+X26","v":0},{"$f":"Q26+S26+U26+W26+Y26","v":0},{"$f":"SUMIF(Feuil1!$B:$B,Consolidation!$B26,Feuil1!$H:$H)","v":0},null,{"$f":"SUMIF(Feuil2!$B:$B,Consolidation!$B26,Feuil2!$H:$H)","v":0},null,{"$f":"SUMIF(Feuil3!$B:$B,Consolidation!$B26,Feuil3!$H:$H)","v":0},null,{"$f":"SUMIF(Feuil4!$B:$B,Consolidation!$B26,Feuil4!$H:$H)","v":0},null,{"$f":"SUMIF(Feuil5!$B:$B,Consolidation!$B26,Feuil5!$H:$H)","v":0},null,{"$f":"AB26+AD26+AF26+AH26+AJ26","v":0},{"$f":"AC26+AE26+AG26+AI26+AK26","v":0},0]
["InsererLigne",3140,"Médecins",{"$f":"SUMIF(Feuil1!$B:$B,Consolidation!$B27,Feuil1!$D:$D)","v":0},null,{"$f":"SUMIF(Feuil2!$B:$B,Consolidation!$B27,Feuil2!$D:$D)","v":0},null,{"$f":"SUMIF(Feuil3!$B:$B,Consolidation!$B27,Feuil3!$D:$D)","v":0},null,{"$f":"SUMIF(Feuil4!$B:$B,Consolidation!$B27,Feuil4!$D:$D)","v":0},null,{"$f":"SUMIF(Feuil5!$B:$B,Consolidation!$B27,Feuil5!$D:$D)","v":0},null,0,0,{"$f":"SUMIF(Feuil1!$B:$B,Consolidation!$B27,Feuil1!$F:$F)","v":0},null,{"$f":"SUMIF(Feuil2!$B:$B,Consolidation!$B27,Feuil2!$F:$F)","v":0},null,{"$f":"SUMIF(Feuil3!$B:$B,Consolidation!$B27,Feuil3!$F:$F)","v":0},null,{"$f":"SUMIF(Feuil4!$B:$B,Consolidation!$B27,Feuil4!$F:$F)","v":0},null,{"$f":"SUMIF(Feuil5!$B:$B,Consolidation!$B27,Feuil5!$F:$F)","v":0},null,0,0,{"$f":"SUMIF(Feuil1!$B:$B,Consolidation!$B27,Feuil1!$H:$H)","v":0},null,{"$f":"SUMIF(Feuil2!$B:$B,Consolidation!$B27,Feuil2!$H:$H)","v":0},null,{"$f":"SUMIF(Feuil3!$B:$B,Consolidation!$B27,Feuil3!$H:$H)","v":0},null,{"$f":"SUMIF(Feuil4!$B:$B,Consolidation!$B27,Feuil4!$H:$H)","v":0},null,{"$f":"SUMIF(Feuil5!$B:$B,Consolidation!$B27,Feuil5!$H:$H)","v":0},null,0,0,0]
["InsererLigne",3150,"Personnel soignant",{"$f":"SUMIF(Feuil1!$B:$B,Consolidation!$B28,Feuil1!$D:$D)","v":0},null,{"$f":"SUMIF(Feuil2!$B:$B,Consolidation!$B28,Feuil2!$D:$D)","v":0},null,{"$f":"SUMIF(Feuil3!$B:$B,Consolidation!$B28,Feuil3!$D:$D)","v":0},null,{"$f":"SUMIF(Feuil4!$B:$B,Consolidation!$B28,Feuil4!$D:$D)","v":0},null,{"$f":"SUMIF(Feuil5!$B:$B,Consolidation!$B28,Feuil5!$D:$D)","v":0},null,0,0,{"$f":"SUMIF(Feuil1!$B:$B,Consolidation!$B28,Feuil1!$F:$F)","v":0},null,{"$f":"SUMIF(Feuil2!$B:$B,Consolidation!$B28,Feuil2!$F:$F)","v":0},null,{"$f":"SUMIF(Feuil3!$B:$B,Consolidation!$B28,Feuil3!$F:$F)","v":0},null,{"$f":"SUMIF(Feuil4!$B:$B,Consolidation!$B28,Feuil4!$F:$F)","v":0},null,{"$f":"SUMIF(Feuil5!$B:$B,Consolidation!$B28,Feuil5!$F:$F)","v":0},null,0,0,{"$f":"SUMIF(Feuil1!$B:$B,Consolidation!$B28,Feuil1!$H:$H)","v":0},null,{"$f":"SUMIF(Feuil2!$B:$B,Consolidation!$B28,Feuil2!$H:$H)","v":0},null,{"$f":"SUMIF(Feuil3!$B:$B,Consolidation!$B28,Feuil3!$H:$H)","v":0},null,{"$f":"SUMIF(Feuil4!$B:$B,Consolidation!$B28,Feuil4!$H:$H)","v":0},null,{"$f":"SUMIF(Feuil5!$B:$B,Consolidation!$B28,Feuil5!$H:$H)","v":0},null,0,0,0]
["InsererLigne",3190,"Récupération LAA",{"$f":"SUMIF(Feuil1!$B:$B,Consolidation!$B29,Feuil1!$D:$D)","v":0},null,{"$f":"SUMIF(Feuil2!$B:$B,Consolidation!$B29,Feuil2!$D:$D)","v":0},null,{"$f":"SUMIF(Feuil3!$B:$B,Consolidation!$B29,Feuil3!$D:$D)","v":0},null,{"$f":"SUMIF(Feuil4!$B:$B,Consolidation!$B29,Feuil4!$D:$D)","v":0},null,{"$f":"SUMIF(Feuil5!$B:$B,Consolidation!$B29,Feuil5!$D:$D)","v":0},null,0,0,{"$f":"SUMIF(Feuil1!$B:$B,Consolidation!$B29,Feuil1!$F:$F)","v":0},null,{"$f":"SUMIF(Feuil2!$B:$B,Consolidation!$B29,Feuil2!$F:$F)","v":0},null,{"$f":"SUMIF(Feuil3!$B:$B,Consolidation!$B29,Feuil3!$F:$F)","v":0},null,{"$f":"SUMIF(Feuil4!$B:$B,Consolidation!$B29,Feuil4!$F:$F)","v":0},null,{"$f":"SUMIF(Feuil5!$B:$B,Consolidation!$B29,Feuil5!$F:$F)","v":0},null,0,0,{"$f":"SUMIF(Feuil1!$B:$B,Consolidation!$B29,Feuil1!$H:$H)","v":0},null,{"$f":"SUMIF(Feuil2!$B:$B,Consolidation!$B29,Feuil2!$H:$H)","v":0},null,{"$f":"SUMIF(Feuil3!$B:$B,Consolidation!$B29,Feuil3!$H:$H)","v":0},null,{"$f":"SUMIF(Feuil4!$B:$B,Consolidation!$B29,Feuil4!$H:$H)","v":0},null,{"$f":"SUMIF(Feuil5!$B:$B,Consolidation!$B29,Feuil5!$H:$H)","v":0},null,0,0,0]
["InsererLigne",3191,"Récupération APG",{"$f":"SUMIF(Feuil1!$B:$B,Consolidation!$B30,Feuil1!$D:$D)","v":0},null,{"$f":"SUMIF(Feuil2!$B:$B,Consolidation!$B30,Feuil2!$D:$D)","v":0},null,{"$f":"SUMIF(Feuil3!$B:$B,Consolidation!$B30,Feuil3!$D:$D)","v":0},null,{"$f":"SUMIF(Feuil4!$B:$B,Consolidation!$B30,Feuil4!$D:$D)","v":0},null,{"$f":"SUMIF(Feuil5!$B:$B,Consolidation!$B30,Feuil5!$D:$D)","v":0},null,0,0,{"$f":"SUMIF(Feuil1!$B:$B,Consolidation!$B30,Feuil1!$F:$F)","v":0},null,{"$f":"SUMIF(Feuil2!$B:$B,Consolidation!$B30,Feuil2!$F:$F)","v":0},null,{"$f":"SUMIF(Feuil3!$B:$B,Consolidation!$B30,Feuil3!$F:$F)","v":0},null,{"$f":"SUMIF(Feuil4!$B:$B,Consolidation!$B30,Feuil4!$F:$F)","v":0},null,{"$f":"SUMIF(Feuil5!$B:$B,Consolidation!$B30,Feuil5!$F:$F)","v":0},null,0,0,{"$f":"SUMIF(Feuil1!$B:$B,Consolidation!$B30,Feuil1!$H:$H)","v":0},null,{"$f":"SUMIF(Feuil2!$B:$B,Consolidation!$B30,Feuil2!$H:$H)","v":0},null,{"$f":"SUMIF(Feuil3!$B:$B,Consolidation!$B30,Feuil3!$H:$H)","v":0},null,{"$f":"SUMIF(Feuil4!$B:$B,Consolidation!$B30,Feuil4!$H:$H)","v":0},null,{"$f":"SUMIF(Feuil5!$B:$B,Consolidation!$B30,Feuil5!$H:$H)","v":0},null,0,0,0]
["InsererLigne",3192,"Récupération diverses",{"$f":"SUMIF(Feuil1!$B:$B,Consolidation!$B31,Feuil1!$D:$D)","v":0},null,{"$f":"SUMIF(Feuil2!$B:$B,Consolidation!$B31,Feuil2!$D:$D)","v":0},null,{"$f":"SUMIF(Feuil3!$B:$B,Consolidation!$B31,Feuil3!$D:$D)","v":0},null,{"$f":"SUMIF(Feuil4!$B:$B,Consolidation!$B31,Feuil4!$D:$D)","v":0},null,{"$f":"SUMIF(Feuil5!$B:$B,Consolidation!$B31,Feuil5!$D:$D)","v":0},null,0,0,{"$f":"SUMIF(Feuil1!$B:$B,Consolidation!$B31,Feuil1!$F:$F)","v":0},null,{"$f":"SUMIF(Feuil2!$B:$B,Consolidation!$B31,Feuil2!$F:$F)","v":0},null,{"$f":"SUMIF(Feuil3!$B:$B,Consolidation!$B31,Feuil3!$F:$F)","v":0},null,{"$f":"SUMIF(Feuil4!$B:$B,Consolidation!$B31,Feuil4!$F:$F)","v":0},null,{"$f":"SUMIF(Feuil5!$B:$B,Consolidation!$B31,Feuil5!$F:$F)","v":0},null,0,0,{"$f":"SUMIF(Feuil1!$B:$B,Consolidation!$B31,Feuil1!$H:$H)","v":0},null,{"$f":"SUMIF(Feuil2!$B:$B,Consolidation!$B31,Feuil2!$H:$H)","v":0},null,{"$f":"SUMIF(Feuil3!$B:$B,Consolidation!$B31,Feuil3!$H:$H)","v":0},null,{"$f":"SUMIF(Feuil4!$B:$B,Consolidation!$B31,Feuil4!$H:$H)","v":0},null,{"$f":"SUMIF(Feuil5!$B:$B,Consolidation!$B31,Feuil5!$H:$H)","v":0},null,0,0,0]
["InsererLigne",null,null,null,null,null,null,null,null,null,null,null,null,null,null,null,null,null,null,null,null,null,null,null,null,null,null,null,null,null,null,null,null,null,null,null,null,null,null,0]
[null,32,"Salaires thérapie",{"$f":"SUBTOTAL(9,D34:D46)","v":0},{"$f":"IF($E$5>0,D33/$E$5,0)","v":0},{"$f":"SUBTOTAL(9,F34:F46)","v":0},{"$f":"IF($G$5>0,F33/$G$5,0)","v":0},{"$f":"SUBTOTAL(9,H34:H46)","v":0},{"$f":"IF($I$5>0,H33/$I$5,0)","v":0},{"$f":"SUBTOTAL(9,J34:J46)","v":0},{"$f":"IF($K$5>0,J33/$K$5,0)","v":0},{"$f":"SUBTOTAL(9,L34:L46)","v":0},{"$f":"IF($M$5>0,L33/$M$5,0)","v":0},{"$f":"D33+F33+H33+J33+L33","v":0},{"$f":"E33+G33+I33+K33+M33","v":0},{"$f":"SUBTOTAL(9,P34:P46)","v":0},{"$f":"IF($Q$5>0,P33/$Q$5,0)","v":0},{"$f":"SUBTOTAL(9,R34:R46)","v":0},{"$f":"IF($S$5>0,R33/$S$5,0)","v":0},{"$f":"SUBTOTAL(9,T34:T46)","v":0},{"$f":"IF($U$5>0,T33/$U$5,0)","v":0},{"$f":"SUBTOTAL(9,V34:V46)","v":0},{"$f":"IF($W$5>0,V33/$W$5,0)","v":0},{"$f":"SUBTOTAL(9,X34:X46)","v":0},{"$f":"IF($Y$5>0,X33/$Y$5,0)","v":0},{"$f":"P33+R33+T33+V33+X33","v":0},{"$f":"Q33+S33+U33+W33+Y33","v":0},{"$f":"SUBTOTAL(9,AB34:AB46)","v":0},{"$f":"IF($AC$5>0,AB33/$AC$5,0)","v":0},{"$f":"SUBTOTAL(9,AD34:AD46)","v":0},{"$f":"IF($AE$5>0,AD33/$AE$5,0)","v":0},{"$f":"SUBTOTAL(9,AF34:AF46)","v":0},{"$f":"IF($AG$5>0,AF33/$AG$5,0)","v":0},{"$f":"SUBTOTAL(9,AH34:AH46)","v":0},{"$f":"IF($AI$5>0,AH33/$AI$5,0)","v":0},{"$f":"SUBTOTAL(9,AJ34:AJ46)","v":0},{"$f":"IF($AK$5>0,AJ33/$AK$5,0)","v":0},{"$f":"AB33+AD33+AF33+AH33+AJ33","v":0},{"$f":"AC33+AE33+AG33+AI33+AK33","v":0},0]
[null,3200,"Physiothérapeutes",{"$f":"SUMIF(Feuil1!$B:$B,Consolidation!$B34,Feuil1!$D:$D)","v":0},null,{"$f":"SUMIF(Feuil2!$B:$B,Consolidation!$B34,Feuil2!$D:$D)","v":0},null,{"$f":"SUMIF(Feuil3!$B:$B,Consolidation!$B34,Feuil3!$D:$D)","v":0},null,{"$f":"SUMIF(Feuil4!$B:$B,Consolidation!$B34,Feuil4!$D:$D)","v":0},null,{"$f":"SUMIF(Feuil5!$B:$B,Consolidation!$B34,Feuil5!$D:$D)","v":0},null,{"$f":"D34+F34+H34+J34+L34","v":0},{"$f":"E34+G34+I34+K34+M34","v":0},{"$f":"SUMIF(Feuil1!$B:$B,Consolidation!$B34,Feuil1!$F:$F)","v":0},null,{"$f":"SUMIF(Feuil2!$B:$B,Consolidation!$B34,Feuil2!$F:$F)","v":0},null,{"$f":"SUMIF(Feuil3!$B:$B,Consolidation!$B34,Feuil3!$F:$F)","v":0},null,{"$f":"SUMIF(Feuil4!$B:$B,Consolidation!$B34,Feuil4!$F:$F)","v":0},null,{"$f":"SUMIF(Feuil5!$B:$B,Consolidation!$B34,Feuil5!$F:$F)","v":0},null,{"$f":"P34+R34+T34+V34+X34","v":0},{"$f":"Q34+S34+U34+W34+Y34","v":0},{"$f":"SUMIF(Feuil1!$B:$B,Consolidation!$B34,Feuil1!$H:$H)","v":0},null,{"$f":"SUMIF(Feuil2!$B:$B,Consolidation!$B34,Feuil2!$H:$H)","v":0},null,{"$f":"SUMIF(Feuil3!$B:$B,Consolidation!$B34,Feuil3!$H:$H)","v":0},null,{"$f":"SUMIF(Feuil4!$B:$B,Consolidation!$B34,Feuil4!$H:$H)","v":0},null,{"$f":"SUMIF(Feuil5!$B:$B,Consolidation!$B34,Feuil5!$H:$H)","v":0},null,{"$f":"AB34+AD34+AF34+AH34+AJ34","v":0},{"$f":"AC34+AE34+AG34+AI34+AK34","v":0},0]
["InsererLigne",3201,"Ergothérapeutes",{"$f":"SUMIF(Feuil1!$B:$B,Consolidation!$B35,Feuil1!$D:$D)","v":0},null,{"$f":"SUMIF(Feuil2!$B:$B,Consolidation!$B35,Feuil2!$D:$D)","v":0},null,{"$f":"SUMIF(Feuil3!$B:$B,Consolidation!$B35,Feuil3!$D:$D)","v":0},null,{"$f":"SUMIF(Feuil4!$B:$B,Consolidation!$B35,Feuil4!$D:$D)","v":0},null,{"$f":"SUMIF(Feuil5!$B:$B,Consolidation!$B35,Feuil5!$D:$D)","v":0},null,0,0,{"$f":"SUMIF(Feuil1!$B:$B,Consolidation!$B35,Feuil1!$F:$F)","v":0},null,{"$f":"SUMIF(Feuil2!$B:$B,Consolidation!$B35,Feuil2!$F:$F)","v":0},null,{"$f":"SUMIF(Feuil3!$B:$B,Consolidation!$B35,Feuil3!$F:$F)","v":0},null,{"$f":"SUMIF(Feuil4!$B:$B,Consolidation!$B35,Feuil4!$F:$F)","v":0},null,{"$f":"SUMIF(Feuil5!$B:$B,Consolidation!$B35,Feuil5!$F:$F)","v":0},null,0,0,{"$f":"SUMIF(Feuil1!$B:$B,Consolidation!$B35,Feuil1!$H:$H)","v":0},null,{"$f":"SUMIF(Feuil2!$B:$B,Consolidation!$B35,Feuil2!$H:$H)","v":0},null,{"$f":"SUMIF(Feuil3!$B:$B,Consolidation!$B35,Feuil3!$H:$H)","v":0},null,{"$f":"SUMIF(Feuil4!$B:$B,Consolidation!$B35,Feuil4!$H:$H)","v":0},null,{"$f":"SUMIF(Feuil5!$B:$B,Consolidation!$B35,Feuil5!$H:$H)","v":0},null,0,0,0]
["InsererLigne",3202,"Animation",{"$f":"SUMIF(Feuil1!$B:$B,Consolidation!$B36,Feuil1!$D:$D)","v":0},null,{"$f":"SUMIF(Feuil2!$B:$B,Consolidation!$B36,Feuil2!$D:$D)","v":0},null,{"$f":"SUMIF(Feuil3!$B:$B,Consolidation!$B36,Feuil3!$D:$D)","v":0},null,{"$f":"SUMIF(Feuil4!$B:$B,Consolidation!$B36,Feuil4!$D:$D)","v":0},null,{"$f":"SUMIF(Feuil5!$B:$B,Consolidation!$B36,Feuil5!$D:$D)","v":0},null,0,0,{"$f":"SUMIF(Feuil1!$B:$B,Consolidation!$B36,Feuil1!$F:$F)","v":0},null,{"$f":"SUMIF(Feuil2!$B:$B,Consolidation!$B36,Feuil2!$F:$F)","v":0},null,{"$f":"SUMIF(Feuil3!$B:$B,Consolidation!$B36,Feuil3!$F:$F)","v":0},null,{"$f":"SUMIF(Feuil4!$B:$B,Consolidation!$B36,Feuil4!$F:$F)","v":0},null,{"$f":"SUMIF(Feuil5!$B:$B,Consolidation!$B36,Feuil5!$F:$F)","v":0},null,0,0,{"$f":"SUMIF(Feuil1!$B:$B,Consolidation!$B36,Feuil1!$H:$H)","v":0},null,{"$f":"SUMIF(Feuil2!$B:$B,Consolidation!$B36,Feuil2!$H:$H)","v":0},null,{"$f":"SUMIF(Feuil3!$B:$B,Consolidation!$B36,Feuil3!$H:$H)","v":0},null,{"$f":"SUMIF(Feuil4!$B:$B,Consolidation!$B36,Feuil4!$H:$H)","v":0},null,{"$f":"SUMIF(Feuil5!$B:$B,Consolidation!$B36,Feuil5!$H:$H)","v":0},null,0,0,0]
["InsererLigne",3210,"Orthophonistes",{"$f":"SUMIF(Feuil1!$B:$B,Consolidation!$B37,Feuil1!$D:$D)","v":0},null,{"$f":"SUMIF(Feuil2!$B:$B,Consolidation!$B37,Feuil2!$D:$D)","v":0},null,{"$f":"SUMIF(Feuil3!$B:$B,Consolidation!$B37,Feuil3!$D:$D)","v":0},null,{"$f":"SUMIF(Feuil4!$B:$B,Consolidation!$B37,Feuil4!$D:$D)","v":0},null,{"$f":"SUMIF(Feuil5!$B:$B,Consolidation!$B37,Feuil5!$D:$D)","v":0},null,0,0,{"$f":"SUMIF(Feuil1!$B:$B,Consolidation!$B37,Feuil1!$F:$F)","v":0},null,{"$f":"SUMIF(Feuil2!$B:$B,Consolidation!$B37,Feuil2!$F:$F)","v":0},null,{"$f":"SUMIF(Feuil3!$B:$B,Consolidation!$B37,Feuil3!$F:$F)","v":0},null,{"$f":"SUMIF(Feuil4!$B:$B,Consolidation!$B37,Feuil4!$F:$F)","v":0},null,{"$f":"SUMIF(Feuil5!$B:$B,Consolidation!$B37,Feuil5!$F:$F)","v":0},null,0,0,{"$f":"SUMIF(Feuil1!$B:$B,Consolidation!$B37,Feuil1!$H:$H)","v":0},null,{"$f":"SUMIF(Feuil2!$B:$B,Consolidation!$B37,Feuil2!$H:$H)","v":0},null,{"$f":"SUMIF(Feuil3!$B:$B,Consolidation!$B37,Feuil3!$H:$H)","v":0},null,{"$f":"SUMIF(Feuil4!$B:$B,Consolidation!$B37,Feuil4!$H:$H)","v":0},null,{"$f":"SUMIF(Feuil5!$B:$B,Consolidation!$B37,Feuil5!$H:$H)","v":0},null,0,0,0]
["InsererLigne",3220,"Remplaçant(e)s                                                  ",{"$f":"SUMIF(Feuil1!$B:$B,Consolidation!$B38,Feuil1!$D:$D)","v":0},null,{"$f":"SUMIF(Feuil2!$B:$B,Consolidation!$B38,Feuil2!$D:$D)","v":0},null,{"$f":"SUMIF(Feuil3!$B:$B,Consolidation!$B38,Feuil3!$D:$D)","v":0},null,{"$f":"SUMIF(Feuil4!$B:$B,Consolidation!$B38,Feuil4!$D:$D)","v":0},null,{"$f":"SUMIF(Feuil5!$B:$B,Consolidation!$B38,Feuil5!$D:$D)","v":0},null,0,0,{"$f":"SUMIF(Feuil1!$B:$B,Consolidation!$B38,Feuil1!$F:$F)","v":0},null,{"$f":"SUMIF(Feuil2!$B:$B,Consolidation!$B38,Feuil2!$F:$F)","v":0},null,{"$f":"SUMIF(Feuil3!$B:$B,Consolidation!$B38,Feuil3!$F:$F)","v":0},null,{"$f":"SUMIF(Feuil4!$B:$B,Consolidation!$B38,Feuil4!$F:$F)","v":0},null,{"$f":"SUMIF(Feuil5!$B:$B,Consolidation!$B38,Feuil5!$F:$F)","v":0},null,0,0,{"$f":"SUMIF(Feuil1!$B:$B,Consolidation!$B38,Feuil1!$H:$H)","v":0},null,{"$f":"SUMIF(Feuil2!$B:$B,Consolidation!$B38,Feuil2!$H:$H)","v":0},null,{"$f":"SUMIF(Feuil3!$B:$B,Consolidation!$B38,Feuil3!$H:$H)","v":0},null,{"$f":"SUMIF(Feuil4!$B:$B,Consolidation!$B38,Feuil4!$H:$H)","v":0},null,{"$f":"SUMIF(Feuil5!$B:$B,Consolidation!$B38,Feuil5!$H:$H)","v":0},null,0,0,0]
["InsererLigne",3230,"Stagiaires et apprentis                                                  ",{"$f":"SUMIF(Feuil1!$B:$B,Consolidation!$B39,Feuil1!$D:$D)","v":0},null,{"$f":"SUMIF(Feuil2!$B:$B,Consolidation!$B39,Feuil2!$D:$D)","v":0},null,{"$f":"SUMIF(Feuil3!$B:$B,Consolidation!$B39,Feuil3!$D:$D)","v":0},null,{"$f":"SUMIF(Feuil4!$B:$B,Consolidation!$B39,Feuil4!$D:$D)","v":0},null,{"$f":"SUMIF(Feuil5!$B:$B,Consolidation!$B39,Feuil5!$D:$D)","v":0},null,0,0,{"$f":"SUMIF(Feuil1!$B:$B,Consolidation!$B39,Feuil1!$F:$F)","v":0},null,{"$f":"SUMIF(Feuil2!$B:$B,Consolidation!$B39,Feuil2!$F:$F)","v":0},null,{"$f":"SUMIF(Feuil3!$B:$B,Consolidation!$B39,Feuil3!$F:$F)","v":0},null,{"$f":"SUMIF(Feuil4!$B:$B,Consolidation!$B39,Feuil4!$F:$F)","v":0},null,{"$f":"SUMIF(Feuil5!$B:$B,Consolidation!$B39,Feuil5!$F:$F)","v":0},null,0,0,{"$f":"SUMIF(Feuil1!$B:$B,Consolidation!$B39,Feuil1!$H:$H)","v":0},null,{"$f":"SUMIF(Feuil2!$B:$B,Consolidation!$B39,Feuil2!$H:$H)","v":0},null,{"$f":"SUMIF(Feuil3!$B:$B,Consolidation!$B39,Feuil3!$H:$H)","v":0},null,{"$f":"SUMIF(Feuil4!$B:$B,Consolidation!$B39,Feuil4!$H:$H)","v":0},null,{"$f":"SUMIF(Feuil5!$B:$B,Consolidation!$B39,Feuil5!$H:$H)","v":0},null,0,0,0]
["InsererLigne",3240,"Aumônier",{"$f":"SUMIF(Feuil1!$B:$B,Consolidation!$B40,Feuil1!$D:$D)","v":0},null,{"$f":"SUMIF(Feuil2!$B:$B,Consolidation!$B40,Feuil2!$D:$D)","v":0},null,{"$f":"SUMIF(Feuil3!$B:$B,Consolidation!$B40,Feuil3!$D:$D)","v":0},null,{"$f":"SUMIF(Feuil4!$B:$B,Consolidation!$B40,Feuil4!$D:$D)","v":0},null,{"$f":"SUMIF(Feuil5!$B:$B,Consolidation!$B40,Feuil5!$D:$D)","v":0},null,0,0,{"$f":"SUMIF(Feuil1!$B:$B,Consolidation!$B40,Feuil1!$F:$F)","v":0},null,{"$f":"SUMIF(Feuil2!$B:$B,Consolidation!$B40,Feuil2!$F:$F)","v":0},null,{"$f":"SUMIF(Feuil3!$B:$B,Consolidation!$B40,Feuil3!$F:$F)","v":0},null,{"$f":"SUMIF(Feuil4!$B:$B,Consolidation!$B40,Feuil4!$F:$F)","v":0},null,{"$f":"SUMIF(Feuil5!$B:$B,Consolidation!$B40,Feuil5!$F:$F)","v":0},null,0,0,{"$f":"SUMIF(Feuil1!$B:$B,Consolidation!$B40,Feuil1!$H:$H)","v":0},null,{"$f":"SUMIF(Feuil2!$B:$B,Consolidation!$B40,Feuil2!$H:$H)","v":0},null,{"$f":"SUMIF(Feuil3!$B:$B,Consolidation!$B40,Feuil3!$H:$H)","v":0},null,{"$f":"SUMIF(Feuil4!$B:$B,Consolidation!$B40,Feuil4!$H:$H)","v":0},null,{"$f":"SUMIF(Feuil5!$B:$B,Consolidation!$B40,Feuil5!$H:$H)","v":0},null,0,0,0]
["InsererLigne",3250,"Veilles, piquets et gardes                                                  ",{"$f":"SUMIF(Feuil1!$B:$B,Consolidation!$B41,Feuil1!$D:$D)","v":0},null,{"$f":"SUMIF(Feuil2!$B:$B,Consolidation!$B41,Feuil2!$D:$D)","v":0},null,{"$f":"SUMIF(Feuil3!$B:$B,Consolidation!$B41,Feuil3!$D:$D)","v":0},null,{"$f":"SUMIF(Feuil4!$B:$B,Consolidation!$B41,Feuil4!$D:$D)","v":0},null,{"$f":"SUMIF(Feuil5!$B:$B,Consolidation!$B41,Feuil5!$D:$D)","v":0},null,null,null,{"$f":"SUMIF(Feuil1!$B:$B,Consolidation!$B41,Feuil1!$F:$F)","v":0},null,{"$f":"SUMIF(Feuil2!$B:$B,Consolidation!$B41,Feuil2!$F:$F)","v":0},null,{"$f":"SUMIF(Feuil3!$B:$B,Consolidation!$B41,Feuil3!$F:$F)","v":0},null,{"$f":"SUMIF(Feuil4!$B:$B,Consolidation!$B41,Feuil4!$F:$F)","v":0},null,{"$f":"SUMIF(Feuil5!$B:$B,Consolidation!$B41,Feuil5!$F:$F)","v":0},null,null,null,{"$f":"SUMIF(Feuil1!$B:$B,Consolidation!$B41,Feuil1!$H:$H)","v":0},null,{"$f":"SUMIF(Feuil2!$B:$B,Consolidation!$B41,Feuil2!$H:$H)","v":0},null,{"$f":"SUMIF(Feuil3!$B:$B,Consolidation!$B41,Feuil3!$H:$H)","v":0},null,{"$f":"SUMIF(Feuil4!$B:$B,Consolidation!$B41,Feuil4!$H:$H)","v":0},null,{"$f":"SUMIF(Feuil5!$B:$B,Consolidation!$B41,Feuil5!$H:$H)","v":0},null,null,null,0]
["InsererLigne",3290,"Récupération LAA",{"$f":"SUMIF(Feuil1!$B:$B,Consolidation!$B42,Feuil1!$D:$D)","v":0},null,{"$f":"SUMIF(Feuil2!$B:$B,Consolidation!$B42,Feuil2!$D:$D)","v":0},null,{"$f":"SUMIF(Feuil3!$B:$B,Consolidation!$B42,Feuil3!$D:$D)","v":0},null,{"$f":"SUMIF(Feuil4!$B:$B,Consolidation!$B42,Feuil4!$D:$D)","v":0},null,{"$f":"SUMIF(Feuil5!$B:$B,Consolidation!$B42,Feuil5!$D:$D)","v":0},null,0,0,{"$f":"SUMIF(Feuil1!$B:$B,Consolidation!$B42,Feuil1!$F:$F)","v":0},null,{"$f":"SUMIF(Feuil2!$B:$B,Consolidation!$B42,Feuil2!$F:$F)","v":0},null,{"$f":"SUMIF(Feuil3!$B:$B,Consolidation!$B42,Feuil3!$F:$F)","v":0},null,{"$f":"SUMIF(Feuil4!$B:$B,Consolidation!$B42,Feuil4!$F:$F)","v":0},null,{"$f":"SUMIF(Feuil5!$B:$B,Consolidation!$B42,Feuil5!$F:$F)","v":0},null,{"$f":"P42+R42+T42+V42+X42","v":0},{"$f":"Q42+S42+U42+W42+Y42","v":0},{"$f":"SUMIF(Feuil1!$B:$B,Consolidation!$B42,Feuil1!$H:$H)","v":0},null,{"$f":"SUMIF(Feuil2!$B:$B,Consolidation!$B42,Feuil2!$H:$H)","v":0},null,{"$f":"SUMIF(Feuil3!$B:$B,Consolidation!$B42,Feuil3!$H:$H)","v":0},null,{"$f":"SUMIF(Feuil4!$B:$B,Consolidation!$B42,Feuil4!$H:$H)","v":0},null,{"$f":"SUMIF(Feuil5!$B:$B,Consolidation!$B42,Feuil5!$H:$H)","v":0},null,{"$f":"AB42+AD42+AF42+AH42+AJ42","v":0},{"$f":"AC42+AE42+AG42+AI42+AK42","v":0},0]
["InsererLigne",3291,"Récupération APG",{"$f":"SUMIF(Feuil1!$B:$B,Consolidation!$B43,Feuil1!$D:$D)","v":0},null,{"$f":"SUMIF(Feuil2!$B:$B,Consolidation!$B43,Feuil2!$D:$D)","v":0},null,{"$f":"SUMIF(Feuil3!$B:$B,Consolidation!$B43,Feuil3!$D:$D)","v":0},null,{"$f":"SUMIF(Feuil4!$B:$B,Consolidation!$B43,Feuil4!$D:$D)","v":0},null,{"$f":"SUMIF(Feuil5!$B:$B,Consolidation!$B43,Feuil5!$D:$D)","v":0},null,0,0,{"$f":"SUMIF(Feuil1!$B:$B,Consolidation!$B43,Feuil1!$F:$F)","v":0},null,{"$f":"SUMIF(Feuil2!$B:$B,Consolidation!$B43,Feuil2!$F:$F)","v":0},null,{"$f":"SUMIF(Feuil3!$B:$B,Consolidation!$B43,Feuil3!$F:$F)","v":0},null,{"$f":"SUMIF(Feuil4!$B:$B,Consolidation!$B43,Feuil4!$F:$F)","v":0},null,{"$f":"SUMIF(Feuil5!$B:$B,Consolidation!$B43,Feuil5!$F:$F)","v":0},null,0,0,{"$f":"SUMIF(Feuil1!$B:$B,Consolidation!$B43,Feuil1!$H:$H)","v":0},null,{"$f":"SUMIF(Feuil2!$B:$B,Consolidation!$B43,Feuil2!$H:$H)","v":0},null,{"$f":"SUMIF(Feuil3!$B:$B,Consolidation!$B43,Feuil3!$H:$H)","v":0},null,{"$f":"SUMIF(Feuil4!$B:$B,Consolidation!$B43,Feuil4!$H:$H)","v":0},null,{"$f":"SUMIF(Feuil5!$B:$B,Consolidation!$B43,Feuil5!$H:$H)","v":0},null,0,0,0]
["InsererLigne",3292,"Récupération diverses",{"$f":"SUMIF(Feuil1!$B:$B,Consolidation!$B44,Feuil1!$D:$D)","v":0},null,{"$f":"SUMIF(Feuil2!$B:$B,Consolidation!$B44,Feuil2!$D:$D)","v":0},null,{"$f":"SUMIF(Feuil3!$B:$B,Consolidation!$B44,Feuil3!$D:$D)","v":0},null,{"$f":"SUMIF(Feuil4!$B:$B,Consolidation!$B44,Feuil4!$D:$D)","v":0},null,{"$f":"SUMIF(Feuil5!$B:$B,Consolidation!$B44,Feuil5!$D:$D)","v":0},null,0,0,{"$f":"SUMIF(Feuil1!$B:$B,Consolidation!$B44,Feuil1!$F:$F)","v":0},null,{"$f":"SUMIF(Feuil2!$B:$B,Consolidation!$B44,Feuil2!$F:$F)","v":0},null,{"$f":"SUMIF(Feuil3!$B:$B,Consolidation!$B44,Feuil3!$F:$F)","v":0},null,{"$f":"SUMIF(Feuil4!$B:$B,Consolidation!$B44,Feuil4!$F:$F)","v":0},null,{"$f":"SUMIF(Feuil5!$B:$B,Consolidation!$B44,Feuil5!$F:$F)","v":0},null,0,0,{"$f":"SUMIF(Feuil1!$B:$B,Consolidation!$B44,Feuil1!$H:$H)","v":0},null,{"$f":"SUMIF(Feuil2!$B:$B,Consolidation!$B44,Feuil2!$H:$H)","v":0},null,{"$f":"SUMIF(Feuil3!$B:$B,Consolidation!$B44,Feuil3!$H:$H)","v":0},null,{"$f":"SUMIF(Feuil4!$B:$B,Consolidation!$B44,Feuil4!$H:$H)","v":0},null,{"$f":"SUMIF(Feuil5!$B:$B,Consolidation!$B44,Feuil5!$H:$H)","v":0},null,0,0,0]
["InsererLigne",null,"",null,null,null,null,null,null,null,null,null,null,0,0,null,null,null,null,null,null,null,null,null,null,0,0,null,null,null,null,null,null,null,null,null,null,0,0,0]
["InsererLigne",null,null,null,null,null,null,null,null,null,null,null,null,null,null,null,null,null,null,null,null,null,null,null,null,null,null,null,null,null,null,null,null,null,null,null,null,null,null,0]
[null,33,"Salaires direction et administration",{"$f":"SUBTOTAL(9,D48:D56)","v":0},{"$f":"IF($E$5>0,D47/$E$5,0)","v":0},{"$f":"SUBTOTAL(9,F48:F56)","v":0},{"$f":"IF($G$5>0,F47/$G$5,0)","v":0},{"$f":"SUBTOTAL(9,H48:H56)","v":0},{"$f":"IF($I$5>0,H47/$I$5,0)","v":0},{"$f":"SUBTOTAL(9,J48:J56)","v":0},{"$f":"IF($K$5>0,J47/$K$5,0)","v":0},{"$f":"SUBTOTAL(9,L48:L56)","v":0},{"$f":"IF($M$5>0,L47/$M$5,0)","v":0},{"$f":"D47+F47+H47+J47+L47","v":0},{"$f":"E47+G47+I47+K47+M47","v":0},{"$f":"SUBTOTAL(9,P48:P56)","v":0},{"$f":"IF($Q$5>0,P47/$Q$5,0)","v":0},{"$f":"SUBTOTAL(9,R48:R56)","v":0},{"$f":"IF($S$5>0,R47/$S$5,0)","v":0},{"$f":"SUBTOTAL(9,T48:T56)","v":0},{"$f":"IF($U$5>0,T47/$U$5,0)","v":0},{"$f":"SUBTOTAL(9,V48:V56)","v":0},{"$f":"IF($W$5>0,V47/$W$5,0)","v":0},{"$f":"SUBTOTAL(9,X48:X56)","v":0},{"$f":"IF($Y$5>0,X47/$Y$5,0)","v":0},{"$f":"P47+R47+T47+V47+X47","v":0},{"$f":"Q47+S47+U47+W47+Y47","v":0},{"$f":"SUBTOTAL(9,AB48:AB56)","v":0},{"$f":"IF($AC$5>0,AB47/$AC$5,0)","v":0},{"$f":"SUBTOTAL(9,AD48:AD56)","v":0},{"$f":"IF($AE$5>0,AD47/$AE$5,0)","v":0},{"$f":"SUBTOTAL(9,AF48:AF56)","v":0},{"$f":"IF($AG$5>0,AF47/$AG$5,0)","v":0},{"$f":"SUBTOTAL(9,AH48:AH56)","v":0},{"$f":"IF($AI$5>0,AH47/$AI$5,0)","v":0},{"$f":"SUBTOTAL(9,AJ48:AJ56)","v":0},{"$f":"IF($AK$5>0,AJ47/$AK$5,0)","v":0},{"$f":"AB47+AD47+AF47+AH47+AJ47","v":0},{"$f":"AC47+AE47+AG47+AI47+AK47","v":0},0]
[null,3300,"Direction                                                  ",{"$f":"SUMIF(Feuil1!$B:$B,Consolidation!$B48,Feuil1!$D:$D)","v":0},null,{"$f":"SUMIF(Feuil2!$B:$B,Consolidation!$B48,Feuil2!$D:$D)","v":0},null,{"$f":"SUMIF(Feuil3!$B:$B,Consolidation!$B48,Feuil3!$D:$D)","v":0},null,{"$f":"SUMIF(Feuil4!$B:$B,Consolidation!$B48,Feuil4!$D:$D)","v":0},null,{"$f":"SUMIF(Feuil5!$B:$B,Consolidation!$B48,Feuil5!$D:$D)","v":0},null,{"$f":"D48+F48+H48+J48+L48","v":0},{"$f":"E48+G48+I48+K48+M48","v":0},{"$f":"SUMIF(Feuil1!$B:$B,Consolidation!$B48,Feuil1!$F:$F)","v":0},null,{"$f":"SUMIF(Feuil2!$B:$B,Consolidation!$B48,Feuil2!$F:$F)","v":0},null,{"$f":"SUMIF(Feuil3!$B:$B,Consolidation!$B48,Feuil3!$F:$F)","v":0},null,{"$f":"SUMIF(Feuil4!$B:$B,Consolidation!$B48,Feuil4!$F:$F)","v":0},null,{"$f":"SUMIF(Feuil5!$B:$B,Consolidation!$B48,Feuil5!$F:$F)","v":0},null,{"$f":"P48+R48+T48+V48+X48","v":0},{"$f":"Q48+S48+U48+W48+Y48","v":0},{"$f":"SUMIF(Feuil1!$B:$B,Consolidation!$B48,Feuil1!$H:$H)","v":0},null,{"$f":"SUMIF(Feuil2!$B:$B,Consolidation!$B48,Feuil2!$H:$H)","v":0},null,{"$f":"SUMIF(Feuil3!$B:$B,Consolidation!$B48,Feuil3!$H:$H)","v":0},null,{"$f":"SUMIF(Feuil4!$B:$B,Consolidation!$B48,Feuil4!$H:$H)","v":0},null,{"$f":"SUMIF(Feuil5!$B:$B,Consolidation!$B48,Feuil5!$H:$H)","v":0},null,{"$f":"AB48+AD48+AF48+AH48+AJ48","v":0},{"$f":"AC48+AE48+AG48+AI48+AK48","v":0},0]
["InsererLigne",3310,"Administration                                                  ",{"$f":"SUMIF(Feuil1!$B:$B,Consolidation!$B49,Feuil1!$D:$D)","v":0},null,{"$f":"SUMIF(Feuil2!$B:$B,Consolidation!$B49,Feuil2!$D:$D)","v":0},null,{"$f":"SUMIF(Feuil3!$B:$B,Consolidation!$B49,Feuil3!$D:$D)","v":0},null,{"$f":"SUMIF(Feuil4!$B:$B,Consolidation!$B49,Feuil4!$D:$D)","v":0},null,{"$f":"SUMIF(Feuil5!$B:$B,Consolidation!$B49,Feuil5!$D:$D)","v":0},null,0,0,{"$f":"SUMIF(Feuil1!$B:$B,Consolidation!$B49,Feuil1!$F:$F)","v":0},null,{"$f":"SUMIF(Feuil2!$B:$B,Consolidation!$B49,Feuil2!$F:$F)","v":0},null,{"$f":"SUMIF(Feuil3!$B:$B,Consolidation!$B49,Feuil3!$F:$F)","v":0},null,{"$f":"SUMIF(Feuil4!$B:$B,Consolidation!$B49,Feuil4!$F:$F)","v":0},null,{"$f":"SUMIF(Feuil5!$B:$B,Consolidation!$B49,Feuil5!$F:$F)","v":0},null,0,0,{"$f":"SUMIF(Feuil1!$B:$B,Consolidation!$B49,Feuil1!$H:$H)","v":0},null,{"$f":"SUMIF(Feuil2!$B:$B,Consolidation!$B49,Feuil2!$H:$H)","v":0},null,{"$f":"SUMIF(Feuil3!$B:$B,Consolidation!$B49,Feuil3!$H:$H)","v":0},null,{"$f":"SUMIF(Feuil4!$B:$B,Consolidation!$B49,Feuil4!$H:$H)","v":0},null,{"$f":"SUMIF(Feuil5!$B:$B,Consolidation!$B49,Feuil5!$H:$H)","v":0},null,0,0,0]
["InsererLigne",3320,"Remplaçant(e)s                                                  ",{"$f":"SUMIF(Feuil1!$B:$B,Consolidation!$B50,Feuil1!$D:$D)","v":0},null,{"$f":"SUMIF(Feuil2!$B:$B,Consolidation!$B50,Feuil2!$D:$D)","v":0},null,{"$f":"SUMIF(Feuil3!$B:$B,Consolidation!$B50,Feuil3!$D:$D)","v":0},null,{"$f":"SUMIF(Feuil4!$B:$B,Consolidation!$B50,Feuil4!$D:$D)","v":0},null,{"$f":"SUMIF(Feuil5!$B:$B,Consolidation!$B50,Feuil5!$D:$D)","v":0},null,0,0,{"$f":"SUMIF(Feuil1!$B:$B,Consolidation!$B50,Feuil1!$F:$F)","v":0},null,{"$f":"SUMIF(Feuil2!$B:$B,Consolidation!$B50,Feuil2!$F:$F)","v":0},null,{"$f":"SUMIF(Feuil3!$B:$B,Consolidation!$B50,Feuil3!$F:$F)","v":0},null,{"$f":"SUMIF(Feuil4!$B:$B,Consolidation!$B50,Feuil4!$F:$F)","v":0},null,{"$f":"SUMIF(Feuil5!$B:$B,Consolidation!$B50,Feuil5!$F:$F)","v":0},null,0,0,{"$f":"SUMIF(Feuil1!$B:$B,Consolidation!$B50,Feuil1!$H:$H)","v":0},null,{"$f":"SUMIF(Feuil2!$B:$B,Consolidation!$B50,Feuil2!$H:$H)","v":0},null,{"$f":"SUMIF(Feuil3!$B:$B,Consolidation!$B50,Feuil3!$H:$H)","v":0},null,{"$f":"SUMIF(Feuil4!$B:$B,Consolidation!$B50,Feuil4!$H:$H)","v":0},null,{"$f":"SUMIF(Feuil5!$B:$B,Consolidation!$B50,Feuil5!$H:$H)","v":0},null,0,0,0]
["InsererLigne",3330,"Stagiaires et apprentis                                                  ",{"$f":"SUMIF(Feuil1!$B:$B,Consolidation!$B51,Feuil1!$D:$D)","v":0},null,{"$f":"SUMIF(Feuil2!$B:$B,Consolidation!$B51,Feuil2!$D:$D)","v":0},null,{"$f":"SUMIF(Feuil3!$B:$B,Consolidation!$B51,Feuil3!$D:$D)","v":0},null,{"$f":"SUMIF(Feuil4!$B:$B,Consolidation!$B51,Feuil4!$D:$D)","v":0},null,{"$f":"SUMIF(Feuil5!$B:$B,Consolidation!$B51,Feuil5!$D:$D)","v":0},null,0,0,{"$f":"SUMIF(Feuil1!$B:$B,Consolidation!$B51,Feuil1!$F:$F)","v":0},null,{"$f":"SUMIF(Feuil2!$B:$B,Consolidation!$B51,Feuil2!$F:$F)","v":0},null,{"$f":"SUMIF(Feuil3!$B:$B,Consolidation!$B51,Feuil3!$F:$F)","v":0},null,{"$f":"SUMIF(Feuil4!$B:$B,Consolidation!$B51,Feuil4!$F:$F)","v":0},null,{"$f":"SUMIF(Feuil5!$B:$B,Consolidation!$B51,Feuil5!$F:$F)","v":0},null,0,0,{"$f":"SUMIF(Feuil1!$B:$B,Consolidation!$B51,Feuil1!$H:$H)","v":0},null,{"$f":"SUMIF(Feuil2!$B:$B,Consolidation!$B51,Feuil2!$H:$H)","v":0},null,{"$f":"SUMIF(Feuil3!$B:$B,Consolidation!$B51,Feuil3!$H:$H)","v":0},null,{"$f":"SUMIF(Feuil4!$B:$B,Consolidation!$B51,Feuil4!$H:$H)","v":0},null,{"$f":"SUMIF(Feuil5!$B:$B,Consolidation!$B51,Feuil5!$H:$H)","v":0},null,0,0,0]
["InsererLigne",3340,"Salaire part administration",{"$f":"SUMIF(Feuil1!$B:$B,Consolidation!$B52,Feuil1!$D:$D)","v":0},null,{"$f":"SUMIF(Feuil2!$B:$B,Consolidation!$B52,Feuil2!$D:$D)","v":0},null,{"$f":"SUMIF(Feuil3!$B:$B,Consolidation!$B52,Feuil3!$D:$D)","v":0},null,{"$f":"SUMIF(Feuil4!$B:$B,Consolidation!$B52,Feuil4!$D:$D)","v":0},null,{"$f":"SUMIF(Feuil5!$B:$B,Consolidation!$B52,Feuil5!$D:$D)","v":0},null,0,0,{"$f":"SUMIF(Feuil1!$B:$B,Consolidation!$B52,Feuil1!$F:$F)","v":0},null,{"$f":"SUMIF(Feuil2!$B:$B,Consolidation!$B52,Feuil2!$F:$F)","v":0},null,{"$f":"SUMIF(Feuil3!$B:$B,Consolidation!$B52,Feuil3!$F:$F)","v":0},null,{"$f":"SUMIF(Feuil4!$B:$B,Consolidation!$B52,Feuil4!$F:$F)","v":0},null,{"$f":"SUMIF(Feuil5!$B:$B,Consolidation!$B52,Feuil5!$F:$F)","v":0},null,0,0,{"$f":"SUMIF(Feuil1!$B:$B,Consolidation!$B52,Feuil1!$H:$H)","v":0},null,{"$f":"SUMIF(Feuil2!$B:$B,Consolidation!$B52,Feuil2!$H:$H)","v":0},null,{"$f":"SUMIF(Feuil3!$B:$B,Consolidation!$B52,Feuil3!$H:$H)","v":0},null,{"$f":"SUMIF(Feuil4!$B:$B,Consolidation!$B52,Feuil4!$H:$H)","v":0},null,{"$f":"SUMIF(Feuil5!$B:$B,Consolidation!$B52,Feuil5!$H:$H)","v":0},null,0,0,0]
["InsererLigne",3390,"Récupération LAA",{"$f":"SUMIF(Feuil1!$B:$B,Consolidation!$B53,Feuil1!$D:$D)","v":0},null,{"$f":"SUMIF(Feuil2!$B:$B,Consolidation!$B53,Feuil2!$D:$D)","v":0},null,{"$f":"SUMIF(Feuil3!$B:$B,Consolidation!$B53,Feuil3!$D:$D)","v":0},null,{"$f":"SUMIF(Feuil4!$B:$B,Consolidation!$B53,Feuil4!$D:$D)","v":0},null,{"$f":"SUMIF(Feuil5!$B:$B,Consolidation!$B53,Feuil5!$D:$D)","v":0},null,0,0,{"$f":"SUMIF(Feuil1!$B:$B,Consolidation!$B53,Feuil1!$F:$F)","v":0},null,{"$f":"SUMIF(Feuil2!$B:$B,Consolidation!$B53,Feuil2!$F:$F)","v":0},null,{"$f":"SUMIF(Feuil3!$B:$B,Consolidation!$B53,Feuil3!$F:$F)","v":0},null,{"$f":"SUMIF(Feuil4!$B:$B,Consolidation!$B53,Feuil4!$F:$F)","v":0},null,{"$f":"SUMIF(Feuil5!$B:$B,Consolidation!$B53,Feuil5!$F:$F)","v":0},null,0,0,{"$f":"SUMIF(Feuil1!$B:$B,Consolidation!$B53,Feuil1!$H:$H)","v":0},null,{"$f":"SUMIF(Feuil2!$B:$B,Consolidation!$B53,Feuil2!$H:$H)","v":0},null,{"$f":"SUMIF(Feuil3!$B:$B,Consolidation!$B53,Feuil3!$H:$H)","v":0},null,{"$f":"SUMIF(Feuil4!$B:$B,Consolidation!$B53,Feuil4!$H:$H)","v":0},null,{"$f":"SUMIF(Feuil5!$B:$B,Consolidation!$B53,Feuil5!$H:$H)","v":0},null,0,0,0]
["InsererLigne",3391,"Récupération APG",{"$f":"SUMIF(Feuil1!$B:$B,Consolidation!$B54,Feuil1!$D:$D)","v":0},null,{"$f":"SUMIF(Feuil2!$B:$B,Consolidation!$B54,Feuil2!$D:$D)","v":0},null,{"$f":"SUMIF(Feuil3!$B:$B,Consolidation!$B54,Feuil3!$D:$D)","v":0},null,{"$f":"SUMIF(Feuil4!$B:$B,Consolidation!$B54,Feuil4!$D:$D)","v":0},null,{"$f":"SUMIF(Feuil5!$B:$B,Consolidation!$B54,Feuil5!$D:$D)","v":0},null,0,0,{"$f":"SUMIF(Feuil1!$B:$B,Consolidation!$B54,Feuil1!$F:$F)","v":0},null,{"$f":"SUMIF(Feuil2!$B:$B,Consolidation!$B54,Feuil2!$F:$F)","v":0},null,{"$f":"SUMIF(Feuil3!$B:$B,Consolidation!$B54,Feuil3!$F:$F)","v":0},null,{"$f":"SUMIF(Feuil4!$B:$B,Consolidation!$B54,Feuil4!$F:$F)","v":0},null,{"$f":"SUMIF(Feuil5!$B:$B,Consolidation!$B54,Feuil5!$F:$F)","v":0},null,0,0,{"$f":"SUMIF(Feuil1!$B:$B,Consolidation!$B54,Feuil1!$H:$H)","v":0},null,{"$f":"SUMIF(Feuil2!$B:$B,Consolidation!$B54,Feuil2!$H:$H)","v":0},null,{"$f":"SUMIF(Feuil3!$B:$B,Consolidation!$B54,Feuil3!$H:$H)","v":0},null,{"$f":"SUMIF(Feuil4!$B:$B,Consolidation!$B54,Feuil4!$H:$H)","v":0},null,{"$f":"SUMIF(Feuil5!$B:$B,Consolidation!$B54,Feuil5!$H:$H)","v":0},null,0,0,0]
["InsererLigne",3392,"Récupération diverses",{"$f":"SUMIF(Feuil1!$B:$B,Consolidation!$B55,Feuil1!$D:$D)","v":0},null,{"$f":"SUMIF(Feuil2!$B:$B,Consolidation!$B55,Feuil2!$D:$D)","v":0},null,{"$f":"SUMIF(Feuil3!$B:$B,Consolidation!$B55,Feuil3!$D:$D)","v":0},null,{"$f":"SUMIF(Feuil4!$B:$B,Consolidation!$B55,Feuil4!$D:$D)","v":0},null,{"$f":"SUMIF(Feuil5!$B:$B,Consolidation!$B55,Feuil5!$D:$D)","v":0},null,0,0,{"$f":"SUMIF(Feuil1!$B:$B,Consolidation!$B55,Feuil1!$F:$F)","v":0},null,{"$f":"SUMIF(Feuil2!$B:$B,Consolidation!$B55,Feuil2!$F:$F)","v":0},null,{"$f":"SUMIF(Feuil3!$B:$B,Consolidation!$B55,Feuil3!$F:$F)","v":0},null,{"$f":"SUMIF(Feuil4!$B:$B,Consolidation!$B55,Feuil4!$F:$F)","v":0},null,{"$f":"SUMIF(Feuil5!$B:$B,Consolidation!$B55,Feuil5!$F:$F)","v":0},null,0,0,{"$f":"SUMIF(Feuil1!$B:$B,Consolidation!$B55,Feuil1!$H:$H)","v":0},null,{"$f":"SUMIF(Feuil2!$B:$B,Consolidation!$B55,Feuil2!$H:$H)","v":0},null,{"$f":"SUMIF(Feuil3!$B:$B,Consolidation!$B55,Feuil3!$H:$H)","v":0},null,{"$f":"SUMIF(Feuil4!$B:$B,Consolidation!$B55,Feuil4!$H:$H)","v":0},null,{"$f":"SUMIF(Feuil5!$B:$B,Consolidation!$B55,Feuil5!$H:$H)","v":0},null,0,0,0]
["InsererLigne",null,null,null,null,null,null,null,null,null,null,null,null,null,null,null,null,null,null,null,null,null,null,null,null,null,null,null,null,null,null,null,null,null,null,null,null,null,null,0]
[null,34,"Salaires économat et service de maison",{"$f":"SUBTOTAL(9,D58:D66)","v":0},{"$f":"IF($E$5>0,D57/$E$5,0)","v":0},{"$f":"SUBTOTAL(9,F58:F66)","v":0},{"$f":"IF($G$5>0,F57/$G$5,0)","v":0},{"$f":"SUBTOTAL(9,H58:H66)","v":0},{"$f":"IF($I$5>0,H57/$I$5,0)","v":0},{"$f":"SUBTOTAL(9,J58:J66)","v":0},{"$f":"IF($K$5>0,J57/$K$5,0)","v":0},{"$f":"SUBTOTAL(9,L58:L66)","v":0},{"$f":"IF($M$5>0,L57/$M$5,0)","v":0},{"$f":"D57+F57+H57+J57+L57","v":0},{"$f":"E57+G57+I57+K57+M57","v":0},{"$f":"SUBTOTAL(9,P58:P66)","v":0},{"$f":"IF($Q$5>0,P57/$Q$5,0)","v":0},{"$f":"SUBTOTAL(9,R58:R66)","v":0},{"$f":"IF($S$5>0,R57/$S$5,0)","v":0},{"$f":"SUBTOTAL(9,T58:T66)","v":0},{"$f":"IF($U$5>0,T57/$U$5,0)","v":0},{"$f":"SUBTOTAL(9,V58:V66)","v":0},{"$f":"IF($W$5>0,V57/$W$5,0)","v":0},{"$f":"SUBTOTAL(9,X58:X66)","v":0},{"$f":"IF($Y$5>0,X57/$Y$5,0)","v":0},{"$f":"P57+R57+T57+V57+X57","v":0},{"$f":"Q57+S57+U57+W57+Y57","v":0},{"$f":"SUBTOTAL(9,AB58:AB66)","v":0},{"$f":"IF($AC$5>0,AB57/$AC$5,0)","v":0},{"$f":"SUBTOTAL(9,AD58:AD66)","v":0},{"$f":"IF($AE$5>0,AD57/$AE$5,0)","v":0},{"$f":"SUBTOTAL(9,AF58:AF66)","v":0},{"$f":"IF($AG$5>0,AF57/$AG$5,0)","v":0},{"$f":"SUBTOTAL(9,AH58:AH66)","v":0},{"$f":"IF($AI$5>0,AH57/$AI$5,0)","v":0},{"$f":"SUBTOTAL(9,AJ58:AJ66)","v":0},{"$f":"IF($AK$5>0,AJ57/$AK$5,0)","v":0},{"$f":"AB57+AD57+AF57+AH57+AJ57","v":0},{"$f":"AC57+AE57+AG57+AI57+AK57","v":0},0]
[null,3400,"Personnel hôtelier, de cafeteria                                                  ",{"$f":"SUMIF(Feuil1!$B:$B,Consolidation!$B58,Feuil1!$D:$D)","v":0},null,{"$f":"SUMIF(Feuil2!$B:$B,Consolidation!$B58,Feuil2!$D:$D)","v":0},null,{"$f":"SUMIF(Feuil3!$B:$B,Consolidation!$B58,Feuil3!$D:$D)","v":0},null,{"$f":"SUMIF(Feuil4!$B:$B,Consolidation!$B58,Feuil4!$D:$D)","v":0},null,{"$f":"SUMIF(Feuil5!$B:$B,Consolidation!$B58,Feuil5!$D:$D)","v":0},null,{"$f":"D58+F58+H58+J58+L58","v":0},{"$f":"E58+G58+I58+K58+M58","v":0},{"$f":"SUMIF(Feuil1!$B:$B,Consolidation!$B58,Feuil1!$F:$F)","v":0},null,{"$f":"SUMIF(Feuil2!$B:$B,Consolidation!$B58,Feuil2!$F:$F)","v":0},null,{"$f":"SUMIF(Feuil3!$B:$B,Consolidation!$B58,Feuil3!$F:$F)","v":0},null,{"$f":"SUMIF(Feuil4!$B:$B,Consolidation!$B58,Feuil4!$F:$F)","v":0},null,{"$f":"SUMIF(Feuil5!$B:$B,Consolidation!$B58,Feuil5!$F:$F)","v":0},null,{"$f":"P58+R58+T58+V58+X58","v":0},{"$f":"Q58+S58+U58+W58+Y58","v":0},{"$f":"SUMIF(Feuil1!$B:$B,Consolidation!$B58,Feuil1!$H:$H)","v":0},null,{"$f":"SUMIF(Feuil2!$B:$B,Consolidation!$B58,Feuil2!$H:$H)","v":0},null,{"$f":"SUMIF(Feuil3!$B:$B,Consolidation!$B58,Feuil3!$H:$H)","v":0},null,{"$f":"SUMIF(Feuil4!$B:$B,Consolidation!$B58,Feuil4!$H:$H)","v":0},null,{"$f":"SUMIF(Feuil5!$B:$B,Consolidation!$B58,Feuil5!$H:$H)","v":0},null,{"$f":"AB58+AD58+AF58+AH58+AJ58","v":0},{"$f":"AC58+AE58+AG58+AI58+AK58","v":0},0]
["InsererLigne",3410,"Personnel de maison (économat,...)                                                  ",{"$f":"SUMIF(Feuil1!$B:$B,Consolidation!$B59,Feuil1!$D:$D)","v":0},null,{"$f":"SUMIF(Feuil2!$B:$B,Consolidation!$B59,Feuil2!$D:$D)","v":0},null,{"$f":"SUMIF(Feuil3!$B:$B,Consolidation!$B59,Feuil3!$D:$D)","v":0},null,{"$f":"SUMIF(Feuil4!$B:$B,Consolidation!$B59,Feuil4!$D:$D)","v":0},null,{"$f":"SUMIF(Feuil5!$B:$B,Consolidation!$B59,Feuil5!$D:$D)","v":0},null,0,0,{"$f":"SUMIF(Feuil1!$B:$B,Consolidation!$B59,Feuil1!$F:$F)","v":0},null,{"$f":"SUMIF(Feuil2!$B:$B,Consolidation!$B59,Feuil2!$F:$F)","v":0},null,{"$f":"SUMIF(Feuil3!$B:$B,Consolidation!$B59,Feuil3!$F:$F)","v":0},null,{"$f":"SUMIF(Feuil4!$B:$B,Consolidation!$B59,Feuil4!$F:$F)","v":0},null,{"$f":"SUMIF(Feuil5!$B:$B,Consolidation!$B59,Feuil5!$F:$F)","v":0},null,0,0,{"$f":"SUMIF(Feuil1!$B:$B,Consolidation!$B59,Feuil1!$H:$H)","v":0},null,{"$f":"SUMIF(Feuil2!$B:$B,Consolidation!$B59,Feuil2!$H:$H)","v":0},null,{"$f":"SUMIF(Feuil3!$B:$B,Consolidation!$B59,Feuil3!$H:$H)","v":0},null,{"$f":"SUMIF(Feuil4!$B:$B,Consolidation!$B59,Feuil4!$H:$H)","v":0},null,{"$f":"SUMIF(Feuil5!$B:$B,Consolidation!$B59,Feuil5!$H:$H)","v":0},null,0,0,0]
["InsererLigne",3420,"Remplaçant(e)s                                                  ",{"$f":"SUMIF(Feuil1!$B:$B,Consolidation!$B60,Feuil1!$D:$D)","v":0},null,{"$f":"SUMIF(Feuil2!$B:$B,Consolidation!$B60,Feuil2!$D:$D)","v":0},null,{"$f":"SUMIF(Feuil3!$B:$B,Consolidation!$B60,Feuil3!$D:$D)","v":0},null,{"$f":"SUMIF(Feuil4!$B:$B,Consolidation!$B60,Feuil4!$D:$D)","v":0},null,{"$f":"SUMIF(Feuil5!$B:$B,Consolidation!$B60,Feuil5!$D:$D)","v":0},null,0,0,{"$f":"SUMIF(Feuil1!$B:$B,Consolidation!$B60,Feuil1!$F:$F)","v":0},null,{"$f":"SUMIF(Feuil2!$B:$B,Consolidation!$B60,Feuil2!$F:$F)","v":0},null,{"$f":"SUMIF(Feuil3!$B:$B,Consolidation!$B60,Feuil3!$F:$F)","v":0},null,{"$f":"SUMIF(Feuil4!$B:$B,Consolidation!$B60,Feuil4!$F:$F)","v":0},null,{"$f":"SUMIF(Feuil5!$B:$B,Consolidation!$B60,Feuil5!$F:$F)","v":0},null,0,0,{"$f":"SUMIF(Feuil1!$B:$B,Consolidation!$B60,Feuil1!$H:$H)","v":0},null,{"$f":"SUMIF(Feuil2!$B:$B,Consolidation!$B60,Feuil2!$H:$H)","v":0},null,{"$f":"SUMIF(Feuil3!$B:$B,Consolidation!$B60,Feuil3!$H:$H)","v":0},null,{"$f":"SUMIF(Feuil4!$B:$B,Consolidation!$B60,Feuil4!$H:$H)","v":0},null,{"$f":"SUMIF(Feuil5!$B:$B,Consolidation!$B60,Feuil5!$H:$H)","v":0},null,0,0,0]
["InsererLigne",3430,"Stagiaires et apprentis                                                  ",{"$f":"SUMIF(Feuil1!$B:$B,Consolidation!$B61,Feuil1!$D:$D)","v":0},null,{"$f":"SUMIF(Feuil2!$B:$B,Consolidation!$B61,Feuil2!$D:$D)","v":0},null,{"$f":"SUMIF(Feuil3!$B:$B,Consolidation!$B61,Feuil3!$D:$D)","v":0},null,{"$f":"SUMIF(Feuil4!$B:$B,Consolidation!$B61,Feuil4!$D:$D)","v":0},null,{"$f":"SUMIF(Feuil5!$B:$B,Consolidation!$B61,Feuil5!$D:$D)","v":0},null,0,0,{"$f":"SUMIF(Feuil1!$B:$B,Consolidation!$B61,Feuil1!$F:$F)","v":0},null,{"$f":"SUMIF(Feuil2!$B:$B,Consolidation!$B61,Feuil2!$F:$F)","v":0},null,{"$f":"SUMIF(Feuil3!$B:$B,Consolidation!$B61,Feuil3!$F:$F)","v":0},null,{"$f":"SUMIF(Feuil4!$B:$B,Consolidation!$B61,Feuil4!$F:$F)","v":0},null,{"$f":"SUMIF(Feuil5!$B:$B,Consolidation!$B61,Feuil5!$F:$F)","v":0},null,0,0,{"$f":"SUMIF(Feuil1!$B:$B,Consolidation!$B61,Feuil1!$H:$H)","v":0},null,{"$f":"SUMIF(Feuil2!$B:$B,Consolidation!$B61,Feuil2!$H:$H)","v":0},null,{"$f":"SUMIF(Feuil3!$B:$B,Consolidation!$B61,Feuil3!$H:$H)","v":0},null,{"$f":"SUMIF(Feuil4!$B:$B,Consolidation!$B61,Feuil4!$H:$H)","v":0},null,{"$f":"SUMIF(Feuil5!$B:$B,Consolidation!$B61,Feuil5!$H:$H)","v":0},null,0,0,0]
["InsererLigne",3440,"Personnel de buanderie et lingerie                                                  ",{"$f":"SUMIF(Feuil1!$B:$B,Consolidation!$B62,Feuil1!$D:$D)","v":0},null,{"$f":"SUMIF(Feuil2!$B:$B,Consolidation!$B62,Feuil2!$D:$D)","v":0},null,{"$f":"SUMIF(Feuil3!$B:$B,Consolidation!$B62,Feuil3!$D:$D)","v":0},null,{"$f":"SUMIF(Feuil4!$B:$B,Consolidation!$B62,Feuil4!$D:$D)","v":0},null,{"$f":"SUMIF(Feuil5!$B:$B,Consolidation!$B62,Feuil5!$D:$D)","v":0},null,0,0,{"$f":"SUMIF(Feuil1!$B:$B,Consolidation!$B62,Feuil1!$F:$F)","v":0},null,{"$f":"SUMIF(Feuil2!$B:$B,Consolidation!$B62,Feuil2!$F:$F)","v":0},null,{"$f":"SUMIF(Feuil3!$B:$B,Consolidation!$B62,Feuil3!$F:$F)","v":0},null,{"$f":"SUMIF(Feuil4!$B:$B,Consolidation!$B62,Feuil4!$F:$F)","v":0},null,{"$f":"SUMIF(Feuil5!$B:$B,Consolidation!$B62,Feuil5!$F:$F)","v":0},null,0,0,{"$f":"SUMIF(Feuil1!$B:$B,Consolidation!$B62,Feuil1!$H:$H)","v":0},null,{"$f":"SUMIF(Feuil2!$B:$B,Consolidation!$B62,Feuil2!$H:$H)","v":0},null,{"$f":"SUMIF(Feuil3!$B:$B,Consolidation!$B62,Feuil3!$H:$H)","v":0},null,{"$f":"SUMIF(Feuil4!$B:$B,Consolidation!$B62,Feuil4!$H:$H)","v":0},null,{"$f":"SUMIF(Feuil5!$B:$B,Consolidation!$B62,Feuil5!$H:$H)","v":0},null,0,0,0]
["InsererLigne",3490,"Récupération LAA",{"$f":"SUMIF(Feuil1!$B:$B,Consolidation!$B63,Feuil1!$D:$D)","v":0},null,{"$f":"SUMIF(Feuil2!$B:$B,Consolidation!$B63,Feuil2!$D:$D)","v":0},null,{"$f":"SUMIF(Feuil3!$B:$B,Consolidation!$B63,Feuil3!$D:$D)","v":0},null,{"$f":"SUMIF(Feuil4!$B:$B,Consolidation!$B63,Feuil4!$D:$D)","v":0},null,{"$f":"SUMIF(Feuil5!$B:$B,Consolidation!$B63,Feuil5!$D:$D)","v":0},null,0,0,{"$f":"SUMIF(Feuil1!$B:$B,Consolidation!$B63,Feuil1!$F:$F)","v":0},null,{"$f":"SUMIF(Feuil2!$B:$B,Consolidation!$B63,Feuil2!$F:$F)","v":0},null,{"$f":"SUMIF(Feuil3!$B:$B,Consolidation!$B63,Feuil3!$F:$F)","v":0},null,{"$f":"SUMIF(Feuil4!$B:$B,Consolidation!$B63,Feuil4!$F:$F)","v":0},null,{"$f":"SUMIF(Feuil5!$B:$B,Consolidation!$B63,Feuil5!$F:$F)","v":0},null,0,0,{"$f":"SUMIF(Feuil1!$B:$B,Consolidation!$B63,Feuil1!$H:$H)","v":0},null,{"$f":"SUMIF(Feuil2!$B:$B,Consolidation!$B63,Feuil2!$H:$H)","v":0},null,{"$f":"SUMIF(Feuil3!$B:$B,Consolidation!$B63,Feuil3!$H:$H)","v":0},null,{"$f":"SUMIF(Feuil4!$B:$B,Consolidation!$B63,Feuil4!$H:$H)","v":0},null,{"$f":"SUMIF(Feuil5!$B:$B,Consolidation!$B63,Feuil5!$H:$H)","v":0},null,0,0,0]
["InsererLigne",3491,"Récupération APG",{"$f":"SUMIF(Feuil1!$B:$B,Consolidation!$B64,Feuil1!$D:$D)","v":0},null,{"$f":"SUMIF(Feuil2!$B:$B,Consolidation!$B64,Feuil2!$D:$D)","v":0},null,{"$f":"SUMIF(Feuil3!$B:$B,Consolidation!$B64,Feuil3!$D:$D)","v":0},null,{"$f":"SUMIF(Feuil4!$B:$B,Consolidation!$B64,Feuil4!$D:$D)","v":0},null,{"$f":"SUMIF(Feuil5!$B:$B,Consolidation!$B64,Feuil5!$D:$D)","v":0},null,0,0,{"$f":"SUMIF(Feuil1!$B:$B,Consolidation!$B64,Feuil1!$F:$F)","v":0},null,{"$f":"SUMIF(Feuil2!$B:$B,Consolidation!$B64,Feuil2!$F:$F)","v":0},null,{"$f":"SUMIF(Feuil3!$B:$B,Consolidation!$B64,Feuil3!$F:$F)","v":0},null,{"$f":"SUMIF(Feuil4!$B:$B,Consolidation!$B64,Feuil4!$F:$F)","v":0},null,{"$f":"SUMIF(Feuil5!$B:$B,Consolidation!$B64,Feuil5!$F:$F)","v":0},null,0,0,{"$f":"SUMIF(Feuil1!$B:$B,Consolidation!$B64,Feuil1!$H:$H)","v":0},null,{"$f":"SUMIF(Feuil2!$B:$B,Consolidation!$B64,Feuil2!$H:$H)","v":0},null,{"$f":"SUMIF(Feuil3!$B:$B,Consolidation!$B64,Feuil3!$H:$H)","v":0},null,{"$f":"SUMIF(Feuil4!$B:$B,Consolidation!$B64,Feuil4!$H:$H)","v":0},null,{"$f":"SUMIF(Feuil5!$B:$B,Consolidation!$B64,Feuil5!$H:$H)","v":0},null,0,0,0]
["InsererLigne",3492,"Récupération diverses",{"$f":"SUMIF(Feuil1!$B:$B,Consolidation!$B65,Feuil1!$D:$D)","v":0},null,{"$f":"SUMIF(Feuil2!$B:$B,Consolidation!$B65,Feuil2!$D:$D)","v":0},null,{"$f":"SUMIF(Feuil3!$B:$B,Consolidation!$B65,Feuil3!$D:$D)","v":0},null,{"$f":"SUMIF(Feuil4!$B:$B,Consolidation!$B65,Feuil4!$D:$D)","v":0},null,{"$f":"SUMIF(Feuil5!$B:$B,Consolidation!$B65,Feuil5!$D:$D)","v":0},null,0,0,{"$f":"SUMIF(Feuil1!$B:$B,Consolidation!$B65,Feuil1!$F:$F)","v":0},null,{"$f":"SUMIF(Feuil2!$B:$B,Consolidation!$B65,Feuil2!$F:$F)","v":0},null,{"$f":"SUMIF(Feuil3!$B:$B,Consolidation!$B65,Feuil3!$F:$F)","v":0},null,{"$f":"SUMIF(Feuil4!$B:$B,Consolidation!$B65,Feuil4!$F:$F)","v":0},null,{"$f":"SUMIF(Feuil5!$B:$B,Consolidation!$B65,Feuil5!$F:$F)","v":0},null,0,0,{"$f":"SUMIF(Feuil1!$B:$B,Consolidation!$B65,Feuil1!$H:$H)","v":0},null,{"$f":"SUMIF(Feuil2!$B:$B,Consolidation!$B65,Feuil2!$H:$H)","v":0},null,{"$f":"SUMIF(Feuil3!$B:$B,Consolidation!$B65,Feuil3!$H:$H)","v":0},null,{"$f":"SUMIF(Feuil4!$B:$B,Consolidation!$B65,Feuil4!$H:$H)","v":0},null,{"$f":"SUMIF(Feuil5!$B:$B,Consolidation!$B65,Feuil5!$H:$H)","v":0},null,0,0,0]
["InsererLigne",null,null,null,null,null,null,null,null,null,null,null,null,null,null,null,null,null,null,null,null,null,null,null,null,null,null,null,null,null,null,null,null,null,null,null,null,null,null,0]
[null,35,"Salaires service technique",{"$f":"SUBTOTAL(9,D68:D75)","v":0},{"$f":"IF($E$5>0,D67/$E$5,0)","v":0},{"$f":"SUBTOTAL(9,F68:F75)","v":0},{"$f":"IF($G$5>0,F67/$G$5,0)","v":0},{"$f":"SUBTOTAL(9,H68:H75)","v":0},{"$f":"IF($I$5>0,H67/$I$5,0)","v":0},{"$f":"SUBTOTAL(9,J68:J75)","v":0},{"$f":"IF($K$5>0,J67/$K$5,0)","v":0},{"$f":"SUBTOTAL(9,L68:L75)","v":0},{"$f":"IF($M$5>0,L67/$M$5,0)","v":0},{"$f":"D67+F67+H67+J67+L67","v":0},{"$f":"E67+G67+I67+K67+M67","v":0},{"$f":"SUBTOTAL(9,P68:P75)","v":0},{"$f":"IF($Q$5>0,P67/$Q$5,0)","v":0},{"$f":"SUBTOTAL(9,R68:R75)","v":0},{"$f":"IF($S$5>0,R67/$S$5,0)","v":0},{"$f":"SUBTOTAL(9,T68:T75)","v":0},{"$f":"IF($U$5>0,T67/$U$5,0)","v":0},{"$f":"SUBTOTAL(9,V68:V75)","v":0},{"$f":"IF($W$5>0,V67/$W$5,0)","v":0},{"$f":"SUBTOTAL(9,X68:X75)","v":0},{"$f":"IF($Y$5>0,X67/$Y$5,0)","v":0},{"$f":"P67+R67+T67+V67+X67","v":0},{"$f":"Q67+S67+U67+W67+Y67","v":0},{"$f":"SUBTOTAL(9,AB68:AB75)","v":0},{"$f":"IF($AC$5>0,AB67/$AC$5,0)","v":0},{"$f":"SUBTOTAL(9,AD68:AD75)","v":0},{"$f":"IF($AE$5>0,AD67/$AE$5,0)","v":0},{"$f":"SUBTOTAL(9,AF68:AF75)","v":0},{"$f":"IF($AG$5>0,AF67/$AG$5,0)","v":0},{"$f":"SUBTOTAL(9,AH68:AH75)","v":0},{"$f":"IF($AI$5>0,AH67/$AI$5,0)","v":0},{"$f":"SUBTOTAL(9,AJ68:AJ75)","v":0},{"$f":"IF($AK$5>0,AJ67/$AK$5,0)","v":0},{"$f":"AB67+AD67+AF67+AH67+AJ67","v":0},{"$f":"AC67+AE67+AG67+AI67+AK67","v":0},0]
[null,3500,"Salaires conciergerie                                                  ",{"$f":"SUMIF(Feuil1!$B:$B,Consolidation!$B68,Feuil1!$D:$D)","v":0},null,{"$f":"SUMIF(Feuil2!$B:$B,Consolidation!$B68,Feuil2!$D:$D)","v":0},null,{"$f":"SUMIF(Feuil3!$B:$B,Consolidation!$B68,Feuil3!$D:$D)","v":0},null,{"$f":"SUMIF(Feuil4!$B:$B,Consolidation!$B68,Feuil4!$D:$D)","v":0},null,{"$f":"SUMIF(Feuil5!$B:$B,Consolidation!$B68,Feuil5!$D:$D)","v":0},null,{"$f":"D68+F68+H68+J68+L68","v":0},{"$f":"E68+G68+I68+K68+M68","v":0},{"$f":"SUMIF(Feuil1!$B:$B,Consolidation!$B68,Feuil1!$F:$F)","v":0},null,{"$f":"SUMIF(Feuil2!$B:$B,Consolidation!$B68,Feuil2!$F:$F)","v":0},null,{"$f":"SUMIF(Feuil3!$B:$B,Consolidation!$B68,Feuil3!$F:$F)","v":0},null,{"$f":"SUMIF(Feuil4!$B:$B,Consolidation!$B68,Feuil4!$F:$F)","v":0},null,{"$f":"SUMIF(Feuil5!$B:$B,Consolidation!$B68,Feuil5!$F:$F)","v":0},null,{"$f":"P68+R68+T68+V68+X68","v":0},{"$f":"Q68+S68+U68+W68+Y68","v":0},{"$f":"SUMIF(Feuil1!$B:$B,Consolidation!$B68,Feuil1!$H:$H)","v":0},null,{"$f":"SUMIF(Feuil2!$B:$B,Consolidation!$B68,Feuil2!$H:$H)","v":0},null,{"$f":"SUMIF(Feuil3!$B:$B,Consolidation!$B68,Feuil3!$H:$H)","v":0},null,{"$f":"SUMIF(Feuil4!$B:$B,Consolidation!$B68,Feuil4!$H:$H)","v":0},null,{"$f":"SUMIF(Feuil5!$B:$B,Consolidation!$B68,Feuil5!$H:$H)","v":0},null,{"$f":"AB68+AD68+AF68+AH68+AJ68","v":0},{"$f":"AC68+AE68+AG68+AI68+AK68","v":0},0]
["InsererLigne",3510,"Salaires jardiniers, chauffeur                                                  ",{"$f":"SUMIF(Feuil1!$B:$B,Consolidation!$B69,Feuil1!$D:$D)","v":0},null,{"$f":"SUMIF(Feuil2!$B:$B,Consolidation!$B69,Feuil2!$D:$D)","v":0},null,{"$f":"SUMIF(Feuil3!$B:$B,Consolidation!$B69,Feuil3!$D:$D)","v":0},null,{"$f":"SUMIF(Feuil4!$B:$B,Consolidation!$B69,Feuil4!$D:$D)","v":0},null,{"$f":"SUMIF(Feuil5!$B:$B,Consolidation!$B69,Feuil5!$D:$D)","v":0},null,0,0,{"$f":"SUMIF(Feuil1!$B:$B,Consolidation!$B69,Feuil1!$F:$F)","v":0},null,{"$f":"SUMIF(Feuil2!$B:$B,Consolidation!$B69,Feuil2!$F:$F)","v":0},null,{"$f":"SUMIF(Feuil3!$B:$B,Consolidation!$B69,Feuil3!$F:$F)","v":0},null,{"$f":"SUMIF(Feuil4!$B:$B,Consolidation!$B69,Feuil4!$F:$F)","v":0},null,{"$f":"SUMIF(Feuil5!$B:$B,Consolidation!$B69,Feuil5!$F:$F)","v":0},null,0,0,{"$f":"SUMIF(Feuil1!$B:$B,Consolidation!$B69,Feuil1!$H:$H)","v":0},null,{"$f":"SUMIF(Feuil2!$B:$B,Consolidation!$B69,Feuil2!$H:$H)","v":0},null,{"$f":"SUMIF(Feuil3!$B:$B,Consolidation!$B69,Feuil3!$H:$H)","v":0},null,{"$f":"SUMIF(Feuil4!$B:$B,Consolidation!$B69,Feuil4!$H:$H)","v":0},null,{"$f":"SUMIF(Feuil5!$B:$B,Consolidation!$B69,Feuil5!$H:$H)","v":0},null,0,0,0]
["InsererLigne",3520,"Remplaçant(e)s                                                  ",{"$f":"SUMIF(Feuil1!$B:$B,Consolidation!$B70,Feuil1!$D:$D)","v":0},null,{"$f":"SUMIF(Feuil2!$B:$B,Consolidation!$B70,Feuil2!$D:$D)","v":0},null,{"$f":"SUMIF(Feuil3!$B:$B,Consolidation!$B70,Feuil3!$D:$D)","v":0},null,{"$f":"SUMIF(Feuil4!$B:$B,Consolidation!$B70,Feuil4!$D:$D)","v":0},null,{"$f":"SUMIF(Feuil5!$B:$B,Consolidation!$B70,Feuil5!$D:$D)","v":0},null,0,0,{"$f":"SUMIF(Feuil1!$B:$B,Consolidation!$B70,Feuil1!$F:$F)","v":0},null,{"$f":"SUMIF(Feuil2!$B:$B,Consolidation!$B70,Feuil2!$F:$F)","v":0},null,{"$f":"SUMIF(Feuil3!$B:$B,Consolidation!$B70,Feuil3!$F:$F)","v":0},null,{"$f":"SUMIF(Feuil4!$B:$B,Consolidation!$B70,Feuil4!$F:$F)","v":0},null,{"$f":"SUMIF(Feuil5!$B:$B,Consolidation!$B70,Feuil5!$F:$F)","v":0},null,0,0,{"$f":"SUMIF(Feuil1!$B:$B,Consolidation!$B70,Feuil1!$H:$H)","v":0},null,{"$f":"SUMIF(Feuil2!$B:$B,Consolidation!$B70,Feuil2!$H:$H)","v":0},null,{"$f":"SUMIF(Feuil3!$B:$B,Consolidation!$B70,Feuil3!$H:$H)","v":0},null,{"$f":"SUMIF(Feuil4!$B:$B,Consolidation!$B70,Feuil4!$H:$H)","v":0},null,{"$f":"SUMIF(Feuil5!$B:$B,Consolidation!$B70,Feuil5!$H:$H)","v":0},null,0,0,0]
["InsererLigne",3530,"Stagiaires et apprentis                                                  ",{"$f":"SUMIF(Feuil1!$B:$B,Consolidation!$B71,Feuil1!$D:$D)","v":0},null,{"$f":"SUMIF(Feuil2!$B:$B,Consolidation!$B71,Feuil2!$D:$D)","v":0},null,{"$f":"SUMIF(Feuil3!$B:$B,Consolidation!$B71,Feuil3!$D:$D)","v":0},null,{"$f":"SUMIF(Feuil4!$B:$B,Consolidation!$B71,Feuil4!$D:$D)","v":0},null,{"$f":"SUMIF(Feuil5!$B:$B,Consolidation!$B71,Feuil5!$D:$D)","v":0},null,0,0,{"$f":"SUMIF(Feuil1!$B:$B,Consolidation!$B71,Feuil1!$F:$F)","v":0},null,{"$f":"SUMIF(Feuil2!$B:$B,Consolidation!$B71,Feuil2!$F:$F)","v":0},null,{"$f":"SUMIF(Feuil3!$B:$B,Consolidation!$B71,Feuil3!$F:$F)","v":0},null,{"$f":"SUMIF(Feuil4!$B:$B,Consolidation!$B71,Feuil4!$F:$F)","v":0},null,{"$f":"SUMIF(Feuil5!$B:$B,Consolidation!$B71,Feuil5!$F:$F)","v":0},null,0,0,{"$f":"SUMIF(Feuil1!$B:$B,Consolidation!$B71,Feuil1!$H:$H)","v":0},null,{"$f":"SUMIF(Feuil2!$B:$B,Consolidation!$B71,Feuil2!$H:$H)","v":0},null,{"$f":"SUMIF(Feuil3!$B:$B,Consolidation!$B71,Feuil3!$H:$H)","v":0},null,{"$f":"SUMIF(Feuil4!$B:$B,Consolidation!$B71,Feuil4!$H:$H)","v":0},null,{"$f":"SUMIF(Feuil5!$B:$B,Consolidation!$B71,Feuil5!$H:$H)","v":0},null,0,0,{"$f":"SUM(D71:AM71)","v":0}]
["InsererLigne",3590,"Récupération LAA",{"$f":"SUMIF(Feuil1!$B:$B,Consolidation!$B72,Feuil1!$D:$D)","v":0},null,{"$f":"SUMIF(Feuil2!$B:$B,Consolidation!$B72,Feuil2!$D:$D)","v":0},null,{"$f":"SUMIF(Feuil3!$B:$B,Consolidation!$B72,Feuil3!$D:$D)","v":0},null,{"$f":"SUMIF(Feuil4!$B:$B,Consolidation!$B72,Feuil4!$D:$D)","v":0},null,{"$f":"SUMIF(Feuil5!$B:$B,Consolidation!$B72,Feuil5!$D:$D)","v":0},null,0,0,{"$f":"SUMIF(Feuil1!$B:$B,Consolidation!$B72,Feuil1!$F:$F)","v":0},null,{"$f":"SUMIF(Feuil2!$B:$B,Consolidation!$B72,Feuil2!$F:$F)","v":0},null,{"$f":"SUMIF(Feuil3!$B:$B,Consolidation!$B72,Feuil3!$F:$F)","v":0},null,{"$f":"SUMIF(Feuil4!$B:$B,Consolidation!$B72,Feuil4!$F:$F)","v":0},null,{"$f":"SUMIF(Feuil5!$B:$B,Consolidation!$B72,Feuil5!$F:$F)","v":0},null,0,0,{"$f":"SUMIF(Feuil1!$B:$B,Consolidation!$B72,Feuil1!$H:$H)","v":0},null,{"$f":"SUMIF(Feuil2!$B:$B,Consolidation!$B72,Feuil2!$H:$H)","v":0},null,{"$f":"SUMIF(Feuil3!$B:$B,Consolidation!$B72,Feuil3!$H:$H)","v":0},null,{"$f":"SUMIF(Feuil4!$B:$B,Consolidation!$B72,Feuil4!$H:$H)","v":0},null,{"$f":"SUMIF(Feuil5!$B:$B,Consolidation!$B72,Feuil5!$H:$H)","v":0},null,0,0,0]
["InsererLigne",3591,"Récupération APG",{"$f":"SUMIF(Feuil1!$B:$B,Consolidation!$B73,Feuil1!$D:$D)","v":0},null,{"$f":"SUMIF(Feuil2!$B:$B,Consolidation!$B73,Feuil2!$D:$D)","v":0},null,{"$f":"SUMIF(Feuil3!$B:$B,Consolidation!$B73,Feuil3!$D:$D)","v":0},null,{"$f":"SUMIF(Feuil4!$B:$B,Consolidation!$B73,Feuil4!$D:$D)","v":0},null,{"$f":"SUMIF(Feuil5!$B:$B,Consolidation!$B73,Feuil5!$D:$D)","v":0},null,0,0,{"$f":"SUMIF(Feuil1!$B:$B,Consolidation!$B73,Feuil1!$F:$F)","v":0},null,{"$f":"SUMIF(Feuil2!$B:$B,Consolidation!$B73,Feuil2!$F:$F)","v":0},null,{"$f":"SUMIF(Feuil3!$B:$B,Consolidation!$B73,Feuil3!$F:$F)","v":0},null,{"$f":"SUMIF(Feuil4!$B:$B,Consolidation!$B73,Feuil4!$F:$F)","v":0},null,{"$f":"SUMIF(Feuil5!$B:$B,Consolidation!$B73,Feuil5!$F:$F)","v":0},null,0,0,{"$f":"SUMIF(Feuil1!$B:$B,Consolidation!$B73,Feuil1!$H:$H)","v":0},null,{"$f":"SUMIF(Feuil2!$B:$B,Consolidation!$B73,Feuil2!$H:$H)","v":0},null,{"$f":"SUMIF(Feuil3!$B:$B,Consolidation!$B73,Feuil3!$H:$H)","v":0},null,{"$f":"SUMIF(Feuil4!$B:$B,Consolidation!$B73,Feuil4!$H:$H)","v":0},null,{"$f":"SUMIF(Feuil5!$B:$B,Consolidation!$B73,Feuil5!$H:$H)","v":0},null,0,0,0]
["InsererLigne",3592,"Récupération diverses",{"$f":"SUMIF(Feuil1!$B:$B,Consolidation!$B74,Feuil1!$D:$D)","v":0},null,{"$f":"SUMIF(Feuil2!$B:$B,Consolidation!$B74,Feuil2!$D:$D)","v":0},null,{"$f":"SUMIF(Feuil3!$B:$B,Consolidation!$B74,Feuil3!$D:$D)","v":0},null,{"$f":"SUMIF(Feuil4!$B:$B,Consolidation!$B74,Feuil4!$D:$D)","v":0},null,{"$f":"SUMIF(Feuil5!$B:$B,Consolidation!$B74,Feuil5!$D:$D)","v":0},null,0,0,{"$f":"SUMIF(Feuil1!$B:$B,Consolidation!$B74,Feuil1!$F:$F)","v":0},null,{"$f":"SUMIF(Feuil2!$B:$B,Consolidation!$B74,Feuil2!$F:$F)","v":0},null,{"$f":"SUMIF(Feuil3!$B:$B,Consolidation!$B74,Feuil3!$F:$F)","v":0},null,{"$f":"SUMIF(Feuil4!$B:$B,Consolidation!$B74,Feuil4!$F:$F)","v":0},null,{"$f":"SUMIF(Feuil5!$B:$B,Consolidation!$B74,Feuil5!$F:$F)","v":0},null,0,0,{"$f":"SUMIF(Feuil1!$B:$B,Consolidation!$B74,Feuil1!$H:$H)","v":0},null,{"$f":"SUMIF(Feuil2!$B:$B,Consolidation!$B74,Feuil2!$H:$H)","v":0},null,{"$f":"SUMIF(Feuil3!$B:$B,Consolidation!$B74,Feuil3!$H:$H)","v":0},null,{"$f":"SUMIF(Feuil4!$B:$B,Consolidation!$B74,Feuil4!$H:$H)","v":0},null,{"$f":"SUMIF(Feuil5!$B:$B,Consolidation!$B74,Feuil5!$H:$H)","v":0},null,0,0,0]
["InsererLigne",null,null,null,null,null,null,null,null,null,null,null,null,null,null,null,null,null,null,null,null,null,null,null,null,null,null,null,null,null,null,null,null,null,null,null,null,null,null,0]
[null,36,"Salaires ateliers et ateliers d'occupation intégré",{"$f":"SUBTOTAL(9,D77:D87)","v":0},{"$f":"IF($E$5>0,D76/$E$5,0)","v":0},{"$f":"SUBTOTAL(9,F77:F87)","v":0},{"$f":"IF($G$5>0,F76/$G$5,0)","v":0},{"$f":"SUBTOTAL(9,H77:H87)","v":0},{"$f":"IF($I$5>0,H76/$I$5,0)","v":0},{"$f":"SUBTOTAL(9,J77:J87)","v":0},{"$f":"IF($K$5>0,J76/$K$5,0)","v":0},{"$f":"SUBTOTAL(9,L77:L87)","v":0},{"$f":"IF($M$5>0,L76/$M$5,0)","v":0},{"$f":"D76+F76+H76+J76+L76","v":0},{"$f":"E76+G76+I76+K76+M76","v":0},{"$f":"SUBTOTAL(9,P77:P87)","v":0},{"$f":"IF($Q$5>0,P76/$Q$5,0)","v":0},{"$f":"SUBTOTAL(9,R77:R87)","v":0},{"$f":"IF($S$5>0,R76/$S$5,0)","v":0},{"$f":"SUBTOTAL(9,T77:T87)","v":0},{"$f":"IF($U$5>0,T76/$U$5,0)","v":0},{"$f":"SUBTOTAL(9,V77:V87)","v":0},{"$f":"IF($W$5>0,V76/$W$5,0)","v":0},{"$f":"SUBTOTAL(9,X77:X87)","v":0},{"$f":"IF($Y$5>0,X76/$Y$5,0)","v":0},{"$f":"P76+R76+T76+V76+X76","v":0},{"$f":"Q76+S76+U76+W76+Y76","v":0},{"$f":"SUBTOTAL(9,AB77:AB87)","v":0},{"$f":"IF($AC$5>0,AB76/$AC$5,0)","v":0},{"$f":"SUBTOTAL(9,AD77:AD87)","v":0},{"$f":"IF($AE$5>0,AD76/$AE$5,0)","v":0},{"$f":"SUBTOTAL(9,AF77:AF87)","v":0},{"$f":"IF($AG$5>0,AF76/$AG$5,0)","v":0},{"$f":"SUBTOTAL(9,AH77:AH87)","v":0},{"$f":"IF($AI$5>0,AH76/$AI$5,0)","v":0},{"$f":"SUBTOTAL(9,AJ77:AJ87)","v":0},{"$f":"IF($AK$5>0,AJ76/$AK$5,0)","v":0},{"$f":"AB76+AD76+AF76+AH76+AJ76","v":0},{"$f":"AC76+AE76+AG76+AI76+AK76","v":0},0]
[null,3600,"Moniteurs / maîtres socioprofessionnels                                                  ",{"$f":"SUMIF(Feuil1!$B:$B,Consolidation!$B77,Feuil1!$D:$D)","v":0},null,{"$f":"SUMIF(Feuil2!$B:$B,Consolidation!$B77,Feuil2!$D:$D)","v":0},null,{"$f":"SUMIF(Feuil3!$B:$B,Consolidation!$B77,Feuil3!$D:$D)","v":0},null,{"$f":"SUMIF(Feuil4!$B:$B,Consolidation!$B77,Feuil4!$D:$D)","v":0},null,{"$f":"SUMIF(Feuil5!$B:$B,Consolidation!$B77,Feuil5!$D:$D)","v":0},null,{"$f":"D77+F77+H77+J77+L77","v":0},{"$f":"E77+G77+I77+K77+M77","v":0},{"$f":"SUMIF(Feuil1!$B:$B,Consolidation!$B77,Feuil1!$F:$F)","v":0},null,{"$f":"SUMIF(Feuil2!$B:$B,Consolidation!$B77,Feuil2!$F:$F)","v":0},null,{"$f":"SUMIF(Feuil3!$B:$B,Consolidation!$B77,Feuil3!$F:$F)","v":0},null,{"$f":"SUMIF(Feuil4!$B:$B,Consolidation!$B77,Feuil4!$F:$F)","v":0},null,{"$f":"SUMIF(Feuil5!$B:$B,Consolidation!$B77,Feuil5!$F:$F)","v":0},null,{"$f":"P77+R77+T77+V77+X77","v":0},{"$f":"Q77+S77+U77+W77+Y77","v":0},{"$f":"SUMIF(Feuil1!$B:$B,Consolidation!$B77,Feuil1!$H:$H)","v":0},null,{"$f":"SUMIF(Feuil2!$B:$B,Consolidation!$B77,Feuil2!$H:$H)","v":0},null,{"$f":"SUMIF(Feuil3!$B:$B,Consolidation!$B77,Feuil3!$H:$H)","v":0},null,{"$f":"SUMIF(Feuil4!$B:$B,Consolidation!$B77,Feuil4!$H:$H)","v":0},null,{"$f":"SUMIF(Feuil5!$B:$B,Consolidation!$B77,Feuil5!$H:$H)","v":0},null,{"$f":"AB77+AD77+AF77+AH77+AJ77","v":0},{"$f":"AC77+AE77+AG77+AI77+AK77","v":0},0]
["InsererLigne",3620,"Remplaçant(e)s                                                  ",{"$f":"SUMIF(Feuil1!$B:$B,Consolidation!$B78,Feuil1!$D:$D)","v":0},null,{"$f":"SUMIF(Feuil2!$B:$B,Consolidation!$B78,Feuil2!$D:$D)","v":0},null,{"$f":"SUMIF(Feuil3!$B:$B,Consolidation!$B78,Feuil3!$D:$D)","v":0},null,{"$f":"SUMIF(Feuil4!$B:$B,Consolidation!$B78,Feuil4!$D:$D)","v":0},null,{"$f":"SUMIF(Feuil5!$B:$B,Consolidation!$B78,Feuil5!$D:$D)","v":0},null,0,0,{"$f":"SUMIF(Feuil1!$B:$B,Consolidation!$B78,Feuil1!$F:$F)","v":0},null,{"$f":"SUMIF(Feuil2!$B:$B,Consolidation!$B78,Feuil2!$F:$F)","v":0},null,{"$f":"SUMIF(Feuil3!$B:$B,Consolidation!$B78,Feuil3!$F:$F)","v":0},null,{"$f":"SUMIF(Feuil4!$B:$B,Consolidation!$B78,Feuil4!$F:$F)","v":0},null,{"$f":"SUMIF(Feuil5!$B:$B,Consolidation!$B78,Feuil5!$F:$F)","v":0},null,0,0,{"$f":"SUMIF(Feuil1!$B:$B,Consolidation!$B78,Feuil1!$H:$H)","v":0},null,{"$f":"SUMIF(Feuil2!$B:$B,Consolidation!$B78,Feuil2!$H:$H)","v":0},null,{"$f":"SUMIF(Feuil3!$B:$B,Consolidation!$B78,Feuil3!$H:$H)","v":0},null,{"$f":"SUMIF(Feuil4!$B:$B,Consolidation!$B78,Feuil4!$H:$H)","v":0},null,{"$f":"SUMIF(Feuil5!$B:$B,Consolidation!$B78,Feuil5!$H:$H)","v":0},null,0,0,0]
["InsererLigne",3621,"Remplaçant(e)s accident moniteur",{"$f":"SUMIF(Feuil1!$B:$B,Consolidation!$B79,Feuil1!$D:$D)","v":0},null,{"$f":"SUMIF(Feuil2!$B:$B,Consolidation!$B79,Feuil2!$D:$D)","v":0},null,{"$f":"SUMIF(Feuil3!$B:$B,Consolidation!$B79,Feuil3!$D:$D)","v":0},null,{"$f":"SUMIF(Feuil4!$B:$B,Consolidation!$B79,Feuil4!$D:$D)","v":0},null,{"$f":"SUMIF(Feuil5!$B:$B,Consolidation!$B79,Feuil5!$D:$D)","v":0},null,null,null,{"$f":"SUMIF(Feuil1!$B:$B,Consolidation!$B79,Feuil1!$F:$F)","v":0},null,{"$f":"SUMIF(Feuil2!$B:$B,Consolidation!$B79,Feuil2!$F:$F)","v":0},null,{"$f":"SUMIF(Feuil3!$B:$B,Consolidation!$B79,Feuil3!$F:$F)","v":0},null,{"$f":"SUMIF(Feuil4!$B:$B,Consolidation!$B79,Feuil4!$F:$F)","v":0},null,{"$f":"SUMIF(Feuil5!$B:$B,Consolidation!$B79,Feuil5!$F:$F)","v":0},null,null,null,{"$f":"SUMIF(Feuil1!$B:$B,Consolidation!$B79,Feuil1!$H:$H)","v":0},null,{"$f":"SUMIF(Feuil2!$B:$B,Consolidation!$B79,Feuil2!$H:$H)","v":0},null,{"$f":"SUMIF(Feuil3!$B:$B,Consolidation!$B79,Feuil3!$H:$H)","v":0},null,{"$f":"SUMIF(Feuil4!$B:$B,Consolidation!$B79,Feuil4!$H:$H)","v":0},null,{"$f":"SUMIF(Feuil5!$B:$B,Consolidation!$B79,Feuil5!$H:$H)","v":0},null,null,null,0]
["InsererLigne",3623,"Fonds caisse de remplacements",{"$f":"SUMIF(Feuil1!$B:$B,Consolidation!$B80,Feuil1!$D:$D)","v":0},null,{"$f":"SUMIF(Feuil2!$B:$B,Consolidation!$B80,Feuil2!$D:$D)","v":0},null,{"$f":"SUMIF(Feuil3!$B:$B,Consolidation!$B80,Feuil3!$D:$D)","v":0},null,{"$f":"SUMIF(Feuil4!$B:$B,Consolidation!$B80,Feuil4!$D:$D)","v":0},null,{"$f":"SUMIF(Feuil5!$B:$B,Consolidation!$B80,Feuil5!$D:$D)","v":0},null,null,null,{"$f":"SUMIF(Feuil1!$B:$B,Consolidation!$B80,Feuil1!$F:$F)","v":0},null,{"$f":"SUMIF(Feuil2!$B:$B,Consolidation!$B80,Feuil2!$F:$F)","v":0},null,{"$f":"SUMIF(Feuil3!$B:$B,Consolidation!$B80,Feuil3!$F:$F)","v":0},null,{"$f":"SUMIF(Feuil4!$B:$B,Consolidation!$B80,Feuil4!$F:$F)","v":0},null,{"$f":"SUMIF(Feuil5!$B:$B,Consolidation!$B80,Feuil5!$F:$F)","v":0},null,null,null,{"$f":"SUMIF(Feuil1!$B:$B,Consolidation!$B80,Feuil1!$H:$H)","v":0},null,{"$f":"SUMIF(Feuil2!$B:$B,Consolidation!$B80,Feuil2!$H:$H)","v":0},null,{"$f":"SUMIF(Feuil3!$B:$B,Consolidation!$B80,Feuil3!$H:$H)","v":0},null,{"$f":"SUMIF(Feuil4!$B:$B,Consolidation!$B80,Feuil4!$H:$H)","v":0},null,{"$f":"SUMIF(Feuil5!$B:$B,Consolidation!$B80,Feuil5!$H:$H)","v":0},null,null,null,0]
["InsererLigne",3630,"Stagiaires et apprentis                                                  ",{"$f":"SUMIF(Feuil1!$B:$B,Consolidation!$B81,Feuil1!$D:$D)","v":0},null,{"$f":"SUMIF(Feuil2!$B:$B,Consolidation!$B81,Feuil2!$D:$D)","v":0},null,{"$f":"SUMIF(Feuil3!$B:$B,Consolidation!$B81,Feuil3!$D:$D)","v":0},null,{"$f":"SUMIF(Feuil4!$B:$B,Consolidation!$B81,Feuil4!$D:$D)","v":0},null,{"$f":"SUMIF(Feuil5!$B:$B,Consolidation!$B81,Feuil5!$D:$D)","v":0},null,0,0,{"$f":"SUMIF(Feuil1!$B:$B,Consolidation!$B81,Feuil1!$F:$F)","v":0},null,{"$f":"SUMIF(Feuil2!$B:$B,Consolidation!$B81,Feuil2!$F:$F)","v":0},null,{"$f":"SUMIF(Feuil3!$B:$B,Consolidation!$B81,Feuil3!$F:$F)","v":0},null,{"$f":"SUMIF(Feuil4!$B:$B,Consolidation!$B81,Feuil4!$F:$F)","v":0},null,{"$f":"SUMIF(Feuil5!$B:$B,Consolidation!$B81,Feuil5!$F:$F)","v":0},null,{"$f":"P81+R81+T81+V81+X81","v":0},{"$f":"Q81+S81+U81+W81+Y81","v":0},{"$f":"SUMIF(Feuil1!$B:$B,Consolidation!$B81,Feuil1!$H:$H)","v":0},null,{"$f":"SUMIF(Feuil2!$B:$B,Consolidation!$B81,Feuil2!$H:$H)","v":0},null,{"$f":"SUMIF(Feuil3!$B:$B,Consolidation!$B81,Feuil3!$H:$H)","v":0},null,{"$f":"SUMIF(Feuil4!$B:$B,Consolidation!$B81,Feuil4!$H:$H)","v":0},null,{"$f":"SUMIF(Feuil5!$B:$B,Consolidation!$B81,Feuil5!$H:$H)","v":0},null,{"$f":"AB81+AD81+AF81+AH81+AJ81","v":0},{"$f":"AC81+AE81+AG81+AI81+AK81","v":0},0]
["InsererLigne",3640,"Chefs d'atelier, autre personnel                                                  ",{"$f":"SUMIF(Feuil1!$B:$B,Consolidation!$B82,Feuil1!$D:$D)","v":0},null,{"$f":"SUMIF(Feuil2!$B:$B,Consolidation!$B82,Feuil2!$D:$D)","v":0},null,{"$f":"SUMIF(Feuil3!$B:$B,Consolidation!$B82,Feuil3!$D:$D)","v":0},null,{"$f":"SUMIF(Feuil4!$B:$B,Consolidation!$B82,Feuil4!$D:$D)","v":0},null,{"$f":"SUMIF(Feuil5!$B:$B,Consolidation!$B82,Feuil5!$D:$D)","v":0},null,0,0,{"$f":"SUMIF(Feuil1!$B:$B,Consolidation!$B82,Feuil1!$F:$F)","v":0},null,{"$f":"SUMIF(Feuil2!$B:$B,Consolidation!$B82,Feuil2!$F:$F)","v":0},null,{"$f":"SUMIF(Feuil3!$B:$B,Consolidation!$B82,Feuil3!$F:$F)","v":0},null,{"$f":"SUMIF(Feuil4!$B:$B,Consolidation!$B82,Feuil4!$F:$F)","v":0},null,{"$f":"SUMIF(Feuil5!$B:$B,Consolidation!$B82,Feuil5!$F:$F)","v":0},null,0,0,{"$f":"SUMIF(Feuil1!$B:$B,Consolidation!$B82,Feuil1!$H:$H)","v":0},null,{"$f":"SUMIF(Feuil2!$B:$B,Consolidation!$B82,Feuil2!$H:$H)","v":0},null,{"$f":"SUMIF(Feuil3!$B:$B,Consolidation!$B82,Feuil3!$H:$H)","v":0},null,{"$f":"SUMIF(Feuil4!$B:$B,Consolidation!$B82,Feuil4!$H:$H)","v":0},null,{"$f":"SUMIF(Feuil5!$B:$B,Consolidation!$B82,Feuil5!$H:$H)","v":0},null,0,0,0]
["InsererLigne",3650,"Salaires handicapés/usagers",{"$f":"SUMIF(Feuil1!$B:$B,Consolidation!$B83,Feuil1!$D:$D)","v":0},null,{"$f":"SUMIF(Feuil2!$B:$B,Consolidation!$B83,Feuil2!$D:$D)","v":0},null,{"$f":"SUMIF(Feuil3!$B:$B,Consolidation!$B83,Feuil3!$D:$D)","v":0},null,{"$f":"SUMIF(Feuil4!$B:$B,Consolidation!$B83,Feuil4!$D:$D)","v":0},null,{"$f":"SUMIF(Feuil5!$B:$B,Consolidation!$B83,Feuil5!$D:$D)","v":0},null,0,0,{"$f":"SUMIF(Feuil1!$B:$B,Consolidation!$B83,Feuil1!$F:$F)","v":0},null,{"$f":"SUMIF(Feuil2!$B:$B,Consolidation!$B83,Feuil2!$F:$F)","v":0},null,{"$f":"SUMIF(Feuil3!$B:$B,Consolidation!$B83,Feuil3!$F:$F)","v":0},null,{"$f":"SUMIF(Feuil4!$B:$B,Consolidation!$B83,Feuil4!$F:$F)","v":0},null,{"$f":"SUMIF(Feuil5!$B:$B,Consolidation!$B83,Feuil5!$F:$F)","v":0},null,0,0,{"$f":"SUMIF(Feuil1!$B:$B,Consolidation!$B83,Feuil1!$H:$H)","v":0},null,{"$f":"SUMIF(Feuil2!$B:$B,Consolidation!$B83,Feuil2!$H:$H)","v":0},null,{"$f":"SUMIF(Feuil3!$B:$B,Consolidation!$B83,Feuil3!$H:$H)","v":0},null,{"$f":"SUMIF(Feuil4!$B:$B,Consolidation!$B83,Feuil4!$H:$H)","v":0},null,{"$f":"SUMIF(Feuil5!$B:$B,Consolidation!$B83,Feuil5!$H:$H)","v":0},null,0,0,0]
["InsererLigne",3690,"Récupération LAA",{"$f":"SUMIF(Feuil1!$B:$B,Consolidation!$B84,Feuil1!$D:$D)","v":0},null,{"$f":"SUMIF(Feuil2!$B:$B,Consolidation!$B84,Feuil2!$D:$D)","v":0},null,{"$f":"SUMIF(Feuil3!$B:$B,Consolidation!$B84,Feuil3!$D:$D)","v":0},null,{"$f":"SUMIF(Feuil4!$B:$B,Consolidation!$B84,Feuil4!$D:$D)","v":0},null,{"$f":"SUMIF(Feuil5!$B:$B,Consolidation!$B84,Feuil5!$D:$D)","v":0},null,0,0,{"$f":"SUMIF(Feuil1!$B:$B,Consolidation!$B84,Feuil1!$F:$F)","v":0},null,{"$f":"SUMIF(Feuil2!$B:$B,Consolidation!$B84,Feuil2!$F:$F)","v":0},null,{"$f":"SUMIF(Feuil3!$B:$B,Consolidation!$B84,Feuil3!$F:$F)","v":0},null,{"$f":"SUMIF(Feuil4!$B:$B,Consolidation!$B84,Feuil4!$F:$F)","v":0},null,{"$f":"SUMIF(Feuil5!$B:$B,Consolidation!$B84,Feuil5!$F:$F)","v":0},null,0,0,{"$f":"SUMIF(Feuil1!$B:$B,Consolidation!$B84,Feuil1!$H:$H)","v":0},null,{"$f":"SUMIF(Feuil2!$B:$B,Consolidation!$B84,Feuil2!$H:$H)","v":0},null,{"$f":"SUMIF(Feuil3!$B:$B,Consolidation!$B84,Feuil3!$H:$H)","v":0},null,{"$f":"SUMIF(Feuil4!$B:$B,Consolidation!$B84,Feuil4!$H:$H)","v":0},null,{"$f":"SUMIF(Feuil5!$B:$B,Consolidation!$B84,Feuil5!$H:$H)","v":0},null,0,0,0]
["InsererLigne",3691,"Récupération APG",{"$f":"SUMIF(Feuil1!$B:$B,Consolidation!$B85,Feuil1!$D:$D)","v":0},null,{"$f":"SUMIF(Feuil2!$B:$B,Consolidation!$B85,Feuil2!$D:$D)","v":0},null,{"$f":"SUMIF(Feuil3!$B:$B,Consolidation!$B85,Feuil3!$D:$D)","v":0},null,{"$f":"SUMIF(Feuil4!$B:$B,Consolidation!$B85,Feuil4!$D:$D)","v":0},null,{"$f":"SUMIF(Feuil5!$B:$B,Consolidation!$B85,Feuil5!$D:$D)","v":0},null,0,0,{"$f":"SUMIF(Feuil1!$B:$B,Consolidation!$B85,Feuil1!$F:$F)","v":0},null,{"$f":"SUMIF(Feuil2!$B:$B,Consolidation!$B85,Feuil2!$F:$F)","v":0},null,{"$f":"SUMIF(Feuil3!$B:$B,Consolidation!$B85,Feuil3!$F:$F)","v":0},null,{"$f":"SUMIF(Feuil4!$B:$B,Consolidation!$B85,Feuil4!$F:$F)","v":0},null,{"$f":"SUMIF(Feuil5!$B:$B,Consolidation!$B85,Feuil5!$F:$F)","v":0},null,0,0,{"$f":"SUMIF(Feuil1!$B:$B,Consolidation!$B85,Feuil1!$H:$H)","v":0},null,{"$f":"SUMIF(Feuil2!$B:$B,Consolidation!$B85,Feuil2!$H:$H)","v":0},null,{"$f":"SUMIF(Feuil3!$B:$B,Consolidation!$B85,Feuil3!$H:$H)","v":0},null,{"$f":"SUMIF(Feuil4!$B:$B,Consolidation!$B85,Feuil4!$H:$H)","v":0},null,{"$f":"SUMIF(Feuil5!$B:$B,Consolidation!$B85,Feuil5!$H:$H)","v":0},null,0,0,0]
["InsererLigne",3692,"Récupération diverses",{"$f":"SUMIF(Feuil1!$B:$B,Consolidation!$B86,Feuil1!$D:$D)","v":0},null,{"$f":"SUMIF(Feuil2!$B:$B,Consolidation!$B86,Feuil2!$D:$D)","v":0},null,{"$f":"SUMIF(Feuil3!$B:$B,Consolidation!$B86,Feuil3!$D:$D)","v":0},null,{"$f":"SUMIF(Feuil4!$B:$B,Consolidation!$B86,Feuil4!$D:$D)","v":0},null,{"$f":"SUMIF(Feuil5!$B:$B,Consolidation!$B86,Feuil5!$D:$D)","v":0},null,0,0,{"$f":"SUMIF(Feuil1!$B:$B,Consolidation!$B86,Feuil1!$F:$F)","v":0},null,{"$f":"SUMIF(Feuil2!$B:$B,Consolidation!$B86,Feuil2!$F:$F)","v":0},null,{"$f":"SUMIF(Feuil3!$B:$B,Consolidation!$B86,Feuil3!$F:$F)","v":0},null,{"$f":"SUMIF(Feuil4!$B:$B,Consolidation!$B86,Feuil4!$F:$F)","v":0},null,{"$f":"SUMIF(Feuil5!$B:$B,Consolidation!$B86,Feuil5!$F:$F)","v":0},null,0,0,{"$f":"SUMIF(Feuil1!$B:$B,Consolidation!$B86,Feuil1!$H:$H)","v":0},null,{"$f":"SUMIF(Feuil2!$B:$B,Consolidation!$B86,Feuil2!$H:$H)","v":0},null,{"$f":"SUMIF(Feuil3!$B:$B,Consolidation!$B86,Feuil3!$H:$H)","v":0},null,{"$f":"SUMIF(Feuil4!$B:$B,Consolidation!$B86,Feuil4!$H:$H)","v":0},null,{"$f":"SUMIF(Feuil5!$B:$B,Consolidation!$B86,Feuil5!$H:$H)","v":0},null,0,0,0]
["InsererLigne",null,null,null,null,null,null,null,null,null,null,null,null,null,null,null,null,null,null,null,null,null,null,null,null,null,null,null,null,null,null,null,null,null,null,null,null,null,null,0]
[null,37,"Charges sociales",{"$f":"SUBTOTAL(9,D89:D102)","v":0},{"$f":"IF($E$5>0,D88/$E$5,0)","v":0},{"$f":"SUBTOTAL(9,F89:F102)","v":0},{"$f":"IF($G$5>0,F88/$G$5,0)","v":0},{"$f":"SUBTOTAL(9,H89:H102)","v":0},{"$f":"IF($I$5>0,H88/$I$5,0)","v":0},{"$f":"SUBTOTAL(9,J89:J102)","v":0},{"$f":"IF($K$5>0,J88/$K$5,0)","v":0},{"$f":"SUBTOTAL(9,L89:L102)","v":0},{"$f":"IF($M$5>0,L88/$M$5,0)","v":0},{"$f":"D88+F88+H88+J88+L88","v":0},{"$f":"E88+G88+I88+K88+M88","v":0},{"$f":"SUBTOTAL(9,P89:P102)","v":0},{"$f":"IF($Q$5>0,P88/$Q$5,0)","v":0},{"$f":"SUBTOTAL(9,R89:R102)","v":0},{"$f":"IF($S$5>0,R88/$S$5,0)","v":0},{"$f":"SUBTOTAL(9,T89:T102)","v":0},{"$f":"IF($U$5>0,T88/$U$5,0)","v":0},{"$f":"SUBTOTAL(9,V89:V102)","v":0},{"$f":"IF($W$5>0,V88/$W$5,0)","v":0},{"$f":"SUBTOTAL(9,X89:X102)","v":0},{"$f":"IF($Y$5>0,X88/$Y$5,0)","v":0},{"$f":"P88+R88+T88+V88+X88","v":0},{"$f":"Q88+S88+U88+W88+Y88","v":0},{"$f":"SUBTOTAL(9,AB89:AB102)","v":0},{"$f":"IF($AC$5>0,AB88/$AC$5,0)","v":0},{"$f":"SUBTOTAL(9,AD89:AD102)","v":0},{"$f":"IF($AE$5>0,AD88/$AE$5,0)","v":0},{"$f":"SUBTOTAL(9,AF89:AF102)","v":0},{"$f":"IF($AG$5>0,AF88/$AG$5,0)","v":0},{"$f":"SUBTOTAL(9,AH89:AH102)","v":0},{"$f":"IF($AI$5>0,AH88/$AI$5,0)","v":0},{"$f":"SUBTOTAL(9,AJ89:AJ102)","v":0},{"$f":"IF($AK$5>0,AJ88/$AK$5,0)","v":0},{"$f":"AB88+AD88+AF88+AH88+AJ88","v":0},{"$f":"AC88+AE88+AG88+AI88+AK88","v":0},0]
[null,3700,"AVS, AC, AF",{"$f":"SUMIF(Feuil1!$B:$B,Consolidation!$B89,Feuil1!$D:$D)","v":0},null,{"$f":"SUMIF(Feuil2!$B:$B,Consolidation!$B89,Feuil2!$D:$D)","v":0},null,{"$f":"SUMIF(Feuil3!$B:$B,Consolidation!$B89,Feuil3!$D:$D)","v":0},null,{"$f":"SUMIF(Feuil4!$B:$B,Consolidation!$B89,Feuil4!$D:$D)","v":0},null,{"$f":"SUMIF(Feuil5!$B:$B,Consolidation!$B89,Feuil5!$D:$D)","v":0},null,{"$f":"D89+F89+H89+J89+L89","v":0},{"$f":"E89+G89+I89+K89+M89","v":0},{"$f":"SUMIF(Feuil1!$B:$B,Consolidation!$B89,Feuil1!$F:$F)","v":0},null,{"$f":"SUMIF(Feuil2!$B:$B,Consolidation!$B89,Feuil2!$F:$F)","v":0},null,{"$f":"SUMIF(Feuil3!$B:$B,Consolidation!$B89,Feuil3!$F:$F)","v":0},null,{"$f":"SUMIF(Feuil4!$B:$B,Consolidation!$B89,Feuil4!$F:$F)","v":0},null,{"$f":"SUMIF(Feuil5!$B:$B,Consolidation!$B89,Feuil5!$F:$F)","v":0},null,{"$f":"P89+R89+T89+V89+X89","v":0},{"$f":"Q89+S89+U89+W89+Y89","v":0},{"$f":"SUMIF(Feuil1!$B:$B,Consolidation!$B89,Feuil1!$H:$H)","v":0},null,{"$f":"SUMIF(Feuil2!$B:$B,Consolidation!$B89,Feuil2!$H:$H)","v":0},null,{"$f":"SUMIF(Feuil3!$B:$B,Consolidation!$B89,Feuil3!$H:$H)","v":0},null,{"$f":"SUMIF(Feuil4!$B:$B,Consolidation!$B89,Feuil4!$H:$H)","v":0},null,{"$f":"SUMIF(Feuil5!$B:$B,Consolidation!$B89,Feuil5!$H:$H)","v":0},null,{"$f":"AB89+AD89+AF89+AH89+AJ89","v":0},{"$f":"AC89+AE89+AG89+AI89+AK89","v":0},0]
["InsererLigne",3710,"Caisse de pensions (LPP)                                                  ",{"$f":"SUMIF(Feuil1!$B:$B,Consolidation!$B90,Feuil1!$D:$D)","v":0},null,{"$f":"SUMIF(Feuil2!$B:$B,Consolidation!$B90,Feuil2!$D:$D)","v":0},null,{"$f":"SUMIF(Feuil3!$B:$B,Consolidation!$B90,Feuil3!$D:$D)","v":0},null,{"$f":"SUMIF(Feuil4!$B:$B,Consolidation!$B90,Feuil4!$D:$D)","v":0},null,{"$f":"SUMIF(Feuil5!$B:$B,Consolidation!$B90,Feuil5!$D:$D)","v":0},null,0,0,{"$f":"SUMIF(Feuil1!$B:$B,Consolidation!$B90,Feuil1!$F:$F)","v":0},null,{"$f":"SUMIF(Feuil2!$B:$B,Consolidation!$B90,Feuil2!$F:$F)","v":0},null,{"$f":"SUMIF(Feuil3!$B:$B,Consolidation!$B90,Feuil3!$F:$F)","v":0},null,{"$f":"SUMIF(Feuil4!$B:$B,Consolidation!$B90,Feuil4!$F:$F)","v":0},null,{"$f":"SUMIF(Feuil5!$B:$B,Consolidation!$B90,Feuil5!$F:$F)","v":0},null,0,0,{"$f":"SUMIF(Feuil1!$B:$B,Consolidation!$B90,Feuil1!$H:$H)","v":0},null,{"$f":"SUMIF(Feuil2!$B:$B,Consolidation!$B90,Feuil2!$H:$H)","v":0},null,{"$f":"SUMIF(Feuil3!$B:$B,Consolidation!$B90,Feuil3!$H:$H)","v":0},null,{"$f":"SUMIF(Feuil4!$B:$B,Consolidation!$B90,Feuil4!$H:$H)","v":0},null,{"$f":"SUMIF(Feuil5!$B:$B,Consolidation!$B90,Feuil5!$H:$H)","v":0},null,0,0,0]
["InsererLigne",3720,"LAA",{"$f":"SUMIF(Feuil1!$B:$B,Consolidation!$B91,Feuil1!$D:$D)","v":0},null,{"$f":"SUMIF(Feuil2!$B:$B,Consolidation!$B91,Feuil2!$D:$D)","v":0},null,{"$f":"SUMIF(Feuil3!$B:$B,Consolidation!$B91,Feuil3!$D:$D)","v":0},null,{"$f":"SUMIF(Feuil4!$B:$B,Consolidation!$B91,Feuil4!$D:$D)","v":0},null,{"$f":"SUMIF(Feuil5!$B:$B,Consolidation!$B91,Feuil5!$D:$D)","v":0},null,0,0,{"$f":"SUMIF(Feuil1!$B:$B,Consolidation!$B91,Feuil1!$F:$F)","v":0},null,{"$f":"SUMIF(Feuil2!$B:$B,Consolidation!$B91,Feuil2!$F:$F)","v":0},null,{"$f":"SUMIF(Feuil3!$B:$B,Consolidation!$B91,Feuil3!$F:$F)","v":0},null,{"$f":"SUMIF(Feuil4!$B:$B,Consolidation!$B91,Feuil4!$F:$F)","v":0},null,{"$f":"SUMIF(Feuil5!$B:$B,Consolidation!$B91,Feuil5!$F:$F)","v":0},null,0,0,{"$f":"SUMIF(Feuil1!$B:$B,Consolidation!$B91,Feuil1!$H:$H)","v":0},null,{"$f":"SUMIF(Feuil2!$B:$B,Consolidation!$B91,Feuil2!$H:$H)","v":0},null,{"$f":"SUMIF(Feuil3!$B:$B,Consolidation!$B91,Feuil3!$H:$H)","v":0},null,{"$f":"SUMIF(Feuil4!$B:$B,Consolidation!$B91,Feuil4!$H:$H)","v":0},null,{"$f":"SUMIF(Feuil5!$B:$B,Consolidation!$B91,Feuil5!$H:$H)","v":0},null,0,0,0]
["InsererLigne",3730,"Assurance indemnité journalières en cas de maladie                                                  ",{"$f":"SUMIF(Feuil1!$B:$B,Consolidation!$B92,Feuil1!$D:$D)","v":0},null,{"$f":"SUMIF(Feuil2!$B:$B,Consolidation!$B92,Feuil2!$D:$D)","v":0},null,{"$f":"SUMIF(Feuil3!$B:$B,Consolidation!$B92,Feuil3!$D:$D)","v":0},null,{"$f":"SUMIF(Feuil4!$B:$B,Consolidation!$B92,Feuil4!$D:$D)","v":0},null,{"$f":"SUMIF(Feuil5!$B:$B,Consolidation!$B92,Feuil5!$D:$D)","v":0},null,0,0,{"$f":"SUMIF(Feuil1!$B:$B,Consolidation!$B92,Feuil1!$F:$F)","v":0},null,{"$f":"SUMIF(Feuil2!$B:$B,Consolidation!$B92,Feuil2!$F:$F)","v":0},null,{"$f":"SUMIF(Feuil3!$B:$B,Consolidation!$B92,Feuil3!$F:$F)","v":0},null,{"$f":"SUMIF(Feuil4!$B:$B,Consolidation!$B92,Feuil4!$F:$F)","v":0},null,{"$f":"SUMIF(Feuil5!$B:$B,Consolidation!$B92,Feuil5!$F:$F)","v":0},null,0,0,{"$f":"SUMIF(Feuil1!$B:$B,Consolidation!$B92,Feuil1!$H:$H)","v":0},null,{"$f":"SUMIF(Feuil2!$B:$B,Consolidation!$B92,Feuil2!$H:$H)","v":0},null,{"$f":"SUMIF(Feuil3!$B:$B,Consolidation!$B92,Feuil3!$H:$H)","v":0},null,{"$f":"SUMIF(Feuil4!$B:$B,Consolidation!$B92,Feuil4!$H:$H)","v":0},null,{"$f":"SUMIF(Feuil5!$B:$B,Consolidation!$B92,Feuil5!$H:$H)","v":0},null,0,0,0]
["InsererLigne",3740,"Cotisations bureau de la CCT-ES",{"$f":"SUMIF(Feuil1!$B:$B,Consolidation!$B93,Feuil1!$D:$D)","v":0},null,{"$f":"SUMIF(Feuil2!$B:$B,Consolidation!$B93,Feuil2!$D:$D)","v":0},null,{"$f":"SUMIF(Feuil3!$B:$B,Consolidation!$B93,Feuil3!$D:$D)","v":0},null,{"$f":"SUMIF(Feuil4!$B:$B,Consolidation!$B93,Feuil4!$D:$D)","v":0},null,{"$f":"SUMIF(Feuil5!$B:$B,Consolidation!$B93,Feuil5!$D:$D)","v":0},null,0,0,{"$f":"SUMIF(Feuil1!$B:$B,Consolidation!$B93,Feuil1!$F:$F)","v":0},null,{"$f":"SUMIF(Feuil2!$B:$B,Consolidation!$B93,Feuil2!$F:$F)","v":0},null,{"$f":"SUMIF(Feuil3!$B:$B,Consolidation!$B93,Feuil3!$F:$F)","v":0},null,{"$f":"SUMIF(Feuil4!$B:$B,Consolidation!$B93,Feuil4!$F:$F)","v":0},null,{"$f":"SUMIF(Feuil5!$B:$B,Consolidation!$B93,Feuil5!$F:$F)","v":0},null,0,0,{"$f":"SUMIF(Feuil1!$B:$B,Consolidation!$B93,Feuil1!$H:$H)","v":0},null,{"$f":"SUMIF(Feuil2!$B:$B,Consolidation!$B93,Feuil2!$H:$H)","v":0},null,{"$f":"SUMIF(Feuil3!$B:$B,Consolidation!$B93,Feuil3!$H:$H)","v":0},null,{"$f":"SUMIF(Feuil4!$B:$B,Consolidation!$B93,Feuil4!$H:$H)","v":0},null,{"$f":"SUMIF(Feuil5!$B:$B,Consolidation!$B93,Feuil5!$H:$H)","v":0},null,0,0,0]
["InsererLigne",3745,"Contribution aux structures d'accueil de l'enfance",{"$f":"SUMIF(Feuil1!$B:$B,Consolidation!$B94,Feuil1!$D:$D)","v":0},null,{"$f":"SUMIF(Feuil2!$B:$B,Consolidation!$B94,Feuil2!$D:$D)","v":0},null,{"$f":"SUMIF(Feuil3!$B:$B,Consolidation!$B94,Feuil3!$D:$D)","v":0},null,{"$f":"SUMIF(Feuil4!$B:$B,Consolidation!$B94,Feuil4!$D:$D)","v":0},null,{"$f":"SUMIF(Feuil5!$B:$B,Consolidation!$B94,Feuil5!$D:$D)","v":0},null,{"$f":"D94+F94+H94+J94+L94","v":0},{"$f":"E94+G94+I94+K94+M94","v":0},{"$f":"SUMIF(Feuil1!$B:$B,Consolidation!$B94,Feuil1!$F:$F)","v":0},null,{"$f":"SUMIF(Feuil2!$B:$B,Consolidation!$B94,Feuil2!$F:$F)","v":0},null,{"$f":"SUMIF(Feuil3!$B:$B,Consolidation!$B94,Feuil3!$F:$F)","v":0},null,{"$f":"SUMIF(Feuil4!$B:$B,Consolidation!$B94,Feuil4!$F:$F)","v":0},null,{"$f":"SUMIF(Feuil5!$B:$B,Consolidation!$B94,Feuil5!$F:$F)","v":0},null,{"$f":"P94+R94+T94+V94+X94","v":0},{"$f":"Q94+S94+U94+W94+Y94","v":0},{"$f":"SUMIF(Feuil1!$B:$B,Consolidation!$B94,Feuil1!$H:$H)","v":0},null,{"$f":"SUMIF(Feuil2!$B:$B,Consolidation!$B94,Feuil2!$H:$H)","v":0},null,{"$f":"SUMIF(Feuil3!$B:$B,Consolidation!$B94,Feuil3!$H:$H)","v":0},null,{"$f":"SUMIF(Feuil4!$B:$B,Consolidation!$B94,Feuil4!$H:$H)","v":0},null,{"$f":"SUMIF(Feuil5!$B:$B,Consolidation!$B94,Feuil5!$H:$H)","v":0},null,{"$f":"AB94+AD94+AF94+AH94+AJ94","v":0},{"$f":"AC94+AE94+AG94+AI94+AK94","v":0},0]
["InsererLigne",3750,"Caisse de remplacement corps enseignant                                                  ",{"$f":"SUMIF(Feuil1!$B:$B,Consolidation!$B95,Feuil1!$D:$D)","v":0},null,{"$f":"SUMIF(Feuil2!$B:$B,Consolidation!$B95,Feuil2!$D:$D)","v":0},null,{"$f":"SUMIF(Feuil3!$B:$B,Consolidation!$B95,Feuil3!$D:$D)","v":0},null,{"$f":"SUMIF(Feuil4!$B:$B,Consolidation!$B95,Feuil4!$D:$D)","v":0},null,{"$f":"SUMIF(Feuil5!$B:$B,Consolidation!$B95,Feuil5!$D:$D)","v":0},null,0,0,{"$f":"SUMIF(Feuil1!$B:$B,Consolidation!$B95,Feuil1!$F:$F)","v":0},null,{"$f":"SUMIF(Feuil2!$B:$B,Consolidation!$B95,Feuil2!$F:$F)","v":0},null,{"$f":"SUMIF(Feuil3!$B:$B,Consolidation!$B95,Feuil3!$F:$F)","v":0},null,{"$f":"SUMIF(Feuil4!$B:$B,Consolidation!$B95,Feuil4!$F:$F)","v":0},null,{"$f":"SUMIF(Feuil5!$B:$B,Consolidation!$B95,Feuil5!$F:$F)","v":0},null,0,0,{"$f":"SUMIF(Feuil1!$B:$B,Consolidation!$B95,Feuil1!$H:$H)","v":0},null,{"$f":"SUMIF(Feuil2!$B:$B,Consolidation!$B95,Feuil2!$H:$H)","v":0},null,{"$f":"SUMIF(Feuil3!$B:$B,Consolidation!$B95,Feuil3!$H:$H)","v":0},null,{"$f":"SUMIF(Feuil4!$B:$B,Consolidation!$B95,Feuil4!$H:$H)","v":0},null,{"$f":"SUMIF(Feuil5!$B:$B,Consolidation!$B95,Feuil5!$H:$H)","v":0},null,0,0,0]
["InsererLigne",3760,"Allocations complémentaires",{"$f":"SUMIF(Feuil1!$B:$B,Consolidation!$B96,Feuil1!$D:$D)","v":0},null,{"$f":"SUMIF(Feuil2!$B:$B,Consolidation!$B96,Feuil2!$D:$D)","v":0},null,{"$f":"SUMIF(Feuil3!$B:$B,Consolidation!$B96,Feuil3!$D:$D)","v":0},null,{"$f":"SUMIF(Feuil4!$B:$B,Consolidation!$B96,Feuil4!$D:$D)","v":0},null,{"$f":"SUMIF(Feuil5!$B:$B,Consolidation!$B96,Feuil5!$D:$D)","v":0},null,0,0,{"$f":"SUMIF(Feuil1!$B:$B,Consolidation!$B96,Feuil1!$F:$F)","v":0},null,{"$f":"SUMIF(Feuil2!$B:$B,Consolidation!$B96,Feuil2!$F:$F)","v":0},null,{"$f":"SUMIF(Feuil3!$B:$B,Consolidation!$B96,Feuil3!$F:$F)","v":0},null,{"$f":"SUMIF(Feuil4!$B:$B,Consolidation!$B96,Feuil4!$F:$F)","v":0},null,{"$f":"SUMIF(Feuil5!$B:$B,Consolidation!$B96,Feuil5!$F:$F)","v":0},null,0,0,{"$f":"SUMIF(Feuil1!$B:$B,Consolidation!$B96,Feuil1!$H:$H)","v":0},null,{"$f":"SUMIF(Feuil2!$B:$B,Consolidation!$B96,Feuil2!$H:$H)","v":0},null,{"$f":"SUMIF(Feuil3!$B:$B,Consolidation!$B96,Feuil3!$H:$H)","v":0},null,{"$f":"SUMIF(Feuil4!$B:$B,Consolidation!$B96,Feuil4!$H:$H)","v":0},null,{"$f":"SUMIF(Feuil5!$B:$B,Consolidation!$B96,Feuil5!$H:$H)","v":0},null,0,0,0]
["InsererLigne",3770,"Fonds pour la formation professionnelle",{"$f":"SUMIF(Feuil1!$B:$B,Consolidation!$B97,Feuil1!$D:$D)","v":0},null,{"$f":"SUMIF(Feuil2!$B:$B,Consolidation!$B97,Feuil2!$D:$D)","v":0},null,{"$f":"SUMIF(Feuil3!$B:$B,Consolidation!$B97,Feuil3!$D:$D)","v":0},null,{"$f":"SUMIF(Feuil4!$B:$B,Consolidation!$B97,Feuil4!$D:$D)","v":0},null,{"$f":"SUMIF(Feuil5!$B:$B,Consolidation!$B97,Feuil5!$D:$D)","v":0},null,{"$f":"D97+F97+H97+J97+L97","v":0},{"$f":"E97+G97+I97+K97+M97","v":0},{"$f":"SUMIF(Feuil1!$B:$B,Consolidation!$B97,Feuil1!$F:$F)","v":0},null,{"$f":"SUMIF(Feuil2!$B:$B,Consolidation!$B97,Feuil2!$F:$F)","v":0},null,{"$f":"SUMIF(Feuil3!$B:$B,Consolidation!$B97,Feuil3!$F:$F)","v":0},null,{"$f":"SUMIF(Feuil4!$B:$B,Consolidation!$B97,Feuil4!$F:$F)","v":0},null,{"$f":"SUMIF(Feuil5!$B:$B,Consolidation!$B97,Feuil5!$F:$F)","v":0},null,{"$f":"P97+R97+T97+V97+X97","v":0},{"$f":"Q97+S97+U97+W97+Y97","v":0},{"$f":"SUMIF(Feuil1!$B:$B,Consolidation!$B97,Feuil1!$H:$H)","v":0},null,{"$f":"SUMIF(Feuil2!$B:$B,Consolidation!$B97,Feuil2!$H:$H)","v":0},null,{"$f":"SUMIF(Feuil3!$B:$B,Consolidation!$B97,Feuil3!$H:$H)","v":0},null,{"$f":"SUMIF(Feuil4!$B:$B,Consolidation!$B97,Feuil4!$H:$H)","v":0},null,{"$f":"SUMIF(Feuil5!$B:$B,Consolidation!$B97,Feuil5!$H:$H)","v":0},null,{"$f":"AB97+AD97+AF97+AH97+AJ97","v":0},{"$f":"AC97+AE97+AG97+AI97+AK97","v":0},0]
["InsererLigne",3780,"Prestations sociales personnes accompagnées                                                  ",{"$f":"SUMIF(Feuil1!$B:$B,Consolidation!$B98,Feuil1!$D:$D)","v":0},null,{"$f":"SUMIF(Feuil2!$B:$B,Consolidation!$B98,Feuil2!$D:$D)","v":0},null,{"$f":"SUMIF(Feuil3!$B:$B,Consolidation!$B98,Feuil3!$D:$D)","v":0},null,{"$f":"SUMIF(Feuil4!$B:$B,Consolidation!$B98,Feuil4!$D:$D)","v":0},null,{"$f":"SUMIF(Feuil5!$B:$B,Consolidation!$B98,Feuil5!$D:$D)","v":0},null,0,0,{"$f":"SUMIF(Feuil1!$B:$B,Consolidation!$B98,Feuil1!$F:$F)","v":0},null,{"$f":"SUMIF(Feuil2!$B:$B,Consolidation!$B98,Feuil2!$F:$F)","v":0},null,{"$f":"SUMIF(Feuil3!$B:$B,Consolidation!$B98,Feuil3!$F:$F)","v":0},null,{"$f":"SUMIF(Feuil4!$B:$B,Consolidation!$B98,Feuil4!$F:$F)","v":0},null,{"$f":"SUMIF(Feuil5!$B:$B,Consolidation!$B98,Feuil5!$F:$F)","v":0},null,0,0,{"$f":"SUMIF(Feuil1!$B:$B,Consolidation!$B98,Feuil1!$H:$H)","v":0},null,{"$f":"SUMIF(Feuil2!$B:$B,Consolidation!$B98,Feuil2!$H:$H)","v":0},null,{"$f":"SUMIF(Feuil3!$B:$B,Consolidation!$B98,Feuil3!$H:$H)","v":0},null,{"$f":"SUMIF(Feuil4!$B:$B,Consolidation!$B98,Feuil4!$H:$H)","v":0},null,{"$f":"SUMIF(Feuil5!$B:$B,Consolidation!$B98,Feuil5!$H:$H)","v":0},null,0,0,0]
["InsererLigne",3790,"Autres prestations sociales                                                  ",{"$f":"SUMIF(Feuil1!$B:$B,Consolidation!$B99,Feuil1!$D:$D)","v":0},null,{"$f":"SUMIF(Feuil2!$B:$B,Consolidation!$B99,Feuil2!$D:$D)","v":0},null,{"$f":"SUMIF(Feuil3!$B:$B,Consolidation!$B99,Feuil3!$D:$D)","v":0},null,{"$f":"SUMIF(Feuil4!$B:$B,Consolidation!$B99,Feuil4!$D:$D)","v":0},null,{"$f":"SUMIF(Feuil5!$B:$B,Consolidation!$B99,Feuil5!$D:$D)","v":0},null,0,0,{"$f":"SUMIF(Feuil1!$B:$B,Consolidation!$B99,Feuil1!$F:$F)","v":0},null,{"$f":"SUMIF(Feuil2!$B:$B,Consolidation!$B99,Feuil2!$F:$F)","v":0},null,{"$f":"SUMIF(Feuil3!$B:$B,Consolidation!$B99,Feuil3!$F:$F)","v":0},null,{"$f":"SUMIF(Feuil4!$B:$B,Consolidation!$B99,Feuil4!$F:$F)","v":0},null,{"$f":"SUMIF(Feuil5!$B:$B,Consolidation!$B99,Feuil5!$F:$F)","v":0},null,0,0,{"$f":"SUMIF(Feuil1!$B:$B,Consolidation!$B99,Feuil1!$H:$H)","v":0},null,{"$f":"SUMIF(Feuil2!$B:$B,Consolidation!$B99,Feuil2!$H:$H)","v":0},null,{"$f":"SUMIF(Feuil3!$B:$B,Consolidation!$B99,Feuil3!$H:$H)","v":0},null,{"$f":"SUMIF(Feuil4!$B:$B,Consolidation!$B99,Feuil4!$H:$H)","v":0},null,{"$f":"SUMIF(Feuil5!$B:$B,Consolidation!$B99,Feuil5!$H:$H)","v":0},null,0,0,0]
["InsererLigne",3795,"Prestations en nature",{"$f":"SUMIF(Feuil1!$B:$B,Consolidation!$B100,Feuil1!$D:$D)","v":0},null,{"$f":"SUMIF(Feuil2!$B:$B,Consolidation!$B100,Feuil2!$D:$D)","v":0},null,{"$f":"SUMIF(Feuil3!$B:$B,Consolidation!$B100,Feuil3!$D:$D)","v":0},null,{"$f":"SUMIF(Feuil4!$B:$B,Consolidation!$B100,Feuil4!$D:$D)","v":0},null,{"$f":"SUMIF(Feuil5!$B:$B,Consolidation!$B100,Feuil5!$D:$D)","v":0},null,0,0,{"$f":"SUMIF(Feuil1!$B:$B,Consolidation!$B100,Feuil1!$F:$F)","v":0},null,{"$f":"SUMIF(Feuil2!$B:$B,Consolidation!$B100,Feuil2!$F:$F)","v":0},null,{"$f":"SUMIF(Feuil3!$B:$B,Consolidation!$B100,Feuil3!$F:$F)","v":0},null,{"$f":"SUMIF(Feuil4!$B:$B,Consolidation!$B100,Feuil4!$F:$F)","v":0},null,{"$f":"SUMIF(Feuil5!$B:$B,Consolidation!$B100,Feuil5!$F:$F)","v":0},null,0,0,{"$f":"SUMIF(Feuil1!$B:$B,Consolidation!$B100,Feuil1!$H:$H)","v":0},null,{"$f":"SUMIF(Feuil2!$B:$B,Consolidation!$B100,Feuil2!$H:$H)","v":0},null,{"$f":"SUMIF(Feuil3!$B:$B,Consolidation!$B100,Feuil3!$H:$H)","v":0},null,{"$f":"SUMIF(Feuil4!$B:$B,Consolidation!$B100,Feuil4!$H:$H)","v":0},null,{"$f":"SUMIF(Feuil5!$B:$B,Consolidation!$B100,Feuil5!$H:$H)","v":0},null,0,0,0]
["InsererLigne",3799,"Autres prestations sociales part administration",{"$f":"SUMIF(Feuil1!$B:$B,Consolidation!$B101,Feuil1!$D:$D)","v":0},null,{"$f":"SUMIF(Feuil2!$B:$B,Consolidation!$B101,Feuil2!$D:$D)","v":0},null,{"$f":"SUMIF(Feuil3!$B:$B,Consolidation!$B101,Feuil3!$D:$D)","v":0},null,{"$f":"SUMIF(Feuil4!$B:$B,Consolidation!$B101,Feuil4!$D:$D)","v":0},null,{"$f":"SUMIF(Feuil5!$B:$B,Consolidation!$B101,Feuil5!$D:$D)","v":0},null,0,0,{"$f":"SUMIF(Feuil1!$B:$B,Consolidation!$B101,Feuil1!$F:$F)","v":0},null,{"$f":"SUMIF(Feuil2!$B:$B,Consolidation!$B101,Feuil2!$F:$F)","v":0},null,{"$f":"SUMIF(Feuil3!$B:$B,Consolidation!$B101,Feuil3!$F:$F)","v":0},null,{"$f":"SUMIF(Feuil4!$B:$B,Consolidation!$B101,Feuil4!$F:$F)","v":0},null,{"$f":"SUMIF(Feuil5!$B:$B,Consolidation!$B101,Feuil5!$F:$F)","v":0},null,0,0,{"$f":"SUMIF(Feuil1!$B:$B,Consolidation!$B101,Feuil1!$H:$H)","v":0},null,{"$f":"SUMIF(Feuil2!$B:$B,Consolidation!$B101,Feuil2!$H:$H)","v":0},null,{"$f":"SUMIF(Feuil3!$B:$B,Consolidation!$B101,Feuil3!$H:$H)","v":0},null,{"$f":"SUMIF(Feuil4!$B:$B,Consolidation!$B101,Feuil4!$H:$H)","v":0},null,{"$f":"SUMIF(Feuil5!$B:$B,Consolidation!$B101,Feuil5!$H:$H)","v":0},null,0,0,0]
["InsererLigne",null,null,null,null,null,null,null,null,null,null,null,null,null,null,null,null,null,null,null,null,null,null,null,null,null,null,null,null,null,null,null,null,null,null,null,null,null,null,0]
[null,38,"Autres charges de personnel",{"$f":"SUBTOTAL(9,D104:D115)","v":0},{"$f":"IF($E$5>0,D103/$E$5,0)","v":0},{"$f":"SUBTOTAL(9,F104:F115)","v":0},{"$f":"IF($G$5>0,F103/$G$5,0)","v":0},{"$f":"SUBTOTAL(9,H104:H115)","v":0},{"$f":"IF($I$5>0,H103/$I$5,0)","v":0},{"$f":"SUBTOTAL(9,J104:J115)","v":0},{"$f":"IF($K$5>0,J103/$K$5,0)","v":0},{"$f":"SUBTOTAL(9,L104:L115)","v":0},{"$f":"IF($M$5>0,L103/$M$5,0)","v":0},{"$f":"D103+F103+H103+J103+L103","v":0},{"$f":"E103+G103+I103+K103+M103","v":0},{"$f":"SUBTOTAL(9,P104:P115)","v":0},{"$f":"IF($Q$5>0,P103/$Q$5,0)","v":0},{"$f":"SUBTOTAL(9,R104:R115)","v":0},{"$f":"IF($S$5>0,R103/$S$5,0)","v":0},{"$f":"SUBTOTAL(9,T104:T115)","v":0},{"$f":"IF($U$5>0,T103/$U$5,0)","v":0},{"$f":"SUBTOTAL(9,V104:V115)","v":0},{"$f":"IF($W$5>0,V103/$W$5,0)","v":0},{"$f":"SUBTOTAL(9,X104:X115)","v":0},{"$f":"IF($Y$5>0,X103/$Y$5,0)","v":0},{"$f":"P103+R103+T103+V103+X103","v":0},{"$f":"Q103+S103+U103+W103+Y103","v":0},{"$f":"SUBTOTAL(9,AB104:AB115)","v":0},{"$f":"IF($AC$5>0,AB103/$AC$5,0)","v":0},{"$f":"SUBTOTAL(9,AD104:AD115)","v":0},{"$f":"IF($AE$5>0,AD103/$AE$5,0)","v":0},{"$f":"SUBTOTAL(9,AF104:AF115)","v":0},{"$f":"IF($AG$5>0,AF103/$AG$5,0)","v":0},{"$f":"SUBTOTAL(9,AH104:AH115)","v":0},{"$f":"IF($AI$5>0,AH103/$AI$5,0)","v":0},{"$f":"SUBTOTAL(9,AJ104:AJ115)","v":0},{"$f":"IF($AK$5>0,AJ103/$AK$5,0)","v":0},{"$f":"AB103+AD103+AF103+AH103+AJ103","v":0},{"$f":"AC103+AE103+AG103+AI103+AK103","v":0},0]
[null,3800,"Recrutement de personnel                                                  ",{"$f":"SUMIF(Feuil1!$B:$B,Consolidation!$B104,Feuil1!$D:$D)","v":0},null,{"$f":"SUMIF(Feuil2!$B:$B,Consolidation!$B104,Feuil2!$D:$D)","v":0},null,{"$f":"SUMIF(Feuil3!$B:$B,Consolidation!$B104,Feuil3!$D:$D)","v":0},null,{"$f":"SUMIF(Feuil4!$B:$B,Consolidation!$B104,Feuil4!$D:$D)","v":0},null,{"$f":"SUMIF(Feuil5!$B:$B,Consolidation!$B104,Feuil5!$D:$D)","v":0},null,{"$f":"D104+F104+H104+J104+L104","v":0},{"$f":"E104+G104+I104+K104+M104","v":0},{"$f":"SUMIF(Feuil1!$B:$B,Consolidation!$B104,Feuil1!$F:$F)","v":0},null,{"$f":"SUMIF(Feuil2!$B:$B,Consolidation!$B104,Feuil2!$F:$F)","v":0},null,{"$f":"SUMIF(Feuil3!$B:$B,Consolidation!$B104,Feuil3!$F:$F)","v":0},null,{"$f":"SUMIF(Feuil4!$B:$B,Consolidation!$B104,Feuil4!$F:$F)","v":0},null,{"$f":"SUMIF(Feuil5!$B:$B,Consolidation!$B104,Feuil5!$F:$F)","v":0},null,{"$f":"P104+R104+T104+V104+X104","v":0},{"$f":"Q104+S104+U104+W104+Y104","v":0},{"$f":"SUMIF(Feuil1!$B:$B,Consolidation!$B104,Feuil1!$H:$H)","v":0},null,{"$f":"SUMIF(Feuil2!$B:$B,Consolidation!$B104,Feuil2!$H:$H)","v":0},null,{"$f":"SUMIF(Feuil3!$B:$B,Consolidation!$B104,Feuil3!$H:$H)","v":0},null,{"$f":"SUMIF(Feuil4!$B:$B,Consolidation!$B104,Feuil4!$H:$H)","v":0},null,{"$f":"SUMIF(Feuil5!$B:$B,Consolidation!$B104,Feuil5!$H:$H)","v":0},null,{"$f":"AB104+AD104+AF104+AH104+AJ104","v":0},{"$f":"AC104+AE104+AG104+AI104+AK104","v":0},0]
["InsererLigne",3810,"Formation et perfectionnement                                                  ",{"$f":"SUMIF(Feuil1!$B:$B,Consolidation!$B105,Feuil1!$D:$D)","v":0},null,{"$f":"SUMIF(Feuil2!$B:$B,Consolidation!$B105,Feuil2!$D:$D)","v":0},null,{"$f":"SUMIF(Feuil3!$B:$B,Consolidation!$B105,Feuil3!$D:$D)","v":0},null,{"$f":"SUMIF(Feuil4!$B:$B,Consolidation!$B105,Feuil4!$D:$D)","v":0},null,{"$f":"SUMIF(Feuil5!$B:$B,Consolidation!$B105,Feuil5!$D:$D)","v":0},null,0,0,{"$f":"SUMIF(Feuil1!$B:$B,Consolidation!$B105,Feuil1!$F:$F)","v":0},null,{"$f":"SUMIF(Feuil2!$B:$B,Consolidation!$B105,Feuil2!$F:$F)","v":0},null,{"$f":"SUMIF(Feuil3!$B:$B,Consolidation!$B105,Feuil3!$F:$F)","v":0},null,{"$f":"SUMIF(Feuil4!$B:$B,Consolidation!$B105,Feuil4!$F:$F)","v":0},null,{"$f":"SUMIF(Feuil5!$B:$B,Consolidation!$B105,Feuil5!$F:$F)","v":0},null,0,0,{"$f":"SUMIF(Feuil1!$B:$B,Consolidation!$B105,Feuil1!$H:$H)","v":0},null,{"$f":"SUMIF(Feuil2!$B:$B,Consolidation!$B105,Feuil2!$H:$H)","v":0},null,{"$f":"SUMIF(Feuil3!$B:$B,Consolidation!$B105,Feuil3!$H:$H)","v":0},null,{"$f":"SUMIF(Feuil4!$B:$B,Consolidation!$B105,Feuil4!$H:$H)","v":0},null,{"$f":"SUMIF(Feuil5!$B:$B,Consolidation!$B105,Feuil5!$H:$H)","v":0},null,0,0,0]
["InsererLigne",3811,"Formation et formation continue des personnes accompagnées",{"$f":"SUMIF(Feuil1!$B:$B,Consolidation!$B106,Feuil1!$D:$D)","v":0},null,{"$f":"SUMIF(Feuil2!$B:$B,Consolidation!$B106,Feuil2!$D:$D)","v":0},null,{"$f":"SUMIF(Feuil3!$B:$B,Consolidation!$B106,Feuil3!$D:$D)","v":0},null,{"$f":"SUMIF(Feuil4!$B:$B,Consolidation!$B106,Feuil4!$D:$D)","v":0},null,{"$f":"SUMIF(Feuil5!$B:$B,Consolidation!$B106,Feuil5!$D:$D)","v":0},null,0,0,{"$f":"SUMIF(Feuil1!$B:$B,Consolidation!$B106,Feuil1!$F:$F)","v":0},null,{"$f":"SUMIF(Feuil2!$B:$B,Consolidation!$B106,Feuil2!$F:$F)","v":0},null,{"$f":"SUMIF(Feuil3!$B:$B,Consolidation!$B106,Feuil3!$F:$F)","v":0},null,{"$f":"SUMIF(Feuil4!$B:$B,Consolidation!$B106,Feuil4!$F:$F)","v":0},null,{"$f":"SUMIF(Feuil5!$B:$B,Consolidation!$B106,Feuil5!$F:$F)","v":0},null,0,0,{"$f":"SUMIF(Feuil1!$B:$B,Consolidation!$B106,Feuil1!$H:$H)","v":0},null,{"$f":"SUMIF(Feuil2!$B:$B,Consolidation!$B106,Feuil2!$H:$H)","v":0},null,{"$f":"SUMIF(Feuil3!$B:$B,Consolidation!$B106,Feuil3!$H:$H)","v":0},null,{"$f":"SUMIF(Feuil4!$B:$B,Consolidation!$B106,Feuil4!$H:$H)","v":0},null,{"$f":"SUMIF(Feuil5!$B:$B,Consolidation!$B106,Feuil5!$H:$H)","v":0},null,0,0,0]
["InsererLigne",3820,"Fêtes du personnel et manifestations                                                  ",{"$f":"SUMIF(Feuil1!$B:$B,Consolidation!$B107,Feuil1!$D:$D)","v":0},null,{"$f":"SUMIF(Feuil2!$B:$B,Consolidation!$B107,Feuil2!$D:$D)","v":0},null,{"$f":"SUMIF(Feuil3!$B:$B,Consolidation!$B107,Feuil3!$D:$D)","v":0},null,{"$f":"SUMIF(Feuil4!$B:$B,Consolidation!$B107,Feuil4!$D:$D)","v":0},null,{"$f":"SUMIF(Feuil5!$B:$B,Consolidation!$B107,Feuil5!$D:$D)","v":0},null,0,0,{"$f":"SUMIF(Feuil1!$B:$B,Consolidation!$B107,Feuil1!$F:$F)","v":0},null,{"$f":"SUMIF(Feuil2!$B:$B,Consolidation!$B107,Feuil2!$F:$F)","v":0},null,{"$f":"SUMIF(Feuil3!$B:$B,Consolidation!$B107,Feuil3!$F:$F)","v":0},null,{"$f":"SUMIF(Feuil4!$B:$B,Consolidation!$B107,Feuil4!$F:$F)","v":0},null,{"$f":"SUMIF(Feuil5!$B:$B,Consolidation!$B107,Feuil5!$F:$F)","v":0},null,0,0,{"$f":"SUMIF(Feuil1!$B:$B,Consolidation!$B107,Feuil1!$H:$H)","v":0},null,{"$f":"SUMIF(Feuil2!$B:$B,Consolidation!$B107,Feuil2!$H:$H)","v":0},null,{"$f":"SUMIF(Feuil3!$B:$B,Consolidation!$B107,Feuil3!$H:$H)","v":0},null,{"$f":"SUMIF(Feuil4!$B:$B,Consolidation!$B107,Feuil4!$H:$H)","v":0},null,{"$f":"SUMIF(Feuil5!$B:$B,Consolidation!$B107,Feuil5!$H:$H)","v":0},null,0,0,0]
["InsererLigne",3890,"Autres charges de personnel                                                  ",{"$f":"SUMIF(Feuil1!$B:$B,Consolidation!$B108,Feuil1!$D:$D)","v":0},null,{"$f":"SUMIF(Feuil2!$B:$B,Consolidation!$B108,Feuil2!$D:$D)","v":0},null,{"$f":"SUMIF(Feuil3!$B:$B,Consolidation!$B108,Feuil3!$D:$D)","v":0},null,{"$f":"SUMIF(Feuil4!$B:$B,Consolidation!$B108,Feuil4!$D:$D)","v":0},null,{"$f":"SUMIF(Feuil5!$B:$B,Consolidation!$B108,Feuil5!$D:$D)","v":0},null,0,0,{"$f":"SUMIF(Feuil1!$B:$B,Consolidation!$B108,Feuil1!$F:$F)","v":0},null,{"$f":"SUMIF(Feuil2!$B:$B,Consolidation!$B108,Feuil2!$F:$F)","v":0},null,{"$f":"SUMIF(Feuil3!$B:$B,Consolidation!$B108,Feuil3!$F:$F)","v":0},null,{"$f":"SUMIF(Feuil4!$B:$B,Consolidation!$B108,Feuil4!$F:$F)","v":0},null,{"$f":"SUMIF(Feuil5!$B:$B,Consolidation!$B108,Feuil5!$F:$F)","v":0},null,0,0,{"$f":"SUMIF(Feuil1!$B:$B,Consolidation!$B108,Feuil1!$H:$H)","v":0},null,{"$f":"SUMIF(Feuil2!$B:$B,Consolidation!$B108,Feuil2!$H:$H)","v":0},null,{"$f":"SUMIF(Feuil3!$B:$B,Consolidation!$B108,Feuil3!$H:$H)","v":0},null,{"$f":"SUMIF(Feuil4!$B:$B,Consolidation!$B108,Feuil4!$H:$H)","v":0},null,{"$f":"SUMIF(Feuil5!$B:$B,Consolidation!$B108,Feuil5!$H:$H)","v":0},null,0,0,0]
["InsererLigne",3891,"Pécule aux usagers",{"$f":"SUMIF(Feuil1!$B:$B,Consolidation!$B109,Feuil1!$D:$D)","v":0},null,{"$f":"SUMIF(Feuil2!$B:$B,Consolidation!$B109,Feuil2!$D:$D)","v":0},null,{"$f":"SUMIF(Feuil3!$B:$B,Consolidation!$B109,Feuil3!$D:$D)","v":0},null,{"$f":"SUMIF(Feuil4!$B:$B,Consolidation!$B109,Feuil4!$D:$D)","v":0},null,{"$f":"SUMIF(Feuil5!$B:$B,Consolidation!$B109,Feuil5!$D:$D)","v":0},null,0,0,{"$f":"SUMIF(Feuil1!$B:$B,Consolidation!$B109,Feuil1!$F:$F)","v":0},null,{"$f":"SUMIF(Feuil2!$B:$B,Consolidation!$B109,Feuil2!$F:$F)","v":0},null,{"$f":"SUMIF(Feuil3!$B:$B,Consolidation!$B109,Feuil3!$F:$F)","v":0},null,{"$f":"SUMIF(Feuil4!$B:$B,Consolidation!$B109,Feuil4!$F:$F)","v":0},null,{"$f":"SUMIF(Feuil5!$B:$B,Consolidation!$B109,Feuil5!$F:$F)","v":0},null,0,0,{"$f":"SUMIF(Feuil1!$B:$B,Consolidation!$B109,Feuil1!$H:$H)","v":0},null,{"$f":"SUMIF(Feuil2!$B:$B,Consolidation!$B109,Feuil2!$H:$H)","v":0},null,{"$f":"SUMIF(Feuil3!$B:$B,Consolidation!$B109,Feuil3!$H:$H)","v":0},null,{"$f":"SUMIF(Feuil4!$B:$B,Consolidation!$B109,Feuil4!$H:$H)","v":0},null,{"$f":"SUMIF(Feuil5!$B:$B,Consolidation!$B109,Feuil5!$H:$H)","v":0},null,0,0,0]
["InsererLigne",3892,"Frais de fonctionnement CNPea",{"$f":"SUMIF(Feuil1!$B:$B,Consolidation!$B110,Feuil1!$D:$D)","v":0},null,{"$f":"SUMIF(Feuil2!$B:$B,Consolidation!$B110,Feuil2!$D:$D)","v":0},null,{"$f":"SUMIF(Feuil3!$B:$B,Consolidation!$B110,Feuil3!$D:$D)","v":0},null,{"$f":"SUMIF(Feuil4!$B:$B,Consolidation!$B110,Feuil4!$D:$D)","v":0},null,{"$f":"SUMIF(Feuil5!$B:$B,Consolidation!$B110,Feuil5!$D:$D)","v":0},null,0,0,{"$f":"SUMIF(Feuil1!$B:$B,Consolidation!$B110,Feuil1!$F:$F)","v":0},null,{"$f":"SUMIF(Feuil2!$B:$B,Consolidation!$B110,Feuil2!$F:$F)","v":0},null,{"$f":"SUMIF(Feuil3!$B:$B,Consolidation!$B110,Feuil3!$F:$F)","v":0},null,{"$f":"SUMIF(Feuil4!$B:$B,Consolidation!$B110,Feuil4!$F:$F)","v":0},null,{"$f":"SUMIF(Feuil5!$B:$B,Consolidation!$B110,Feuil5!$F:$F)","v":0},null,0,0,{"$f":"SUMIF(Feuil1!$B:$B,Consolidation!$B110,Feuil1!$H:$H)","v":0},null,{"$f":"SUMIF(Feuil2!$B:$B,Consolidation!$B110,Feuil2!$H:$H)","v":0},null,{"$f":"SUMIF(Feuil3!$B:$B,Consolidation!$B110,Feuil3!$H:$H)","v":0},null,{"$f":"SUMIF(Feuil4!$B:$B,Consolidation!$B110,Feuil4!$H:$H)","v":0},null,{"$f":"SUMIF(Feuil5!$B:$B,Consolidation!$B110,Feuil5!$H:$H)","v":0},null,0,0,0]
["InsererLigne",3893,"Visites médicales                                                  ",{"$f":"SUMIF(Feuil1!$B:$B,Consolidation!$B111,Feuil1!$D:$D)","v":0},null,{"$f":"SUMIF(Feuil2!$B:$B,Consolidation!$B111,Feuil2!$D:$D)","v":0},null,{"$f":"SUMIF(Feuil3!$B:$B,Consolidation!$B111,Feuil3!$D:$D)","v":0},null,{"$f":"SUMIF(Feuil4!$B:$B,Consolidation!$B111,Feuil4!$D:$D)","v":0},null,{"$f":"SUMIF(Feuil5!$B:$B,Consolidation!$B111,Feuil5!$D:$D)","v":0},null,0,0,{"$f":"SUMIF(Feuil1!$B:$B,Consolidation!$B111,Feuil1!$F:$F)","v":0},null,{"$f":"SUMIF(Feuil2!$B:$B,Consolidation!$B111,Feuil2!$F:$F)","v":0},null,{"$f":"SUMIF(Feuil3!$B:$B,Consolidation!$B111,Feuil3!$F:$F)","v":0},null,{"$f":"SUMIF(Feuil4!$B:$B,Consolidation!$B111,Feuil4!$F:$F)","v":0},null,{"$f":"SUMIF(Feuil5!$B:$B,Consolidation!$B111,Feuil5!$F:$F)","v":0},null,0,0,{"$f":"SUMIF(Feuil1!$B:$B,Consolidation!$B111,Feuil1!$H:$H)","v":0},null,{"$f":"SUMIF(Feuil2!$B:$B,Consolidation!$B111,Feuil2!$H:$H)","v":0},null,{"$f":"SUMIF(Feuil3!$B:$B,Consolidation!$B111,Feuil3!$H:$H)","v":0},null,{"$f":"SUMIF(Feuil4!$B:$B,Consolidation!$B111,Feuil4!$H:$H)","v":0},null,{"$f":"SUMIF(Feuil5!$B:$B,Consolidation!$B111,Feuil5!$H:$H)","v":0},null,0,0,0]
["InsererLigne",3894,"Cadeaux (pour ancienneté, Noël)                                                  ",{"$f":"SUMIF(Feuil1!$B:$B,Consolidation!$B112,Feuil1!$D:$D)","v":0},null,{"$f":"SUMIF(Feuil2!$B:$B,Consolidation!$B112,Feuil2!$D:$D)","v":0},null,{"$f":"SUMIF(Feuil3!$B:$B,Consolidation!$B112,Feuil3!$D:$D)","v":0},null,{"$f":"SUMIF(Feuil4!$B:$B,Consolidation!$B112,Feuil4!$D:$D)","v":0},null,{"$f":"SUMIF(Feuil5!$B:$B,Consolidation!$B112,Feuil5!$D:$D)","v":0},null,0,0,{"$f":"SUMIF(Feuil1!$B:$B,Consolidation!$B112,Feuil1!$F:$F)","v":0},null,{"$f":"SUMIF(Feuil2!$B:$B,Consolidation!$B112,Feuil2!$F:$F)","v":0},null,{"$f":"SUMIF(Feuil3!$B:$B,Consolidation!$B112,Feuil3!$F:$F)","v":0},null,{"$f":"SUMIF(Feuil4!$B:$B,Consolidation!$B112,Feuil4!$F:$F)","v":0},null,{"$f":"SUMIF(Feuil5!$B:$B,Consolidation!$B112,Feuil5!$F:$F)","v":0},null,0,0,{"$f":"SUMIF(Feuil1!$B:$B,Consolidation!$B112,Feuil1!$H:$H)","v":0},null,{"$f":"SUMIF(Feuil2!$B:$B,Consolidation!$B112,Feuil2!$H:$H)","v":0},null,{"$f":"SUMIF(Feuil3!$B:$B,Consolidation!$B112,Feuil3!$H:$H)","v":0},null,{"$f":"SUMIF(Feuil4!$B:$B,Consolidation!$B112,Feuil4!$H:$H)","v":0},null,{"$f":"SUMIF(Feuil5!$B:$B,Consolidation!$B112,Feuil5!$H:$H)","v":0},null,0,0,0]
["InsererLigne",3895,"Dédommagements pour frais encourus                                                  ",{"$f":"SUMIF(Feuil1!$B:$B,Consolidation!$B113,Feuil1!$D:$D)","v":0},null,{"$f":"SUMIF(Feuil2!$B:$B,Consolidation!$B113,Feuil2!$D:$D)","v":0},null,{"$f":"SUMIF(Feuil3!$B:$B,Consolidation!$B113,Feuil3!$D:$D)","v":0},null,{"$f":"SUMIF(Feuil4!$B:$B,Consolidation!$B113,Feuil4!$D:$D)","v":0},null,{"$f":"SUMIF(Feuil5!$B:$B,Consolidation!$B113,Feuil5!$D:$D)","v":0},null,0,0,{"$f":"SUMIF(Feuil1!$B:$B,Consolidation!$B113,Feuil1!$F:$F)","v":0},null,{"$f":"SUMIF(Feuil2!$B:$B,Consolidation!$B113,Feuil2!$F:$F)","v":0},null,{"$f":"SUMIF(Feuil3!$B:$B,Consolidation!$B113,Feuil3!$F:$F)","v":0},null,{"$f":"SUMIF(Feuil4!$B:$B,Consolidation!$B113,Feuil4!$F:$F)","v":0},null,{"$f":"SUMIF(Feuil5!$B:$B,Consolidation!$B113,Feuil5!$F:$F)","v":0},null,0,0,{"$f":"SUMIF(Feuil1!$B:$B,Consolidation!$B113,Feuil1!$H:$H)","v":0},null,{"$f":"SUMIF(Feuil2!$B:$B,Consolidation!$B113,Feuil2!$H:$H)","v":0},null,{"$f":"SUMIF(Feuil3!$B:$B,Consolidation!$B113,Feuil3!$H:$H)","v":0},null,{"$f":"SUMIF(Feuil4!$B:$B,Consolidation!$B113,Feuil4!$H:$H)","v":0},null,{"$f":"SUMIF(Feuil5!$B:$B,Consolidation!$B113,Feuil5!$H:$H)","v":0},null,0,0,0]
["InsererLigne",3899,"Autres charges du personnel Admin",{"$f":"SUMIF(Feuil1!$B:$B,Consolidation!$B114,Feuil1!$D:$D)","v":0},null,{"$f":"SUMIF(Feuil2!$B:$B,Consolidation!$B114,Feuil2!$D:$D)","v":0},null,{"$f":"SUMIF(Feuil3!$B:$B,Consolidation!$B114,Feuil3!$D:$D)","v":0},null,{"$f":"SUMIF(Feuil4!$B:$B,Consolidation!$B114,Feuil4!$D:$D)","v":0},null,{"$f":"SUMIF(Feuil5!$B:$B,Consolidation!$B114,Feuil5!$D:$D)","v":0},null,null,null,{"$f":"SUMIF(Feuil1!$B:$B,Consolidation!$B114,Feuil1!$F:$F)","v":0},null,{"$f":"SUMIF(Feuil2!$B:$B,Consolidation!$B114,Feuil2!$F:$F)","v":0},null,{"$f":"SUMIF(Feuil3!$B:$B,Consolidation!$B114,Feuil3!$F:$F)","v":0},null,{"$f":"SUMIF(Feuil4!$B:$B,Consolidation!$B114,Feuil4!$F:$F)","v":0},null,{"$f":"SUMIF(Feuil5!$B:$B,Consolidation!$B114,Feuil5!$F:$F)","v":0},null,null,null,{"$f":"SUMIF(Feuil1!$B:$B,Consolidation!$B114,Feuil1!$H:$H)","v":0},null,{"$f":"SUMIF(Feuil2!$B:$B,Consolidation!$B114,Feuil2!$H:$H)","v":0},null,{"$f":"SUMIF(Feuil3!$B:$B,Consolidation!$B114,Feuil3!$H:$H)","v":0},null,{"$f":"SUMIF(Feuil4!$B:$B,Consolidation!$B114,Feuil4!$H:$H)","v":0},null,{"$f":"SUMIF(Feuil5!$B:$B,Consolidation!$B114,Feuil5!$H:$H)","v":0},null,null,null,0]
["InsererLigne",null,null,null,null,null,null,null,null,null,null,null,null,null,null,null,null,null,null,null,null,null,null,null,null,null,null,null,null,null,null,null,null,null,null,null,null,null,null,0]
[null,39,"Honoraires pour prestations de tiers",{"$f":"SUBTOTAL(9,D117:D126)","v":0},{"$f":"IF($E$5>0,D116/$E$5,0)","v":0},{"$f":"SUBTOTAL(9,F117:F126)","v":0},{"$f":"IF($G$5>0,F116/$G$5,0)","v":0},{"$f":"SUBTOTAL(9,H117:H126)","v":0},{"$f":"IF($I$5>0,H116/$I$5,0)","v":0},{"$f":"SUBTOTAL(9,J117:J126)","v":0},{"$f":"IF($K$5>0,J116/$K$5,0)","v":0},{"$f":"SUBTOTAL(9,L117:L126)","v":0},{"$f":"IF($M$5>0,L116/$M$5,0)","v":0},{"$f":"D116+F116+H116+J116+L116","v":0},{"$f":"E116+G116+I116+K116+M116","v":0},{"$f":"SUBTOTAL(9,P117:P126)","v":0},{"$f":"IF($Q$5>0,P116/$Q$5,0)","v":0},{"$f":"SUBTOTAL(9,R117:R126)","v":0},{"$f":"IF($S$5>0,R116/$S$5,0)","v":0},{"$f":"SUBTOTAL(9,T117:T126)","v":0},{"$f":"IF($U$5>0,T116/$U$5,0)","v":0},{"$f":"SUBTOTAL(9,V117:V126)","v":0},{"$f":"IF($W$5>0,V116/$W$5,0)","v":0},{"$f":"SUBTOTAL(9,X117:X126)","v":0},{"$f":"IF($Y$5>0,X116/$Y$5,0)","v":0},{"$f":"P116+R116+T116+V116+X116","v":0},{"$f":"Q116+S116+U116+W116+Y116","v":0},{"$f":"SUBTOTAL(9,AB117:AB126)","v":0},{"$f":"IF($AC$5>0,AB116/$AC$5,0)","v":0},{"$f":"SUBTOTAL(9,AD117:AD126)","v":0},{"$f":"IF($AE$5>0,AD116/$AE$5,0)","v":0},{"$f":"SUBTOTAL(9,AF117:AF126)","v":0},{"$f":"IF($AG$5>0,AF116/$AG$5,0)","v":0},{"$f":"SUBTOTAL(9,AH117:AH126)","v":0},{"$f":"IF($AI$5>0,AH116/$AI$5,0)","v":0},{"$f":"SUBTOTAL(9,AJ117:AJ126)","v":0},{"$f":"IF($AK$5>0,AJ116/$AK$5,0)","v":0},{"$f":"AB116+AD116+AF116+AH116+AJ116","v":0},{"$f":"AC116+AE116+AG116+AI116+AK116","v":0},0]
[null,3900,"Frais de surveillance par le médecin du travail                                                  ",{"$f":"SUMIF(Feuil1!$B:$B,Consolidation!$B117,Feuil1!$D:$D)","v":0},null,{"$f":"SUMIF(Feuil2!$B:$B,Consolidation!$B117,Feuil2!$D:$D)","v":0},null,{"$f":"SUMIF(Feuil3!$B:$B,Consolidation!$B117,Feuil3!$D:$D)","v":0},null,{"$f":"SUMIF(Feuil4!$B:$B,Consolidation!$B117,Feuil4!$D:$D)","v":0},null,{"$f":"SUMIF(Feuil5!$B:$B,Consolidation!$B117,Feuil5!$D:$D)","v":0},null,{"$f":"D117+F117+H117+J117+L117","v":0},{"$f":"E117+G117+I117+K117+M117","v":0},{"$f":"SUMIF(Feuil1!$B:$B,Consolidation!$B117,Feuil1!$F:$F)","v":0},null,{"$f":"SUMIF(Feuil2!$B:$B,Consolidation!$B117,Feuil2!$F:$F)","v":0},null,{"$f":"SUMIF(Feuil3!$B:$B,Consolidation!$B117,Feuil3!$F:$F)","v":0},null,{"$f":"SUMIF(Feuil4!$B:$B,Consolidation!$B117,Feuil4!$F:$F)","v":0},null,{"$f":"SUMIF(Feuil5!$B:$B,Consolidation!$B117,Feuil5!$F:$F)","v":0},null,{"$f":"P117+R117+T117+V117+X117","v":0},{"$f":"Q117+S117+U117+W117+Y117","v":0},{"$f":"SUMIF(Feuil1!$B:$B,Consolidation!$B117,Feuil1!$H:$H)","v":0},null,{"$f":"SUMIF(Feuil2!$B:$B,Consolidation!$B117,Feuil2!$H:$H)","v":0},null,{"$f":"SUMIF(Feuil3!$B:$B,Consolidation!$B117,Feuil3!$H:$H)","v":0},null,{"$f":"SUMIF(Feuil4!$B:$B,Consolidation!$B117,Feuil4!$H:$H)","v":0},null,{"$f":"SUMIF(Feuil5!$B:$B,Consolidation!$B117,Feuil5!$H:$H)","v":0},null,{"$f":"AB117+AD117+AF117+AH117+AJ117","v":0},{"$f":"AC117+AE117+AG117+AI117+AK117","v":0},0]
["InsererLigne",3910,"Frais CNPea (salaires)",{"$f":"SUMIF(Feuil1!$B:$B,Consolidation!$B118,Feuil1!$D:$D)","v":0},null,{"$f":"SUMIF(Feuil2!$B:$B,Consolidation!$B118,Feuil2!$D:$D)","v":0},null,{"$f":"SUMIF(Feuil3!$B:$B,Consolidation!$B118,Feuil3!$D:$D)","v":0},null,{"$f":"SUMIF(Feuil4!$B:$B,Consolidation!$B118,Feuil4!$D:$D)","v":0},null,{"$f":"SUMIF(Feuil5!$B:$B,Consolidation!$B118,Feuil5!$D:$D)","v":0},null,0,0,{"$f":"SUMIF(Feuil1!$B:$B,Consolidation!$B118,Feuil1!$F:$F)","v":0},null,{"$f":"SUMIF(Feuil2!$B:$B,Consolidation!$B118,Feuil2!$F:$F)","v":0},null,{"$f":"SUMIF(Feuil3!$B:$B,Consolidation!$B118,Feuil3!$F:$F)","v":0},null,{"$f":"SUMIF(Feuil4!$B:$B,Consolidation!$B118,Feuil4!$F:$F)","v":0},null,{"$f":"SUMIF(Feuil5!$B:$B,Consolidation!$B118,Feuil5!$F:$F)","v":0},null,0,0,{"$f":"SUMIF(Feuil1!$B:$B,Consolidation!$B118,Feuil1!$H:$H)","v":0},null,{"$f":"SUMIF(Feuil2!$B:$B,Consolidation!$B118,Feuil2!$H:$H)","v":0},null,{"$f":"SUMIF(Feuil3!$B:$B,Consolidation!$B118,Feuil3!$H:$H)","v":0},null,{"$f":"SUMIF(Feuil4!$B:$B,Consolidation!$B118,Feuil4!$H:$H)","v":0},null,{"$f":"SUMIF(Feuil5!$B:$B,Consolidation!$B118,Feuil5!$H:$H)","v":0},null,0,0,0]
["InsererLigne",3911,"Prestations d'orthophonie",{"$f":"SUMIF(Feuil1!$B:$B,Consolidation!$B119,Feuil1!$D:$D)","v":0},null,{"$f":"SUMIF(Feuil2!$B:$B,Consolidation!$B119,Feuil2!$D:$D)","v":0},null,{"$f":"SUMIF(Feuil3!$B:$B,Consolidation!$B119,Feuil3!$D:$D)","v":0},null,{"$f":"SUMIF(Feuil4!$B:$B,Consolidation!$B119,Feuil4!$D:$D)","v":0},null,{"$f":"SUMIF(Feuil5!$B:$B,Consolidation!$B119,Feuil5!$D:$D)","v":0},null,0,0,{"$f":"SUMIF(Feuil1!$B:$B,Consolidation!$B119,Feuil1!$F:$F)","v":0},null,{"$f":"SUMIF(Feuil2!$B:$B,Consolidation!$B119,Feuil2!$F:$F)","v":0},null,{"$f":"SUMIF(Feuil3!$B:$B,Consolidation!$B119,Feuil3!$F:$F)","v":0},null,{"$f":"SUMIF(Feuil4!$B:$B,Consolidation!$B119,Feuil4!$F:$F)","v":0},null,{"$f":"SUMIF(Feuil5!$B:$B,Consolidation!$B119,Feuil5!$F:$F)","v":0},null,0,0,{"$f":"SUMIF(Feuil1!$B:$B,Consolidation!$B119,Feuil1!$H:$H)","v":0},null,{"$f":"SUMIF(Feuil2!$B:$B,Consolidation!$B119,Feuil2!$H:$H)","v":0},null,{"$f":"SUMIF(Feuil3!$B:$B,Consolidation!$B119,Feuil3!$H:$H)","v":0},null,{"$f":"SUMIF(Feuil4!$B:$B,Consolidation!$B119,Feuil4!$H:$H)","v":0},null,{"$f":"SUMIF(Feuil5!$B:$B,Consolidation!$B119,Feuil5!$H:$H)","v":0},null,0,0,0]
["InsererLigne",3912,"Prestations de thérapie",{"$f":"SUMIF(Feuil1!$B:$B,Consolidation!$B120,Feuil1!$D:$D)","v":0},null,{"$f":"SUMIF(Feuil2!$B:$B,Consolidation!$B120,Feuil2!$D:$D)","v":0},null,{"$f":"SUMIF(Feuil3!$B:$B,Consolidation!$B120,Feuil3!$D:$D)","v":0},null,{"$f":"SUMIF(Feuil4!$B:$B,Consolidation!$B120,Feuil4!$D:$D)","v":0},null,{"$f":"SUMIF(Feuil5!$B:$B,Consolidation!$B120,Feuil5!$D:$D)","v":0},null,0,0,{"$f":"SUMIF(Feuil1!$B:$B,Consolidation!$B120,Feuil1!$F:$F)","v":0},null,{"$f":"SUMIF(Feuil2!$B:$B,Consolidation!$B120,Feuil2!$F:$F)","v":0},null,{"$f":"SUMIF(Feuil3!$B:$B,Consolidation!$B120,Feuil3!$F:$F)","v":0},null,{"$f":"SUMIF(Feuil4!$B:$B,Consolidation!$B120,Feuil4!$F:$F)","v":0},null,{"$f":"SUMIF(Feuil5!$B:$B,Consolidation!$B120,Feuil5!$F:$F)","v":0},null,0,0,{"$f":"SUMIF(Feuil1!$B:$B,Consolidation!$B120,Feuil1!$H:$H)","v":0},null,{"$f":"SUMIF(Feuil2!$B:$B,Consolidation!$B120,Feuil2!$H:$H)","v":0},null,{"$f":"SUMIF(Feuil3!$B:$B,Consolidation!$B120,Feuil3!$H:$H)","v":0},null,{"$f":"SUMIF(Feuil4!$B:$B,Consolidation!$B120,Feuil4!$H:$H)","v":0},null,{"$f":"SUMIF(Feuil5!$B:$B,Consolidation!$B120,Feuil5!$H:$H)","v":0},null,0,0,0]
["InsererLigne",3920,"Frais du GIS                                                  ",{"$f":"SUMIF(Feuil1!$B:$B,Consolidation!$B121,Feuil1!$D:$D)","v":0},null,{"$f":"SUMIF(Feuil2!$B:$B,Consolidation!$B121,Feuil2!$D:$D)","v":0},null,{"$f":"SUMIF(Feuil3!$B:$B,Consolidation!$B121,Feuil3!$D:$D)","v":0},null,{"$f":"SUMIF(Feuil4!$B:$B,Consolidation!$B121,Feuil4!$D:$D)","v":0},null,{"$f":"SUMIF(Feuil5!$B:$B,Consolidation!$B121,Feuil5!$D:$D)","v":0},null,0,0,{"$f":"SUMIF(Feuil1!$B:$B,Consolidation!$B121,Feuil1!$F:$F)","v":0},null,{"$f":"SUMIF(Feuil2!$B:$B,Consolidation!$B121,Feuil2!$F:$F)","v":0},null,{"$f":"SUMIF(Feuil3!$B:$B,Consolidation!$B121,Feuil3!$F:$F)","v":0},null,{"$f":"SUMIF(Feuil4!$B:$B,Consolidation!$B121,Feuil4!$F:$F)","v":0},null,{"$f":"SUMIF(Feuil5!$B:$B,Consolidation!$B121,Feuil5!$F:$F)","v":0},null,0,0,{"$f":"SUMIF(Feuil1!$B:$B,Consolidation!$B121,Feuil1!$H:$H)","v":0},null,{"$f":"SUMIF(Feuil2!$B:$B,Consolidation!$B121,Feuil2!$H:$H)","v":0},null,{"$f":"SUMIF(Feuil3!$B:$B,Consolidation!$B121,Feuil3!$H:$H)","v":0},null,{"$f":"SUMIF(Feuil4!$B:$B,Consolidation!$B121,Feuil4!$H:$H)","v":0},null,{"$f":"SUMIF(Feuil5!$B:$B,Consolidation!$B121,Feuil5!$H:$H)","v":0},null,0,0,0]
["InsererLigne",3930,"Honoraires des médecins, supervisions par psychologues",{"$f":"SUMIF(Feuil1!$B:$B,Consolidation!$B122,Feuil1!$D:$D)","v":0},null,{"$f":"SUMIF(Feuil2!$B:$B,Consolidation!$B122,Feuil2!$D:$D)","v":0},null,{"$f":"SUMIF(Feuil3!$B:$B,Consolidation!$B122,Feuil3!$D:$D)","v":0},null,{"$f":"SUMIF(Feuil4!$B:$B,Consolidation!$B122,Feuil4!$D:$D)","v":0},null,{"$f":"SUMIF(Feuil5!$B:$B,Consolidation!$B122,Feuil5!$D:$D)","v":0},null,0,0,{"$f":"SUMIF(Feuil1!$B:$B,Consolidation!$B122,Feuil1!$F:$F)","v":0},null,{"$f":"SUMIF(Feuil2!$B:$B,Consolidation!$B122,Feuil2!$F:$F)","v":0},null,{"$f":"SUMIF(Feuil3!$B:$B,Consolidation!$B122,Feuil3!$F:$F)","v":0},null,{"$f":"SUMIF(Feuil4!$B:$B,Consolidation!$B122,Feuil4!$F:$F)","v":0},null,{"$f":"SUMIF(Feuil5!$B:$B,Consolidation!$B122,Feuil5!$F:$F)","v":0},null,0,0,{"$f":"SUMIF(Feuil1!$B:$B,Consolidation!$B122,Feuil1!$H:$H)","v":0},null,{"$f":"SUMIF(Feuil2!$B:$B,Consolidation!$B122,Feuil2!$H:$H)","v":0},null,{"$f":"SUMIF(Feuil3!$B:$B,Consolidation!$B122,Feuil3!$H:$H)","v":0},null,{"$f":"SUMIF(Feuil4!$B:$B,Consolidation!$B122,Feuil4!$H:$H)","v":0},null,{"$f":"SUMIF(Feuil5!$B:$B,Consolidation!$B122,Feuil5!$H:$H)","v":0},null,0,0,0]
["InsererLigne",3940,"Personnel temporaire(intérimaires, soutien scolaire,...)",{"$f":"SUMIF(Feuil1!$B:$B,Consolidation!$B123,Feuil1!$D:$D)","v":0},null,{"$f":"SUMIF(Feuil2!$B:$B,Consolidation!$B123,Feuil2!$D:$D)","v":0},null,{"$f":"SUMIF(Feuil3!$B:$B,Consolidation!$B123,Feuil3!$D:$D)","v":0},null,{"$f":"SUMIF(Feuil4!$B:$B,Consolidation!$B123,Feuil4!$D:$D)","v":0},null,{"$f":"SUMIF(Feuil5!$B:$B,Consolidation!$B123,Feuil5!$D:$D)","v":0},null,0,0,{"$f":"SUMIF(Feuil1!$B:$B,Consolidation!$B123,Feuil1!$F:$F)","v":0},null,{"$f":"SUMIF(Feuil2!$B:$B,Consolidation!$B123,Feuil2!$F:$F)","v":0},null,{"$f":"SUMIF(Feuil3!$B:$B,Consolidation!$B123,Feuil3!$F:$F)","v":0},null,{"$f":"SUMIF(Feuil4!$B:$B,Consolidation!$B123,Feuil4!$F:$F)","v":0},null,{"$f":"SUMIF(Feuil5!$B:$B,Consolidation!$B123,Feuil5!$F:$F)","v":0},null,0,0,{"$f":"SUMIF(Feuil1!$B:$B,Consolidation!$B123,Feuil1!$H:$H)","v":0},null,{"$f":"SUMIF(Feuil2!$B:$B,Consolidation!$B123,Feuil2!$H:$H)","v":0},null,{"$f":"SUMIF(Feuil3!$B:$B,Consolidation!$B123,Feuil3!$H:$H)","v":0},null,{"$f":"SUMIF(Feuil4!$B:$B,Consolidation!$B123,Feuil4!$H:$H)","v":0},null,{"$f":"SUMIF(Feuil5!$B:$B,Consolidation!$B123,Feuil5!$H:$H)","v":0},null,0,0,0]
["InsererLigne",3950,"Ecolage stagiaires",{"$f":"SUMIF(Feuil1!$B:$B,Consolidation!$B124,Feuil1!$D:$D)","v":0},null,{"$f":"SUMIF(Feuil2!$B:$B,Consolidation!$B124,Feuil2!$D:$D)","v":0},null,{"$f":"SUMIF(Feuil3!$B:$B,Consolidation!$B124,Feuil3!$D:$D)","v":0},null,{"$f":"SUMIF(Feuil4!$B:$B,Consolidation!$B124,Feuil4!$D:$D)","v":0},null,{"$f":"SUMIF(Feuil5!$B:$B,Consolidation!$B124,Feuil5!$D:$D)","v":0},null,0,0,{"$f":"SUMIF(Feuil1!$B:$B,Consolidation!$B124,Feuil1!$F:$F)","v":0},null,{"$f":"SUMIF(Feuil2!$B:$B,Consolidation!$B124,Feuil2!$F:$F)","v":0},null,{"$f":"SUMIF(Feuil3!$B:$B,Consolidation!$B124,Feuil3!$F:$F)","v":0},null,{"$f":"SUMIF(Feuil4!$B:$B,Consolidation!$B124,Feuil4!$F:$F)","v":0},null,{"$f":"SUMIF(Feuil5!$B:$B,Consolidation!$B124,Feuil5!$F:$F)","v":0},null,0,0,{"$f":"SUMIF(Feuil1!$B:$B,Consolidation!$B124,Feuil1!$H:$H)","v":0},null,{"$f":"SUMIF(Feuil2!$B:$B,Consolidation!$B124,Feuil2!$H:$H)","v":0},null,{"$f":"SUMIF(Feuil3!$B:$B,Consolidation!$B124,Feuil3!$H:$H)","v":0},null,{"$f":"SUMIF(Feuil4!$B:$B,Consolidation!$B124,Feuil4!$H:$H)","v":0},null,{"$f":"SUMIF(Feuil5!$B:$B,Consolidation!$B124,Feuil5!$H:$H)","v":0},null,0,0,0]
["InsererLigne",3990,"Autres honoraires",{"$f":"SUMIF(Feuil1!$B:$B,Consolidation!$B125,Feuil1!$D:$D)","v":0},null,{"$f":"SUMIF(Feuil2!$B:$B,Consolidation!$B125,Feuil2!$D:$D)","v":0},null,{"$f":"SUMIF(Feuil3!$B:$B,Consolidation!$B125,Feuil3!$D:$D)","v":0},null,{"$f":"SUMIF(Feuil4!$B:$B,Consolidation!$B125,Feuil4!$D:$D)","v":0},null,{"$f":"SUMIF(Feuil5!$B:$B,Consolidation!$B125,Feuil5!$D:$D)","v":0},null,0,0,{"$f":"SUMIF(Feuil1!$B:$B,Consolidation!$B125,Feuil1!$F:$F)","v":0},null,{"$f":"SUMIF(Feuil2!$B:$B,Consolidation!$B125,Feuil2!$F:$F)","v":0},null,{"$f":"SUMIF(Feuil3!$B:$B,Consolidation!$B125,Feuil3!$F:$F)","v":0},null,{"$f":"SUMIF(Feuil4!$B:$B,Consolidation!$B125,Feuil4!$F:$F)","v":0},null,{"$f":"SUMIF(Feuil5!$B:$B,Consolidation!$B125,Feuil5!$F:$F)","v":0},null,0,0,{"$f":"SUMIF(Feuil1!$B:$B,Consolidation!$B125,Feuil1!$H:$H)","v":0},null,{"$f":"SUMIF(Feuil2!$B:$B,Consolidation!$B125,Feuil2!$H:$H)","v":0},null,{"$f":"SUMIF(Feuil3!$B:$B,Consolidation!$B125,Feuil3!$H:$H)","v":0},null,{"$f":"SUMIF(Feuil4!$B:$B,Consolidation!$B125,Feuil4!$H:$H)","v":0},null,{"$f":"SUMIF(Feuil5!$B:$B,Consolidation!$B125,Feuil5!$H:$H)","v":0},null,0,0,0]
["InsererLigne",null,null,null,null,null,null,null,null,null,null,null,null,null,null,null,null,null,null,null,null,null,null,null,null,null,null,null,null,null,null,null,null,null,null,null,null,null,null,0]
[null,4,"AUTRES CHARGES D'EXPLOITATION",{"$f":"SUBTOTAL(9,D128:D276)","v":0},0,0,0,0,0,0,0,0,0,{"$f":"D127+F127+H127+J127+L127","v":0},0,{"$f":"SUBTOTAL(9,P128:P276)","v":0},0,0,0,0,0,0,0,0,0,0,0,{"$f":"SUBTOTAL(9,AB128:AB276)","v":0},0,0,0,0,0,0,0,0,0,0,0,0]
[null,null,null,null,null,null,null,null,null,null,null,null,null,null,null,null,null,null,null,null,null,null,null,null,null,null,null,null,null,null,null,null,null,null,null,null,null,null,null,0]
[null,40,"Matériel médical d'exploitation",{"$f":"SUBTOTAL(9,D130:D140)","v":0},{"$f":"IF($E$5>0,D129/$E$5,0)","v":0},{"$f":"SUBTOTAL(9,F130:F140)","v":0},{"$f":"IF($G$5>0,F129/$G$5,0)","v":0},{"$f":"SUBTOTAL(9,H130:H140)","v":0},{"$f":"IF($I$5>0,H129/$I$5,0)","v":0},{"$f":"SUBTOTAL(9,J130:J140)","v":0},{"$f":"IF($K$5>0,J129/$K$5,0)","v":0},{"$f":"SUBTOTAL(9,L130:L140)","v":0},{"$f":"IF($M$5>0,L129/$M$5,0)","v":0},0,0,{"$f":"SUBTOTAL(9,P130:P140)","v":0},{"$f":"IF($Q$5>0,P129/$Q$5,0)","v":0},{"$f":"SUBTOTAL(9,R130:R140)","v":0},{"$f":"IF($S$5>0,R129/$S$5,0)","v":0},{"$f":"SUBTOTAL(9,T130:T140)","v":0},{"$f":"IF($U$5>0,T129/$U$5,0)","v":0},{"$f":"SUBTOTAL(9,V130:V140)","v":0},{"$f":"IF($W$5>0,V129/$W$5,0)","v":0},{"$f":"SUBTOTAL(9,X130:X140)","v":0},{"$f":"IF($Y$5>0,X129/$Y$5,0)","v":0},0,0,{"$f":"SUBTOTAL(9,AB130:AB140)","v":0},{"$f":"IF($AC$5>0,AB129/$AC$5,0)","v":0},{"$f":"SUBTOTAL(9,AD130:AD140)","v":0},{"$f":"IF($AE$5>0,AD129/$AE$5,0)","v":0},{"$f":"SUBTOTAL(9,AF130:AF140)","v":0},{"$f":"IF($AG$5>0,AF129/$AG$5,0)","v":0},{"$f":"SUBTOTAL(9,AH130:AH140)","v":0},{"$f":"IF($AI$5>0,AH129/$AI$5,0)","v":0},{"$f":"SUBTOTAL(9,AJ130:AJ140)","v":0},{"$f":"IF($AK$5>0,AJ129/$AK$5,0)","v":0},0,0,0]
["InsererLigne",4001,"Médicaments                                                  ",{"$f":"SUMIF(Feuil1!$B:$B,Consolidation!$B130,Feuil1!$D:$D)","v":0},null,{"$f":"SUMIF(Feuil2!$B:$B,Consolidation!$B130,Feuil2!$D:$D)","v":0},null,{"$f":"SUMIF(Feuil3!$B:$B,Consolidation!$B130,Feuil3!$D:$D)","v":0},null,{"$f":"SUMIF(Feuil4!$B:$B,Consolidation!$B130,Feuil4!$D:$D)","v":0},null,{"$f":"SUMIF(Feuil5!$B:$B,Consolidation!$B130,Feuil5!$D:$D)","v":0},null,{"$f":"D130+F130+H130+J130+L130","v":0},{"$f":"E130+G130+I130+K130+M130","v":0},{"$f":"SUMIF(Feuil1!$B:$B,Consolidation!$B130,Feuil1!$F:$F)","v":0},null,{"$f":"SUMIF(Feuil2!$B:$B,Consolidation!$B130,Feuil2!$F:$F)","v":0},null,{"$f":"SUMIF(Feuil3!$B:$B,Consolidation!$B130,Feuil3!$F:$F)","v":0},null,{"$f":"SUMIF(Feuil4!$B:$B,Consolidation!$B130,Feuil4!$F:$F)","v":0},null,{"$f":"SUMIF(Feuil5!$B:$B,Consolidation!$B130,Feuil5!$F:$F)","v":0},null,0,0,{"$f":"SUMIF(Feuil1!$B:$B,Consolidation!$B130,Feuil1!$H:$H)","v":0},null,{"$f":"SUMIF(Feuil2!$B:$B,Consolidation!$B130,Feuil2!$H:$H)","v":0},null,{"$f":"SUMIF(Feuil3!$B:$B,Consolidation!$B130,Feuil3!$H:$H)","v":0},null,{"$f":"SUMIF(Feuil4!$B:$B,Consolidation!$B130,Feuil4!$H:$H)","v":0},null,{"$f":"SUMIF(Feuil5!$B:$B,Consolidation!$B130,Feuil5!$H:$H)","v":0},null,0,0,0]
["InsererLigne",4002,"Soins sanitaires                                                  ",{"$f":"SUMIF(Feuil1!$B:$B,Consolidation!$B131,Feuil1!$D:$D)","v":0},null,{"$f":"SUMIF(Feuil2!$B:$B,Consolidation!$B131,Feuil2!$D:$D)","v":0},null,{"$f":"SUMIF(Feuil3!$B:$B,Consolidation!$B131,Feuil3!$D:$D)","v":0},null,{"$f":"SUMIF(Feuil4!$B:$B,Consolidation!$B131,Feuil4!$D:$D)","v":0},null,{"$f":"SUMIF(Feuil5!$B:$B,Consolidation!$B131,Feuil5!$D:$D)","v":0},null,0,0,{"$f":"SUMIF(Feuil1!$B:$B,Consolidation!$B131,Feuil1!$F:$F)","v":0},null,{"$f":"SUMIF(Feuil2!$B:$B,Consolidation!$B131,Feuil2!$F:$F)","v":0},null,{"$f":"SUMIF(Feuil3!$B:$B,Consolidation!$B131,Feuil3!$F:$F)","v":0},null,{"$f":"SUMIF(Feuil4!$B:$B,Consolidation!$B131,Feuil4!$F:$F)","v":0},null,{"$f":"SUMIF(Feuil5!$B:$B,Consolidation!$B131,Feuil5!$F:$F)","v":0},null,0,0,{"$f":"SUMIF(Feuil1!$B:$B,Consolidation!$B131,Feuil1!$H:$H)","v":0},null,{"$f":"SUMIF(Feuil2!$B:$B,Consolidation!$B131,Feuil2!$H:$H)","v":0},null,{"$f":"SUMIF(Feuil3!$B:$B,Consolidation!$B131,Feuil3!$H:$H)","v":0},null,{"$f":"SUMIF(Feuil4!$B:$B,Consolidation!$B131,Feuil4!$H:$H)","v":0},null,{"$f":"SUMIF(Feuil5!$B:$B,Consolidation!$B131,Feuil5!$H:$H)","v":0},null,0,0,0]
["InsererLigne",4003,"Examens de laboratoire / analyse d'urine                                                  ",{"$f":"SUMIF(Feuil1!$B:$B,Consolidation!$B132,Feuil1!$D:$D)","v":0},null,{"$f":"SUMIF(Feuil2!$B:$B,Consolidation!$B132,Feuil2!$D:$D)","v":0},null,{"$f":"SUMIF(Feuil3!$B:$B,Consolidation!$B132,Feuil3!$D:$D)","v":0},null,{"$f":"SUMIF(Feuil4!$B:$B,Consolidation!$B132,Feuil4!$D:$D)","v":0},null,{"$f":"SUMIF(Feuil5!$B:$B,Consolidation!$B132,Feuil5!$D:$D)","v":0},null,0,0,{"$f":"SUMIF(Feuil1!$B:$B,Consolidation!$B132,Feuil1!$F:$F)","v":0},null,{"$f":"SUMIF(Feuil2!$B:$B,Consolidation!$B132,Feuil2!$F:$F)","v":0},null,{"$f":"SUMIF(Feuil3!$B:$B,Consolidation!$B132,Feuil3!$F:$F)","v":0},null,{"$f":"SUMIF(Feuil4!$B:$B,Consolidation!$B132,Feuil4!$F:$F)","v":0},null,{"$f":"SUMIF(Feuil5!$B:$B,Consolidation!$B132,Feuil5!$F:$F)","v":0},null,0,0,{"$f":"SUMIF(Feuil1!$B:$B,Consolidation!$B132,Feuil1!$H:$H)","v":0},null,{"$f":"SUMIF(Feuil2!$B:$B,Consolidation!$B132,Feuil2!$H:$H)","v":0},null,{"$f":"SUMIF(Feuil3!$B:$B,Consolidation!$B132,Feuil3!$H:$H)","v":0},null,{"$f":"SUMIF(Feuil4!$B:$B,Consolidation!$B132,Feuil4!$H:$H)","v":0},null,{"$f":"SUMIF(Feuil5!$B:$B,Consolidation!$B132,Feuil5!$H:$H)","v":0},null,0,0,0]
["InsererLigne",4004,"Prestations médicales fournies par des tiers(dentiste scolaire, hygiéniste)",{"$f":"SUMIF(Feuil1!$B:$B,Consolidation!$B133,Feuil1!$D:$D)","v":0},null,{"$f":"SUMIF(Feuil2!$B:$B,Consolidation!$B133,Feuil2!$D:$D)","v":0},null,{"$f":"SUMIF(Feuil3!$B:$B,Consolidation!$B133,Feuil3!$D:$D)","v":0},null,{"$f":"SUMIF(Feuil4!$B:$B,Consolidation!$B133,Feuil4!$D:$D)","v":0},null,{"$f":"SUMIF(Feuil5!$B:$B,Consolidation!$B133,Feuil5!$D:$D)","v":0},null,0,0,{"$f":"SUMIF(Feuil1!$B:$B,Consolidation!$B133,Feuil1!$F:$F)","v":0},null,{"$f":"SUMIF(Feuil2!$B:$B,Consolidation!$B133,Feuil2!$F:$F)","v":0},null,{"$f":"SUMIF(Feuil3!$B:$B,Consolidation!$B133,Feuil3!$F:$F)","v":0},null,{"$f":"SUMIF(Feuil4!$B:$B,Consolidation!$B133,Feuil4!$F:$F)","v":0},null,{"$f":"SUMIF(Feuil5!$B:$B,Consolidation!$B133,Feuil5!$F:$F)","v":0},null,0,0,{"$f":"SUMIF(Feuil1!$B:$B,Consolidation!$B133,Feuil1!$H:$H)","v":0},null,{"$f":"SUMIF(Feuil2!$B:$B,Consolidation!$B133,Feuil2!$H:$H)","v":0},null,{"$f":"SUMIF(Feuil3!$B:$B,Consolidation!$B133,Feuil3!$H:$H)","v":0},null,{"$f":"SUMIF(Feuil4!$B:$B,Consolidation!$B133,Feuil4!$H:$H)","v":0},null,{"$f":"SUMIF(Feuil5!$B:$B,Consolidation!$B133,Feuil5!$H:$H)","v":0},null,0,0,0]
["InsererLigne",4005,"Dépenses médicales et soins sanitaires à charge des élèves et pensionnaires, frais irrécupérables",{"$f":"SUMIF(Feuil1!$B:$B,Consolidation!$B134,Feuil1!$D:$D)","v":0},null,{"$f":"SUMIF(Feuil2!$B:$B,Consolidation!$B134,Feuil2!$D:$D)","v":0},null,{"$f":"SUMIF(Feuil3!$B:$B,Consolidation!$B134,Feuil3!$D:$D)","v":0},null,{"$f":"SUMIF(Feuil4!$B:$B,Consolidation!$B134,Feuil4!$D:$D)","v":0},null,{"$f":"SUMIF(Feuil5!$B:$B,Consolidation!$B134,Feuil5!$D:$D)","v":0},null,0,0,{"$f":"SUMIF(Feuil1!$B:$B,Consolidation!$B134,Feuil1!$F:$F)","v":0},null,{"$f":"SUMIF(Feuil2!$B:$B,Consolidation!$B134,Feuil2!$F:$F)","v":0},null,{"$f":"SUMIF(Feuil3!$B:$B,Consolidation!$B134,Feuil3!$F:$F)","v":0},null,{"$f":"SUMIF(Feuil4!$B:$B,Consolidation!$B134,Feuil4!$F:$F)","v":0},null,{"$f":"SUMIF(Feuil5!$B:$B,Consolidation!$B134,Feuil5!$F:$F)","v":0},null,0,0,{"$f":"SUMIF(Feuil1!$B:$B,Consolidation!$B134,Feuil1!$H:$H)","v":0},null,{"$f":"SUMIF(Feuil2!$B:$B,Consolidation!$B134,Feuil2!$H:$H)","v":0},null,{"$f":"SUMIF(Feuil3!$B:$B,Consolidation!$B134,Feuil3!$H:$H)","v":0},null,{"$f":"SUMIF(Feuil4!$B:$B,Consolidation!$B134,Feuil4!$H:$H)","v":0},null,{"$f":"SUMIF(Feuil5!$B:$B,Consolidation!$B134,Feuil5!$H:$H)","v":0},null,0,0,0]
["InsererLigne",4006,"Matériel de pansements",{"$f":"SUMIF(Feuil1!$B:$B,Consolidation!$B135,Feuil1!$D:$D)","v":0},null,{"$f":"SUMIF(Feuil2!$B:$B,Consolidation!$B135,Feuil2!$D:$D)","v":0},null,{"$f":"SUMIF(Feuil3!$B:$B,Consolidation!$B135,Feuil3!$D:$D)","v":0},null,{"$f":"SUMIF(Feuil4!$B:$B,Consolidation!$B135,Feuil4!$D:$D)","v":0},null,{"$f":"SUMIF(Feuil5!$B:$B,Consolidation!$B135,Feuil5!$D:$D)","v":0},null,0,0,{"$f":"SUMIF(Feuil1!$B:$B,Consolidation!$B135,Feuil1!$F:$F)","v":0},null,{"$f":"SUMIF(Feuil2!$B:$B,Consolidation!$B135,Feuil2!$F:$F)","v":0},null,{"$f":"SUMIF(Feuil3!$B:$B,Consolidation!$B135,Feuil3!$F:$F)","v":0},null,{"$f":"SUMIF(Feuil4!$B:$B,Consolidation!$B135,Feuil4!$F:$F)","v":0},null,{"$f":"SUMIF(Feuil5!$B:$B,Consolidation!$B135,Feuil5!$F:$F)","v":0},null,0,0,{"$f":"SUMIF(Feuil1!$B:$B,Consolidation!$B135,Feuil1!$H:$H)","v":0},null,{"$f":"SUMIF(Feuil2!$B:$B,Consolidation!$B135,Feuil2!$H:$H)","v":0},null,{"$f":"SUMIF(Feuil3!$B:$B,Consolidation!$B135,Feuil3!$H:$H)","v":0},null,{"$f":"SUMIF(Feuil4!$B:$B,Consolidation!$B135,Feuil4!$H:$H)","v":0},null,{"$f":"SUMIF(Feuil5!$B:$B,Consolidation!$B135,Feuil5!$H:$H)","v":0},null,0,0,{"$f":"SUM(D135:AM135)","v":0}]
["InsererLigne",4007,"Matériel à usage unique (langes)",{"$f":"SUMIF(Feuil1!$B:$B,Consolidation!$B136,Feuil1!$D:$D)","v":0},null,{"$f":"SUMIF(Feuil2!$B:$B,Consolidation!$B136,Feuil2!$D:$D)","v":0},null,{"$f":"SUMIF(Feuil3!$B:$B,Consolidation!$B136,Feuil3!$D:$D)","v":0},null,{"$f":"SUMIF(Feuil4!$B:$B,Consolidation!$B136,Feuil4!$D:$D)","v":0},null,{"$f":"SUMIF(Feuil5!$B:$B,Consolidation!$B136,Feuil5!$D:$D)","v":0},null,0,0,{"$f":"SUMIF(Feuil1!$B:$B,Consolidation!$B136,Feuil1!$F:$F)","v":0},null,{"$f":"SUMIF(Feuil2!$B:$B,Consolidation!$B136,Feuil2!$F:$F)","v":0},null,{"$f":"SUMIF(Feuil3!$B:$B,Consolidation!$B136,Feuil3!$F:$F)","v":0},null,{"$f":"SUMIF(Feuil4!$B:$B,Consolidation!$B136,Feuil4!$F:$F)","v":0},null,{"$f":"SUMIF(Feuil5!$B:$B,Consolidation!$B136,Feuil5!$F:$F)","v":0},null,0,0,{"$f":"SUMIF(Feuil1!$B:$B,Consolidation!$B136,Feuil1!$H:$H)","v":0},null,{"$f":"SUMIF(Feuil2!$B:$B,Consolidation!$B136,Feuil2!$H:$H)","v":0},null,{"$f":"SUMIF(Feuil3!$B:$B,Consolidation!$B136,Feuil3!$H:$H)","v":0},null,{"$f":"SUMIF(Feuil4!$B:$B,Consolidation!$B136,Feuil4!$H:$H)","v":0},null,{"$f":"SUMIF(Feuil5!$B:$B,Consolidation!$B136,Feuil5!$H:$H)","v":0},null,0,0,0]
["InsererLigne",4008,"Matériel divers",{"$f":"SUMIF(Feuil1!$B:$B,Consolidation!$B137,Feuil1!$D:$D)","v":0},null,{"$f":"SUMIF(Feuil2!$B:$B,Consolidation!$B137,Feuil2!$D:$D)","v":0},null,{"$f":"SUMIF(Feuil3!$B:$B,Consolidation!$B137,Feuil3!$D:$D)","v":0},null,{"$f":"SUMIF(Feuil4!$B:$B,Consolidation!$B137,Feuil4!$D:$D)","v":0},null,{"$f":"SUMIF(Feuil5!$B:$B,Consolidation!$B137,Feuil5!$D:$D)","v":0},null,0,0,{"$f":"SUMIF(Feuil1!$B:$B,Consolidation!$B137,Feuil1!$F:$F)","v":0},null,{"$f":"SUMIF(Feuil2!$B:$B,Consolidation!$B137,Feuil2!$F:$F)","v":0},null,{"$f":"SUMIF(Feuil3!$B:$B,Consolidation!$B137,Feuil3!$F:$F)","v":0},null,{"$f":"SUMIF(Feuil4!$B:$B,Consolidation!$B137,Feuil4!$F:$F)","v":0},null,{"$f":"SUMIF(Feuil5!$B:$B,Consolidation!$B137,Feuil5!$F:$F)","v":0},null,0,0,{"$f":"SUMIF(Feuil1!$B:$B,Consolidation!$B137,Feuil1!$H:$H)","v":0},null,{"$f":"SUMIF(Feuil2!$B:$B,Consolidation!$B137,Feuil2!$H:$H)","v":0},null,{"$f":"SUMIF(Feuil3!$B:$B,Consolidation!$B137,Feuil3!$H:$H)","v":0},null,{"$f":"SUMIF(Feuil4!$B:$B,Consolidation!$B137,Feuil4!$H:$H)","v":0},null,{"$f":"SUMIF(Feuil5!$B:$B,Consolidation!$B137,Feuil5!$H:$H)","v":0},null,0,0,0]
["InsererLigne",4009,"Cabinet médical",{"$f":"SUMIF(Feuil1!$B:$B,Consolidation!$B138,Feuil1!$D:$D)","v":0},null,{"$f":"SUMIF(Feuil2!$B:$B,Consolidation!$B138,Feuil2!$D:$D)","v":0},null,{"$f":"SUMIF(Feuil3!$B:$B,Consolidation!$B138,Feuil3!$D:$D)","v":0},null,{"$f":"SUMIF(Feuil4!$B:$B,Consolidation!$B138,Feuil4!$D:$D)","v":0},null,{"$f":"SUMIF(Feuil5!$B:$B,Consolidation!$B138,Feuil5!$D:$D)","v":0},null,0,0,{"$f":"SUMIF(Feuil1!$B:$B,Consolidation!$B138,Feuil1!$F:$F)","v":0},null,{"$f":"SUMIF(Feuil2!$B:$B,Consolidation!$B138,Feuil2!$F:$F)","v":0},null,{"$f":"SUMIF(Feuil3!$B:$B,Consolidation!$B138,Feuil3!$F:$F)","v":0},null,{"$f":"SUMIF(Feuil4!$B:$B,Consolidation!$B138,Feuil4!$F:$F)","v":0},null,{"$f":"SUMIF(Feuil5!$B:$B,Consolidation!$B138,Feuil5!$F:$F)","v":0},null,0,0,{"$f":"SUMIF(Feuil1!$B:$B,Consolidation!$B138,Feuil1!$H:$H)","v":0},null,{"$f":"SUMIF(Feuil2!$B:$B,Consolidation!$B138,Feuil2!$H:$H)","v":0},null,{"$f":"SUMIF(Feuil3!$B:$B,Consolidation!$B138,Feuil3!$H:$H)","v":0},null,{"$f":"SUMIF(Feuil4!$B:$B,Consolidation!$B138,Feuil4!$H:$H)","v":0},null,{"$f":"SUMIF(Feuil5!$B:$B,Consolidation!$B138,Feuil5!$H:$H)","v":0},null,0,0,0]
["InsererLigne",4010,"Prévention SIDA",{"$f":"SUMIF(Feuil1!$B:$B,Consolidation!$B139,Feuil1!$D:$D)","v":0},null,{"$f":"SUMIF(Feuil2!$B:$B,Consolidation!$B139,Feuil2!$D:$D)","v":0},null,{"$f":"SUMIF(Feuil3!$B:$B,Consolidation!$B139,Feuil3!$D:$D)","v":0},null,{"$f":"SUMIF(Feuil4!$B:$B,Consolidation!$B139,Feuil4!$D:$D)","v":0},null,{"$f":"SUMIF(Feuil5!$B:$B,Consolidation!$B139,Feuil5!$D:$D)","v":0},null,0,0,{"$f":"SUMIF(Feuil1!$B:$B,Consolidation!$B139,Feuil1!$F:$F)","v":0},null,{"$f":"SUMIF(Feuil2!$B:$B,Consolidation!$B139,Feuil2!$F:$F)","v":0},null,{"$f":"SUMIF(Feuil3!$B:$B,Consolidation!$B139,Feuil3!$F:$F)","v":0},null,{"$f":"SUMIF(Feuil4!$B:$B,Consolidation!$B139,Feuil4!$F:$F)","v":0},null,{"$f":"SUMIF(Feuil5!$B:$B,Consolidation!$B139,Feuil5!$F:$F)","v":0},null,0,0,{"$f":"SUMIF(Feuil1!$B:$B,Consolidation!$B139,Feuil1!$H:$H)","v":0},null,{"$f":"SUMIF(Feuil2!$B:$B,Consolidation!$B139,Feuil2!$H:$H)","v":0},null,{"$f":"SUMIF(Feuil3!$B:$B,Consolidation!$B139,Feuil3!$H:$H)","v":0},null,{"$f":"SUMIF(Feuil4!$B:$B,Consolidation!$B139,Feuil4!$H:$H)","v":0},null,{"$f":"SUMIF(Feuil5!$B:$B,Consolidation!$B139,Feuil5!$H:$H)","v":0},null,0,0,0]
["InsererLigne",null,null,null,null,null,null,null,null,null,null,null,null,null,null,null,null,null,null,null,null,null,null,null,null,null,null,null,null,null,null,null,null,null,null,null,null,null,null,0]
[null,41,"Produits alimentaires et boissons",{"$f":"SUBTOTAL(9,D142:D146)","v":0},{"$f":"IF($E$5>0,D141/$E$5,0)","v":0},{"$f":"SUBTOTAL(9,F142:F146)","v":0},{"$f":"IF($G$5>0,F141/$G$5,0)","v":0},{"$f":"SUBTOTAL(9,H142:H146)","v":0},{"$f":"IF($I$5>0,H141/$I$5,0)","v":0},{"$f":"SUBTOTAL(9,J142:J146)","v":0},{"$f":"IF($K$5>0,J141/$K$5,0)","v":0},{"$f":"SUBTOTAL(9,L142:L146)","v":0},{"$f":"IF($M$5>0,L141/$M$5,0)","v":0},{"$f":"D141+F141+H141+J141+L141","v":0},{"$f":"E141+G141+I141+K141+M141","v":0},{"$f":"SUBTOTAL(9,P142:P146)","v":0},{"$f":"IF($Q$5>0,P141/$Q$5,0)","v":0},{"$f":"SUBTOTAL(9,R142:R146)","v":0},{"$f":"IF($S$5>0,R141/$S$5,0)","v":0},{"$f":"SUBTOTAL(9,T142:T146)","v":0},{"$f":"IF($U$5>0,T141/$U$5,0)","v":0},{"$f":"SUBTOTAL(9,V142:V146)","v":0},{"$f":"IF($W$5>0,V141/$W$5,0)","v":0},{"$f":"SUBTOTAL(9,X142:X146)","v":0},{"$f":"IF($Y$5>0,X141/$Y$5,0)","v":0},{"$f":"P141+R141+T141+V141+X141","v":0},{"$f":"Q141+S141+U141+W141+Y141","v":0},{"$f":"SUBTOTAL(9,AB142:AB146)","v":0},{"$f":"IF($AC$5>0,AB141/$AC$5,0)","v":0},{"$f":"SUBTOTAL(9,AD142:AD146)","v":0},{"$f":"IF($AE$5>0,AD141/$AE$5,0)","v":0},{"$f":"SUBTOTAL(9,AF142:AF146)","v":0},{"$f":"IF($AG$5>0,AF141/$AG$5,0)","v":0},{"$f":"SUBTOTAL(9,AH142:AH146)","v":0},{"$f":"IF($AI$5>0,AH141/$AI$5,0)","v":0},{"$f":"SUBTOTAL(9,AJ142:AJ146)","v":0},{"$f":"IF($AK$5>0,AJ141/$AK$5,0)","v":0},{"$f":"AB141+AD141+AF141+AH141+AJ141","v":0},{"$f":"AC141+AE141+AG141+AI141+AK141","v":0},0]
[null,4100,"Vivres                                                  ",{"$f":"SUMIF(Feuil1!$B:$B,Consolidation!$B142,Feuil1!$D:$D)","v":0},null,{"$f":"SUMIF(Feuil2!$B:$B,Consolidation!$B142,Feuil2!$D:$D)","v":0},null,{"$f":"SUMIF(Feuil3!$B:$B,Consolidation!$B142,Feuil3!$D:$D)","v":0},null,{"$f":"SUMIF(Feuil4!$B:$B,Consolidation!$B142,Feuil4!$D:$D)","v":0},null,{"$f":"SUMIF(Feuil5!$B:$B,Consolidation!$B142,Feuil5!$D:$D)","v":0},null,{"$f":"D142+F142+H142+J142+L142","v":0},{"$f":"E142+G142+I142+K142+M142","v":0},{"$f":"SUMIF(Feuil1!$B:$B,Consolidation!$B142,Feuil1!$F:$F)","v":0},null,{"$f":"SUMIF(Feuil2!$B:$B,Consolidation!$B142,Feuil2!$F:$F)","v":0},null,{"$f":"SUMIF(Feuil3!$B:$B,Consolidation!$B142,Feuil3!$F:$F)","v":0},null,{"$f":"SUMIF(Feuil4!$B:$B,Consolidation!$B142,Feuil4!$F:$F)","v":0},null,{"$f":"SUMIF(Feuil5!$B:$B,Consolidation!$B142,Feuil5!$F:$F)","v":0},null,{"$f":"P142+R142+T142+V142+X142","v":0},{"$f":"Q142+S142+U142+W142+Y142","v":0},{"$f":"SUMIF(Feuil1!$B:$B,Consolidation!$B142,Feuil1!$H:$H)","v":0},null,{"$f":"SUMIF(Feuil2!$B:$B,Consolidation!$B142,Feuil2!$H:$H)","v":0},null,{"$f":"SUMIF(Feuil3!$B:$B,Consolidation!$B142,Feuil3!$H:$H)","v":0},null,{"$f":"SUMIF(Feuil4!$B:$B,Consolidation!$B142,Feuil4!$H:$H)","v":0},null,{"$f":"SUMIF(Feuil5!$B:$B,Consolidation!$B142,Feuil5!$H:$H)","v":0},null,{"$f":"AB142+AD142+AF142+AH142+AJ142","v":0},{"$f":"AC142+AE142+AG142+AI142+AK142","v":0},0]
["InsererLigne",4105,"Repas externes",{"$f":"SUMIF(Feuil1!$B:$B,Consolidation!$B143,Feuil1!$D:$D)","v":0},null,{"$f":"SUMIF(Feuil2!$B:$B,Consolidation!$B143,Feuil2!$D:$D)","v":0},null,{"$f":"SUMIF(Feuil3!$B:$B,Consolidation!$B143,Feuil3!$D:$D)","v":0},null,{"$f":"SUMIF(Feuil4!$B:$B,Consolidation!$B143,Feuil4!$D:$D)","v":0},null,{"$f":"SUMIF(Feuil5!$B:$B,Consolidation!$B143,Feuil5!$D:$D)","v":0},null,0,0,{"$f":"SUMIF(Feuil1!$B:$B,Consolidation!$B143,Feuil1!$F:$F)","v":0},null,{"$f":"SUMIF(Feuil2!$B:$B,Consolidation!$B143,Feuil2!$F:$F)","v":0},null,{"$f":"SUMIF(Feuil3!$B:$B,Consolidation!$B143,Feuil3!$F:$F)","v":0},null,{"$f":"SUMIF(Feuil4!$B:$B,Consolidation!$B143,Feuil4!$F:$F)","v":0},null,{"$f":"SUMIF(Feuil5!$B:$B,Consolidation!$B143,Feuil5!$F:$F)","v":0},null,0,0,{"$f":"SUMIF(Feuil1!$B:$B,Consolidation!$B143,Feuil1!$H:$H)","v":0},null,{"$f":"SUMIF(Feuil2!$B:$B,Consolidation!$B143,Feuil2!$H:$H)","v":0},null,{"$f":"SUMIF(Feuil3!$B:$B,Consolidation!$B143,Feuil3!$H:$H)","v":0},null,{"$f":"SUMIF(Feuil4!$B:$B,Consolidation!$B143,Feuil4!$H:$H)","v":0},null,{"$f":"SUMIF(Feuil5!$B:$B,Consolidation!$B143,Feuil5!$H:$H)","v":0},null,0,0,0]
["InsererLigne",4150,"Boissons                                                  ",{"$f":"SUMIF(Feuil1!$B:$B,Consolidation!$B144,Feuil1!$D:$D)","v":0},null,{"$f":"SUMIF(Feuil2!$B:$B,Consolidation!$B144,Feuil2!$D:$D)","v":0},null,{"$f":"SUMIF(Feuil3!$B:$B,Consolidation!$B144,Feuil3!$D:$D)","v":0},null,{"$f":"SUMIF(Feuil4!$B:$B,Consolidation!$B144,Feuil4!$D:$D)","v":0},null,{"$f":"SUMIF(Feuil5!$B:$B,Consolidation!$B144,Feuil5!$D:$D)","v":0},null,0,0,{"$f":"SUMIF(Feuil1!$B:$B,Consolidation!$B144,Feuil1!$F:$F)","v":0},null,{"$f":"SUMIF(Feuil2!$B:$B,Consolidation!$B144,Feuil2!$F:$F)","v":0},null,{"$f":"SUMIF(Feuil3!$B:$B,Consolidation!$B144,Feuil3!$F:$F)","v":0},null,{"$f":"SUMIF(Feuil4!$B:$B,Consolidation!$B144,Feuil4!$F:$F)","v":0},null,{"$f":"SUMIF(Feuil5!$B:$B,Consolidation!$B144,Feuil5!$F:$F)","v":0},null,0,0,{"$f":"SUMIF(Feuil1!$B:$B,Consolidation!$B144,Feuil1!$H:$H)","v":0},null,{"$f":"SUMIF(Feuil2!$B:$B,Consolidation!$B144,Feuil2!$H:$H)","v":0},null,{"$f":"SUMIF(Feuil3!$B:$B,Consolidation!$B144,Feuil3!$H:$H)","v":0},null,{"$f":"SUMIF(Feuil4!$B:$B,Consolidation!$B144,Feuil4!$H:$H)","v":0},null,{"$f":"SUMIF(Feuil5!$B:$B,Consolidation!$B144,Feuil5!$H:$H)","v":0},null,0,0,0]
["InsererLigne",4160,"Kiosque, cafétéria",{"$f":"SUMIF(Feuil1!$B:$B,Consolidation!$B145,Feuil1!$D:$D)","v":0},null,{"$f":"SUMIF(Feuil2!$B:$B,Consolidation!$B145,Feuil2!$D:$D)","v":0},null,{"$f":"SUMIF(Feuil3!$B:$B,Consolidation!$B145,Feuil3!$D:$D)","v":0},null,{"$f":"SUMIF(Feuil4!$B:$B,Consolidation!$B145,Feuil4!$D:$D)","v":0},null,{"$f":"SUMIF(Feuil5!$B:$B,Consolidation!$B145,Feuil5!$D:$D)","v":0},null,0,0,{"$f":"SUMIF(Feuil1!$B:$B,Consolidation!$B145,Feuil1!$F:$F)","v":0},null,{"$f":"SUMIF(Feuil2!$B:$B,Consolidation!$B145,Feuil2!$F:$F)","v":0},null,{"$f":"SUMIF(Feuil3!$B:$B,Consolidation!$B145,Feuil3!$F:$F)","v":0},null,{"$f":"SUMIF(Feuil4!$B:$B,Consolidation!$B145,Feuil4!$F:$F)","v":0},null,{"$f":"SUMIF(Feuil5!$B:$B,Consolidation!$B145,Feuil5!$F:$F)","v":0},null,0,0,{"$f":"SUMIF(Feuil1!$B:$B,Consolidation!$B145,Feuil1!$H:$H)","v":0},null,{"$f":"SUMIF(Feuil2!$B:$B,Consolidation!$B145,Feuil2!$H:$H)","v":0},null,{"$f":"SUMIF(Feuil3!$B:$B,Consolidation!$B145,Feuil3!$H:$H)","v":0},null,{"$f":"SUMIF(Feuil4!$B:$B,Consolidation!$B145,Feuil4!$H:$H)","v":0},null,{"$f":"SUMIF(Feuil5!$B:$B,Consolidation!$B145,Feuil5!$H:$H)","v":0},null,0,0,0]
["InsererLigne",null,null,null,null,null,null,null,null,null,null,null,null,null,null,null,null,null,null,null,null,null,null,null,null,null,null,null,null,null,null,null,null,null,null,null,null,null,null,0]
[null,42,"Ménage",{"$f":"SUBTOTAL(9,D148:D159)","v":0},{"$f":"IF($E$5>0,D147/$E$5,0)","v":0},{"$f":"SUBTOTAL(9,F148:F159)","v":0},{"$f":"IF($G$5>0,F147/$G$5,0)","v":0},{"$f":"SUBTOTAL(9,H148:H159)","v":0},{"$f":"IF($I$5>0,H147/$I$5,0)","v":0},{"$f":"SUBTOTAL(9,J148:J159)","v":0},{"$f":"IF($K$5>0,J147/$K$5,0)","v":0},{"$f":"SUBTOTAL(9,L148:L159)","v":0},{"$f":"IF($M$5>0,L147/$M$5,0)","v":0},{"$f":"D147+F147+H147+J147+L147","v":0},{"$f":"E147+G147+I147+K147+M147","v":0},{"$f":"SUBTOTAL(9,P148:P159)","v":0},{"$f":"IF($Q$5>0,P147/$Q$5,0)","v":0},{"$f":"SUBTOTAL(9,R148:R159)","v":0},{"$f":"IF($S$5>0,R147/$S$5,0)","v":0},{"$f":"SUBTOTAL(9,T148:T159)","v":0},{"$f":"IF($U$5>0,T147/$U$5,0)","v":0},{"$f":"SUBTOTAL(9,V148:V159)","v":0},{"$f":"IF($W$5>0,V147/$W$5,0)","v":0},{"$f":"SUBTOTAL(9,X148:X159)","v":0},{"$f":"IF($Y$5>0,X147/$Y$5,0)","v":0},{"$f":"P147+R147+T147+V147+X147","v":0},{"$f":"Q147+S147+U147+W147+Y147","v":0},{"$f":"SUBTOTAL(9,AB148:AB159)","v":0},{"$f":"IF($AC$5>0,AB147/$AC$5,0)","v":0},{"$f":"SUBTOTAL(9,AD148:AD159)","v":0},{"$f":"IF($AE$5>0,AD147/$AE$5,0)","v":0},{"$f":"SUBTOTAL(9,AF148:AF159)","v":0},{"$f":"IF($AG$5>0,AF147/$AG$5,0)","v":0},{"$f":"SUBTOTAL(9,AH148:AH159)","v":0},{"$f":"IF($AI$5>0,AH147/$AI$5,0)","v":0},{"$f":"SUBTOTAL(9,AJ148:AJ159)","v":0},{"$f":"IF($AK$5>0,AJ147/$AK$5,0)","v":0},{"$f":"AB147+AD147+AF147+AH147+AJ147","v":0},{"$f":"AC147+AE147+AG147+AI147+AK147","v":0},0]
[null,4200,"Textiles et substituts de textiles                                                  ",{"$f":"SUMIF(Feuil1!$B:$B,Consolidation!$B148,Feuil1!$D:$D)","v":0},null,{"$f":"SUMIF(Feuil2!$B:$B,Consolidation!$B148,Feuil2!$D:$D)","v":0},null,{"$f":"SUMIF(Feuil3!$B:$B,Consolidation!$B148,Feuil3!$D:$D)","v":0},null,{"$f":"SUMIF(Feuil4!$B:$B,Consolidation!$B148,Feuil4!$D:$D)","v":0},null,{"$f":"SUMIF(Feuil5!$B:$B,Consolidation!$B148,Feuil5!$D:$D)","v":0},null,{"$f":"D148+F148+H148+J148+L148","v":0},{"$f":"E148+G148+I148+K148+M148","v":0},{"$f":"SUMIF(Feuil1!$B:$B,Consolidation!$B148,Feuil1!$F:$F)","v":0},null,{"$f":"SUMIF(Feuil2!$B:$B,Consolidation!$B148,Feuil2!$F:$F)","v":0},null,{"$f":"SUMIF(Feuil3!$B:$B,Consolidation!$B148,Feuil3!$F:$F)","v":0},null,{"$f":"SUMIF(Feuil4!$B:$B,Consolidation!$B148,Feuil4!$F:$F)","v":0},null,{"$f":"SUMIF(Feuil5!$B:$B,Consolidation!$B148,Feuil5!$F:$F)","v":0},null,{"$f":"P148+R148+T148+V148+X148","v":0},{"$f":"Q148+S148+U148+W148+Y148","v":0},{"$f":"SUMIF(Feuil1!$B:$B,Consolidation!$B148,Feuil1!$H:$H)","v":0},null,{"$f":"SUMIF(Feuil2!$B:$B,Consolidation!$B148,Feuil2!$H:$H)","v":0},null,{"$f":"SUMIF(Feuil3!$B:$B,Consolidation!$B148,Feuil3!$H:$H)","v":0},null,{"$f":"SUMIF(Feuil4!$B:$B,Consolidation!$B148,Feuil4!$H:$H)","v":0},null,{"$f":"SUMIF(Feuil5!$B:$B,Consolidation!$B148,Feuil5!$H:$H)","v":0},null,{"$f":"AB148+AD148+AF148+AH148+AJ148","v":0},{"$f":"AC148+AE148+AG148+AI148+AK148","v":0},0]
["InsererLigne",4201,"Lingerie, étoffes et habits pour l'exploitation",{"$f":"SUMIF(Feuil1!$B:$B,Consolidation!$B149,Feuil1!$D:$D)","v":0},null,{"$f":"SUMIF(Feuil2!$B:$B,Consolidation!$B149,Feuil2!$D:$D)","v":0},null,{"$f":"SUMIF(Feuil3!$B:$B,Consolidation!$B149,Feuil3!$D:$D)","v":0},null,{"$f":"SUMIF(Feuil4!$B:$B,Consolidation!$B149,Feuil4!$D:$D)","v":0},null,{"$f":"SUMIF(Feuil5!$B:$B,Consolidation!$B149,Feuil5!$D:$D)","v":0},null,0,0,{"$f":"SUMIF(Feuil1!$B:$B,Consolidation!$B149,Feuil1!$F:$F)","v":0},null,{"$f":"SUMIF(Feuil2!$B:$B,Consolidation!$B149,Feuil2!$F:$F)","v":0},null,{"$f":"SUMIF(Feuil3!$B:$B,Consolidation!$B149,Feuil3!$F:$F)","v":0},null,{"$f":"SUMIF(Feuil4!$B:$B,Consolidation!$B149,Feuil4!$F:$F)","v":0},null,{"$f":"SUMIF(Feuil5!$B:$B,Consolidation!$B149,Feuil5!$F:$F)","v":0},null,0,0,{"$f":"SUMIF(Feuil1!$B:$B,Consolidation!$B149,Feuil1!$H:$H)","v":0},null,{"$f":"SUMIF(Feuil2!$B:$B,Consolidation!$B149,Feuil2!$H:$H)","v":0},null,{"$f":"SUMIF(Feuil3!$B:$B,Consolidation!$B149,Feuil3!$H:$H)","v":0},null,{"$f":"SUMIF(Feuil4!$B:$B,Consolidation!$B149,Feuil4!$H:$H)","v":0},null,{"$f":"SUMIF(Feuil5!$B:$B,Consolidation!$B149,Feuil5!$H:$H)","v":0},null,0,0,0]
["InsererLigne",4203,"Vêtements pour usagers, frais irrécupérables",{"$f":"SUMIF(Feuil1!$B:$B,Consolidation!$B150,Feuil1!$D:$D)","v":0},null,{"$f":"SUMIF(Feuil2!$B:$B,Consolidation!$B150,Feuil2!$D:$D)","v":0},null,{"$f":"SUMIF(Feuil3!$B:$B,Consolidation!$B150,Feuil3!$D:$D)","v":0},null,{"$f":"SUMIF(Feuil4!$B:$B,Consolidation!$B150,Feuil4!$D:$D)","v":0},null,{"$f":"SUMIF(Feuil5!$B:$B,Consolidation!$B150,Feuil5!$D:$D)","v":0},null,0,0,{"$f":"SUMIF(Feuil1!$B:$B,Consolidation!$B150,Feuil1!$F:$F)","v":0},null,{"$f":"SUMIF(Feuil2!$B:$B,Consolidation!$B150,Feuil2!$F:$F)","v":0},null,{"$f":"SUMIF(Feuil3!$B:$B,Consolidation!$B150,Feuil3!$F:$F)","v":0},null,{"$f":"SUMIF(Feuil4!$B:$B,Consolidation!$B150,Feuil4!$F:$F)","v":0},null,{"$f":"SUMIF(Feuil5!$B:$B,Consolidation!$B150,Feuil5!$F:$F)","v":0},null,0,0,{"$f":"SUMIF(Feuil1!$B:$B,Consolidation!$B150,Feuil1!$H:$H)","v":0},null,{"$f":"SUMIF(Feuil2!$B:$B,Consolidation!$B150,Feuil2!$H:$H)","v":0},null,{"$f":"SUMIF(Feuil3!$B:$B,Consolidation!$B150,Feuil3!$H:$H)","v":0},null,{"$f":"SUMIF(Feuil4!$B:$B,Consolidation!$B150,Feuil4!$H:$H)","v":0},null,{"$f":"SUMIF(Feuil5!$B:$B,Consolidation!$B150,Feuil5!$H:$H)","v":0},null,0,0,0]
["InsererLigne",4210,"Articles de ménage et ustensiles                                                  ",{"$f":"SUMIF(Feuil1!$B:$B,Consolidation!$B151,Feuil1!$D:$D)","v":0},null,{"$f":"SUMIF(Feuil2!$B:$B,Consolidation!$B151,Feuil2!$D:$D)","v":0},null,{"$f":"SUMIF(Feuil3!$B:$B,Consolidation!$B151,Feuil3!$D:$D)","v":0},null,{"$f":"SUMIF(Feuil4!$B:$B,Consolidation!$B151,Feuil4!$D:$D)","v":0},null,{"$f":"SUMIF(Feuil5!$B:$B,Consolidation!$B151,Feuil5!$D:$D)","v":0},null,0,0,{"$f":"SUMIF(Feuil1!$B:$B,Consolidation!$B151,Feuil1!$F:$F)","v":0},null,{"$f":"SUMIF(Feuil2!$B:$B,Consolidation!$B151,Feuil2!$F:$F)","v":0},null,{"$f":"SUMIF(Feuil3!$B:$B,Consolidation!$B151,Feuil3!$F:$F)","v":0},null,{"$f":"SUMIF(Feuil4!$B:$B,Consolidation!$B151,Feuil4!$F:$F)","v":0},null,{"$f":"SUMIF(Feuil5!$B:$B,Consolidation!$B151,Feuil5!$F:$F)","v":0},null,0,0,{"$f":"SUMIF(Feuil1!$B:$B,Consolidation!$B151,Feuil1!$H:$H)","v":0},null,{"$f":"SUMIF(Feuil2!$B:$B,Consolidation!$B151,Feuil2!$H:$H)","v":0},null,{"$f":"SUMIF(Feuil3!$B:$B,Consolidation!$B151,Feuil3!$H:$H)","v":0},null,{"$f":"SUMIF(Feuil4!$B:$B,Consolidation!$B151,Feuil4!$H:$H)","v":0},null,{"$f":"SUMIF(Feuil5!$B:$B,Consolidation!$B151,Feuil5!$H:$H)","v":0},null,0,0,0]
["InsererLigne",4211,"Matériel d'éclairage                                                  ",{"$f":"SUMIF(Feuil1!$B:$B,Consolidation!$B152,Feuil1!$D:$D)","v":0},null,{"$f":"SUMIF(Feuil2!$B:$B,Consolidation!$B152,Feuil2!$D:$D)","v":0},null,{"$f":"SUMIF(Feuil3!$B:$B,Consolidation!$B152,Feuil3!$D:$D)","v":0},null,{"$f":"SUMIF(Feuil4!$B:$B,Consolidation!$B152,Feuil4!$D:$D)","v":0},null,{"$f":"SUMIF(Feuil5!$B:$B,Consolidation!$B152,Feuil5!$D:$D)","v":0},null,0,0,{"$f":"SUMIF(Feuil1!$B:$B,Consolidation!$B152,Feuil1!$F:$F)","v":0},null,{"$f":"SUMIF(Feuil2!$B:$B,Consolidation!$B152,Feuil2!$F:$F)","v":0},null,{"$f":"SUMIF(Feuil3!$B:$B,Consolidation!$B152,Feuil3!$F:$F)","v":0},null,{"$f":"SUMIF(Feuil4!$B:$B,Consolidation!$B152,Feuil4!$F:$F)","v":0},null,{"$f":"SUMIF(Feuil5!$B:$B,Consolidation!$B152,Feuil5!$F:$F)","v":0},null,0,0,{"$f":"SUMIF(Feuil1!$B:$B,Consolidation!$B152,Feuil1!$H:$H)","v":0},null,{"$f":"SUMIF(Feuil2!$B:$B,Consolidation!$B152,Feuil2!$H:$H)","v":0},null,{"$f":"SUMIF(Feuil3!$B:$B,Consolidation!$B152,Feuil3!$H:$H)","v":0},null,{"$f":"SUMIF(Feuil4!$B:$B,Consolidation!$B152,Feuil4!$H:$H)","v":0},null,{"$f":"SUMIF(Feuil5!$B:$B,Consolidation!$B152,Feuil5!$H:$H)","v":0},null,0,0,0]
["InsererLigne",4212,"Matériel de cuisine, vaisselle                                                  ",{"$f":"SUMIF(Feuil1!$B:$B,Consolidation!$B153,Feuil1!$D:$D)","v":0},null,{"$f":"SUMIF(Feuil2!$B:$B,Consolidation!$B153,Feuil2!$D:$D)","v":0},null,{"$f":"SUMIF(Feuil3!$B:$B,Consolidation!$B153,Feuil3!$D:$D)","v":0},null,{"$f":"SUMIF(Feuil4!$B:$B,Consolidation!$B153,Feuil4!$D:$D)","v":0},null,{"$f":"SUMIF(Feuil5!$B:$B,Consolidation!$B153,Feuil5!$D:$D)","v":0},null,0,0,{"$f":"SUMIF(Feuil1!$B:$B,Consolidation!$B153,Feuil1!$F:$F)","v":0},null,{"$f":"SUMIF(Feuil2!$B:$B,Consolidation!$B153,Feuil2!$F:$F)","v":0},null,{"$f":"SUMIF(Feuil3!$B:$B,Consolidation!$B153,Feuil3!$F:$F)","v":0},null,{"$f":"SUMIF(Feuil4!$B:$B,Consolidation!$B153,Feuil4!$F:$F)","v":0},null,{"$f":"SUMIF(Feuil5!$B:$B,Consolidation!$B153,Feuil5!$F:$F)","v":0},null,0,0,{"$f":"SUMIF(Feuil1!$B:$B,Consolidation!$B153,Feuil1!$H:$H)","v":0},null,{"$f":"SUMIF(Feuil2!$B:$B,Consolidation!$B153,Feuil2!$H:$H)","v":0},null,{"$f":"SUMIF(Feuil3!$B:$B,Consolidation!$B153,Feuil3!$H:$H)","v":0},null,{"$f":"SUMIF(Feuil4!$B:$B,Consolidation!$B153,Feuil4!$H:$H)","v":0},null,{"$f":"SUMIF(Feuil5!$B:$B,Consolidation!$B153,Feuil5!$H:$H)","v":0},null,0,0,0]
["InsererLigne",4214,"Matériel divers                                                  ",{"$f":"SUMIF(Feuil1!$B:$B,Consolidation!$B154,Feuil1!$D:$D)","v":0},null,{"$f":"SUMIF(Feuil2!$B:$B,Consolidation!$B154,Feuil2!$D:$D)","v":0},null,{"$f":"SUMIF(Feuil3!$B:$B,Consolidation!$B154,Feuil3!$D:$D)","v":0},null,{"$f":"SUMIF(Feuil4!$B:$B,Consolidation!$B154,Feuil4!$D:$D)","v":0},null,{"$f":"SUMIF(Feuil5!$B:$B,Consolidation!$B154,Feuil5!$D:$D)","v":0},null,0,0,{"$f":"SUMIF(Feuil1!$B:$B,Consolidation!$B154,Feuil1!$F:$F)","v":0},null,{"$f":"SUMIF(Feuil2!$B:$B,Consolidation!$B154,Feuil2!$F:$F)","v":0},null,{"$f":"SUMIF(Feuil3!$B:$B,Consolidation!$B154,Feuil3!$F:$F)","v":0},null,{"$f":"SUMIF(Feuil4!$B:$B,Consolidation!$B154,Feuil4!$F:$F)","v":0},null,{"$f":"SUMIF(Feuil5!$B:$B,Consolidation!$B154,Feuil5!$F:$F)","v":0},null,0,0,{"$f":"SUMIF(Feuil1!$B:$B,Consolidation!$B154,Feuil1!$H:$H)","v":0},null,{"$f":"SUMIF(Feuil2!$B:$B,Consolidation!$B154,Feuil2!$H:$H)","v":0},null,{"$f":"SUMIF(Feuil3!$B:$B,Consolidation!$B154,Feuil3!$H:$H)","v":0},null,{"$f":"SUMIF(Feuil4!$B:$B,Consolidation!$B154,Feuil4!$H:$H)","v":0},null,{"$f":"SUMIF(Feuil5!$B:$B,Consolidation!$B154,Feuil5!$H:$H)","v":0},null,0,0,0]
["InsererLigne",4220,"Produits de lessives et de nettoyage                                                  ",{"$f":"SUMIF(Feuil1!$B:$B,Consolidation!$B155,Feuil1!$D:$D)","v":0},null,{"$f":"SUMIF(Feuil2!$B:$B,Consolidation!$B155,Feuil2!$D:$D)","v":0},null,{"$f":"SUMIF(Feuil3!$B:$B,Consolidation!$B155,Feuil3!$D:$D)","v":0},null,{"$f":"SUMIF(Feuil4!$B:$B,Consolidation!$B155,Feuil4!$D:$D)","v":0},null,{"$f":"SUMIF(Feuil5!$B:$B,Consolidation!$B155,Feuil5!$D:$D)","v":0},null,0,0,{"$f":"SUMIF(Feuil1!$B:$B,Consolidation!$B155,Feuil1!$F:$F)","v":0},null,{"$f":"SUMIF(Feuil2!$B:$B,Consolidation!$B155,Feuil2!$F:$F)","v":0},null,{"$f":"SUMIF(Feuil3!$B:$B,Consolidation!$B155,Feuil3!$F:$F)","v":0},null,{"$f":"SUMIF(Feuil4!$B:$B,Consolidation!$B155,Feuil4!$F:$F)","v":0},null,{"$f":"SUMIF(Feuil5!$B:$B,Consolidation!$B155,Feuil5!$F:$F)","v":0},null,0,0,{"$f":"SUMIF(Feuil1!$B:$B,Consolidation!$B155,Feuil1!$H:$H)","v":0},null,{"$f":"SUMIF(Feuil2!$B:$B,Consolidation!$B155,Feuil2!$H:$H)","v":0},null,{"$f":"SUMIF(Feuil3!$B:$B,Consolidation!$B155,Feuil3!$H:$H)","v":0},null,{"$f":"SUMIF(Feuil4!$B:$B,Consolidation!$B155,Feuil4!$H:$H)","v":0},null,{"$f":"SUMIF(Feuil5!$B:$B,Consolidation!$B155,Feuil5!$H:$H)","v":0},null,0,0,0]
["InsererLigne",4223,"Produits pour traitement de l'eau (piscine)",{"$f":"SUMIF(Feuil1!$B:$B,Consolidation!$B156,Feuil1!$D:$D)","v":0},null,{"$f":"SUMIF(Feuil2!$B:$B,Consolidation!$B156,Feuil2!$D:$D)","v":0},null,{"$f":"SUMIF(Feuil3!$B:$B,Consolidation!$B156,Feuil3!$D:$D)","v":0},null,{"$f":"SUMIF(Feuil4!$B:$B,Consolidation!$B156,Feuil4!$D:$D)","v":0},null,{"$f":"SUMIF(Feuil5!$B:$B,Consolidation!$B156,Feuil5!$D:$D)","v":0},null,0,0,{"$f":"SUMIF(Feuil1!$B:$B,Consolidation!$B156,Feuil1!$F:$F)","v":0},null,{"$f":"SUMIF(Feuil2!$B:$B,Consolidation!$B156,Feuil2!$F:$F)","v":0},null,{"$f":"SUMIF(Feuil3!$B:$B,Consolidation!$B156,Feuil3!$F:$F)","v":0},null,{"$f":"SUMIF(Feuil4!$B:$B,Consolidation!$B156,Feuil4!$F:$F)","v":0},null,{"$f":"SUMIF(Feuil5!$B:$B,Consolidation!$B156,Feuil5!$F:$F)","v":0},null,0,0,{"$f":"SUMIF(Feuil1!$B:$B,Consolidation!$B156,Feuil1!$H:$H)","v":0},null,{"$f":"SUMIF(Feuil2!$B:$B,Consolidation!$B156,Feuil2!$H:$H)","v":0},null,{"$f":"SUMIF(Feuil3!$B:$B,Consolidation!$B156,Feuil3!$H:$H)","v":0},null,{"$f":"SUMIF(Feuil4!$B:$B,Consolidation!$B156,Feuil4!$H:$H)","v":0},null,{"$f":"SUMIF(Feuil5!$B:$B,Consolidation!$B156,Feuil5!$H:$H)","v":0},null,0,0,0]
["InsererLigne",4250,"Prestations domestiques fournies par des tiers (blanchissage)                                                  ",{"$f":"SUMIF(Feuil1!$B:$B,Consolidation!$B157,Feuil1!$D:$D)","v":0},null,{"$f":"SUMIF(Feuil2!$B:$B,Consolidation!$B157,Feuil2!$D:$D)","v":0},null,{"$f":"SUMIF(Feuil3!$B:$B,Consolidation!$B157,Feuil3!$D:$D)","v":0},null,{"$f":"SUMIF(Feuil4!$B:$B,Consolidation!$B157,Feuil4!$D:$D)","v":0},null,{"$f":"SUMIF(Feuil5!$B:$B,Consolidation!$B157,Feuil5!$D:$D)","v":0},null,0,0,{"$f":"SUMIF(Feuil1!$B:$B,Consolidation!$B157,Feuil1!$F:$F)","v":0},null,{"$f":"SUMIF(Feuil2!$B:$B,Consolidation!$B157,Feuil2!$F:$F)","v":0},null,{"$f":"SUMIF(Feuil3!$B:$B,Consolidation!$B157,Feuil3!$F:$F)","v":0},null,{"$f":"SUMIF(Feuil4!$B:$B,Consolidation!$B157,Feuil4!$F:$F)","v":0},null,{"$f":"SUMIF(Feuil5!$B:$B,Consolidation!$B157,Feuil5!$F:$F)","v":0},null,0,0,{"$f":"SUMIF(Feuil1!$B:$B,Consolidation!$B157,Feuil1!$H:$H)","v":0},null,{"$f":"SUMIF(Feuil2!$B:$B,Consolidation!$B157,Feuil2!$H:$H)","v":0},null,{"$f":"SUMIF(Feuil3!$B:$B,Consolidation!$B157,Feuil3!$H:$H)","v":0},null,{"$f":"SUMIF(Feuil4!$B:$B,Consolidation!$B157,Feuil4!$H:$H)","v":0},null,{"$f":"SUMIF(Feuil5!$B:$B,Consolidation!$B157,Feuil5!$H:$H)","v":0},null,0,0,0]
["InsererLigne",4255,"Nettoyage et désinfection                                                  ",{"$f":"SUMIF(Feuil1!$B:$B,Consolidation!$B158,Feuil1!$D:$D)","v":0},null,{"$f":"SUMIF(Feuil2!$B:$B,Consolidation!$B158,Feuil2!$D:$D)","v":0},null,{"$f":"SUMIF(Feuil3!$B:$B,Consolidation!$B158,Feuil3!$D:$D)","v":0},null,{"$f":"SUMIF(Feuil4!$B:$B,Consolidation!$B158,Feuil4!$D:$D)","v":0},null,{"$f":"SUMIF(Feuil5!$B:$B,Consolidation!$B158,Feuil5!$D:$D)","v":0},null,0,0,{"$f":"SUMIF(Feuil1!$B:$B,Consolidation!$B158,Feuil1!$F:$F)","v":0},null,{"$f":"SUMIF(Feuil2!$B:$B,Consolidation!$B158,Feuil2!$F:$F)","v":0},null,{"$f":"SUMIF(Feuil3!$B:$B,Consolidation!$B158,Feuil3!$F:$F)","v":0},null,{"$f":"SUMIF(Feuil4!$B:$B,Consolidation!$B158,Feuil4!$F:$F)","v":0},null,{"$f":"SUMIF(Feuil5!$B:$B,Consolidation!$B158,Feuil5!$F:$F)","v":0},null,0,0,{"$f":"SUMIF(Feuil1!$B:$B,Consolidation!$B158,Feuil1!$H:$H)","v":0},null,{"$f":"SUMIF(Feuil2!$B:$B,Consolidation!$B158,Feuil2!$H:$H)","v":0},null,{"$f":"SUMIF(Feuil3!$B:$B,Consolidation!$B158,Feuil3!$H:$H)","v":0},null,{"$f":"SUMIF(Feuil4!$B:$B,Consolidation!$B158,Feuil4!$H:$H)","v":0},null,{"$f":"SUMIF(Feuil5!$B:$B,Consolidation!$B158,Feuil5!$H:$H)","v":0},null,0,0,0]
["InsererLigne",null,null,null,null,null,null,null,null,null,null,null,null,null,null,null,null,null,null,null,null,null,null,null,null,null,null,null,null,null,null,null,null,null,null,null,null,null,null,0]
[null,43,"Entretien et réparation des immobilisations corporelles",{"$f":"SUBTOTAL(9,D161:D170)","v":0},{"$f":"IF($E$5>0,D160/$E$5,0)","v":0},{"$f":"SUBTOTAL(9,F161:F170)","v":0},{"$f":"IF($G$5>0,F160/$G$5,0)","v":0},{"$f":"SUBTOTAL(9,H161:H170)","v":0},{"$f":"IF($I$5>0,H160/$I$5,0)","v":0},{"$f":"SUBTOTAL(9,J161:J170)","v":0},{"$f":"IF($K$5>0,J160/$K$5,0)","v":0},{"$f":"SUBTOTAL(9,L161:L170)","v":0},{"$f":"IF($M$5>0,L160/$M$5,0)","v":0},{"$f":"D160+F160+H160+J160+L160","v":0},{"$f":"E160+G160+I160+K160+M160","v":0},{"$f":"SUBTOTAL(9,P161:P170)","v":0},{"$f":"IF($Q$5>0,P160/$Q$5,0)","v":0},{"$f":"SUBTOTAL(9,R161:R170)","v":0},{"$f":"IF($S$5>0,R160/$S$5,0)","v":0},{"$f":"SUBTOTAL(9,T161:T170)","v":0},{"$f":"IF($U$5>0,T160/$U$5,0)","v":0},{"$f":"SUBTOTAL(9,V161:V170)","v":0},{"$f":"IF($W$5>0,V160/$W$5,0)","v":0},{"$f":"SUBTOTAL(9,X161:X170)","v":0},{"$f":"IF($Y$5>0,X160/$Y$5,0)","v":0},{"$f":"P160+R160+T160+V160+X160","v":0},{"$f":"Q160+S160+U160+W160+Y160","v":0},{"$f":"SUBTOTAL(9,AB161:AB170)","v":0},{"$f":"IF($AC$5>0,AB160/$AC$5,0)","v":0},{"$f":"SUBTOTAL(9,AD161:AD170)","v":0},{"$f":"IF($AE$5>0,AD160/$AE$5,0)","v":0},{"$f":"SUBTOTAL(9,AF161:AF170)","v":0},{"$f":"IF($AG$5>0,AF160/$AG$5,0)","v":0},{"$f":"SUBTOTAL(9,AH161:AH170)","v":0},{"$f":"IF($AI$5>0,AH160/$AI$5,0)","v":0},{"$f":"SUBTOTAL(9,AJ161:AJ170)","v":0},{"$f":"IF($AK$5>0,AJ160/$AK$5,0)","v":0},{"$f":"AB160+AD160+AF160+AH160+AJ160","v":0},{"$f":"AC160+AE160+AG160+AI160+AK160","v":0},0]
[null,4300,"Entretien et réparation des immeubles",{"$f":"SUMIF(Feuil1!$B:$B,Consolidation!$B161,Feuil1!$D:$D)","v":0},null,{"$f":"SUMIF(Feuil2!$B:$B,Consolidation!$B161,Feuil2!$D:$D)","v":0},null,{"$f":"SUMIF(Feuil3!$B:$B,Consolidation!$B161,Feuil3!$D:$D)","v":0},null,{"$f":"SUMIF(Feuil4!$B:$B,Consolidation!$B161,Feuil4!$D:$D)","v":0},null,{"$f":"SUMIF(Feuil5!$B:$B,Consolidation!$B161,Feuil5!$D:$D)","v":0},null,{"$f":"D161+F161+H161+J161+L161","v":0},{"$f":"E161+G161+I161+K161+M161","v":0},{"$f":"SUMIF(Feuil1!$B:$B,Consolidation!$B161,Feuil1!$F:$F)","v":0},null,{"$f":"SUMIF(Feuil2!$B:$B,Consolidation!$B161,Feuil2!$F:$F)","v":0},null,{"$f":"SUMIF(Feuil3!$B:$B,Consolidation!$B161,Feuil3!$F:$F)","v":0},null,{"$f":"SUMIF(Feuil4!$B:$B,Consolidation!$B161,Feuil4!$F:$F)","v":0},null,{"$f":"SUMIF(Feuil5!$B:$B,Consolidation!$B161,Feuil5!$F:$F)","v":0},null,{"$f":"P161+R161+T161+V161+X161","v":0},{"$f":"Q161+S161+U161+W161+Y161","v":0},{"$f":"SUMIF(Feuil1!$B:$B,Consolidation!$B161,Feuil1!$H:$H)","v":0},null,{"$f":"SUMIF(Feuil2!$B:$B,Consolidation!$B161,Feuil2!$H:$H)","v":0},null,{"$f":"SUMIF(Feuil3!$B:$B,Consolidation!$B161,Feuil3!$H:$H)","v":0},null,{"$f":"SUMIF(Feuil4!$B:$B,Consolidation!$B161,Feuil4!$H:$H)","v":0},null,{"$f":"SUMIF(Feuil5!$B:$B,Consolidation!$B161,Feuil5!$H:$H)","v":0},null,{"$f":"AB161+AD161+AF161+AH161+AJ161","v":0},{"$f":"AC161+AE161+AG161+AI161+AK161","v":0},0]
["InsererLigne",4301,"Entretien et réparation du bassin thérapeutique",{"$f":"SUMIF(Feuil1!$B:$B,Consolidation!$B162,Feuil1!$D:$D)","v":0},null,{"$f":"SUMIF(Feuil2!$B:$B,Consolidation!$B162,Feuil2!$D:$D)","v":0},null,{"$f":"SUMIF(Feuil3!$B:$B,Consolidation!$B162,Feuil3!$D:$D)","v":0},null,{"$f":"SUMIF(Feuil4!$B:$B,Consolidation!$B162,Feuil4!$D:$D)","v":0},null,{"$f":"SUMIF(Feuil5!$B:$B,Consolidation!$B162,Feuil5!$D:$D)","v":0},null,0,0,{"$f":"SUMIF(Feuil1!$B:$B,Consolidation!$B162,Feuil1!$F:$F)","v":0},null,{"$f":"SUMIF(Feuil2!$B:$B,Consolidation!$B162,Feuil2!$F:$F)","v":0},null,{"$f":"SUMIF(Feuil3!$B:$B,Consolidation!$B162,Feuil3!$F:$F)","v":0},null,{"$f":"SUMIF(Feuil4!$B:$B,Consolidation!$B162,Feuil4!$F:$F)","v":0},null,{"$f":"SUMIF(Feuil5!$B:$B,Consolidation!$B162,Feuil5!$F:$F)","v":0},null,0,0,{"$f":"SUMIF(Feuil1!$B:$B,Consolidation!$B162,Feuil1!$H:$H)","v":0},null,{"$f":"SUMIF(Feuil2!$B:$B,Consolidation!$B162,Feuil2!$H:$H)","v":0},null,{"$f":"SUMIF(Feuil3!$B:$B,Consolidation!$B162,Feuil3!$H:$H)","v":0},null,{"$f":"SUMIF(Feuil4!$B:$B,Consolidation!$B162,Feuil4!$H:$H)","v":0},null,{"$f":"SUMIF(Feuil5!$B:$B,Consolidation!$B162,Feuil5!$H:$H)","v":0},null,0,0,0]
["InsererLigne",4310,"Entretien et réparation mobilier et machines",{"$f":"SUMIF(Feuil1!$B:$B,Consolidation!$B163,Feuil1!$D:$D)","v":0},null,{"$f":"SUMIF(Feuil2!$B:$B,Consolidation!$B163,Feuil2!$D:$D)","v":0},null,{"$f":"SUMIF(Feuil3!$B:$B,Consolidation!$B163,Feuil3!$D:$D)","v":0},null,{"$f":"SUMIF(Feuil4!$B:$B,Consolidation!$B163,Feuil4!$D:$D)","v":0},null,{"$f":"SUMIF(Feuil5!$B:$B,Consolidation!$B163,Feuil5!$D:$D)","v":0},null,0,0,{"$f":"SUMIF(Feuil1!$B:$B,Consolidation!$B163,Feuil1!$F:$F)","v":0},null,{"$f":"SUMIF(Feuil2!$B:$B,Consolidation!$B163,Feuil2!$F:$F)","v":0},null,{"$f":"SUMIF(Feuil3!$B:$B,Consolidation!$B163,Feuil3!$F:$F)","v":0},null,{"$f":"SUMIF(Feuil4!$B:$B,Consolidation!$B163,Feuil4!$F:$F)","v":0},null,{"$f":"SUMIF(Feuil5!$B:$B,Consolidation!$B163,Feuil5!$F:$F)","v":0},null,0,0,{"$f":"SUMIF(Feuil1!$B:$B,Consolidation!$B163,Feuil1!$H:$H)","v":0},null,{"$f":"SUMIF(Feuil2!$B:$B,Consolidation!$B163,Feuil2!$H:$H)","v":0},null,{"$f":"SUMIF(Feuil3!$B:$B,Consolidation!$B163,Feuil3!$H:$H)","v":0},null,{"$f":"SUMIF(Feuil4!$B:$B,Consolidation!$B163,Feuil4!$H:$H)","v":0},null,{"$f":"SUMIF(Feuil5!$B:$B,Consolidation!$B163,Feuil5!$H:$H)","v":0},null,0,0,0]
["InsererLigne",4320,"Entretien et exploitation des véhicules                                                  ",{"$f":"SUMIF(Feuil1!$B:$B,Consolidation!$B164,Feuil1!$D:$D)","v":0},null,{"$f":"SUMIF(Feuil2!$B:$B,Consolidation!$B164,Feuil2!$D:$D)","v":0},null,{"$f":"SUMIF(Feuil3!$B:$B,Consolidation!$B164,Feuil3!$D:$D)","v":0},null,{"$f":"SUMIF(Feuil4!$B:$B,Consolidation!$B164,Feuil4!$D:$D)","v":0},null,{"$f":"SUMIF(Feuil5!$B:$B,Consolidation!$B164,Feuil5!$D:$D)","v":0},null,0,0,{"$f":"SUMIF(Feuil1!$B:$B,Consolidation!$B164,Feuil1!$F:$F)","v":0},null,{"$f":"SUMIF(Feuil2!$B:$B,Consolidation!$B164,Feuil2!$F:$F)","v":0},null,{"$f":"SUMIF(Feuil3!$B:$B,Consolidation!$B164,Feuil3!$F:$F)","v":0},null,{"$f":"SUMIF(Feuil4!$B:$B,Consolidation!$B164,Feuil4!$F:$F)","v":0},null,{"$f":"SUMIF(Feuil5!$B:$B,Consolidation!$B164,Feuil5!$F:$F)","v":0},null,0,0,{"$f":"SUMIF(Feuil1!$B:$B,Consolidation!$B164,Feuil1!$H:$H)","v":0},null,{"$f":"SUMIF(Feuil2!$B:$B,Consolidation!$B164,Feuil2!$H:$H)","v":0},null,{"$f":"SUMIF(Feuil3!$B:$B,Consolidation!$B164,Feuil3!$H:$H)","v":0},null,{"$f":"SUMIF(Feuil4!$B:$B,Consolidation!$B164,Feuil4!$H:$H)","v":0},null,{"$f":"SUMIF(Feuil5!$B:$B,Consolidation!$B164,Feuil5!$H:$H)","v":0},null,0,0,0]
["InsererLigne",4322,"Exploitation véhicules (carburant)                                                 ",{"$f":"SUMIF(Feuil1!$B:$B,Consolidation!$B165,Feuil1!$D:$D)","v":0},null,{"$f":"SUMIF(Feuil2!$B:$B,Consolidation!$B165,Feuil2!$D:$D)","v":0},null,{"$f":"SUMIF(Feuil3!$B:$B,Consolidation!$B165,Feuil3!$D:$D)","v":0},null,{"$f":"SUMIF(Feuil4!$B:$B,Consolidation!$B165,Feuil4!$D:$D)","v":0},null,{"$f":"SUMIF(Feuil5!$B:$B,Consolidation!$B165,Feuil5!$D:$D)","v":0},null,0,0,{"$f":"SUMIF(Feuil1!$B:$B,Consolidation!$B165,Feuil1!$F:$F)","v":0},null,{"$f":"SUMIF(Feuil2!$B:$B,Consolidation!$B165,Feuil2!$F:$F)","v":0},null,{"$f":"SUMIF(Feuil3!$B:$B,Consolidation!$B165,Feuil3!$F:$F)","v":0},null,{"$f":"SUMIF(Feuil4!$B:$B,Consolidation!$B165,Feuil4!$F:$F)","v":0},null,{"$f":"SUMIF(Feuil5!$B:$B,Consolidation!$B165,Feuil5!$F:$F)","v":0},null,0,0,{"$f":"SUMIF(Feuil1!$B:$B,Consolidation!$B165,Feuil1!$H:$H)","v":0},null,{"$f":"SUMIF(Feuil2!$B:$B,Consolidation!$B165,Feuil2!$H:$H)","v":0},null,{"$f":"SUMIF(Feuil3!$B:$B,Consolidation!$B165,Feuil3!$H:$H)","v":0},null,{"$f":"SUMIF(Feuil4!$B:$B,Consolidation!$B165,Feuil4!$H:$H)","v":0},null,{"$f":"SUMIF(Feuil5!$B:$B,Consolidation!$B165,Feuil5!$H:$H)","v":0},null,0,0,0]
["InsererLigne",4330,"Entretien des équipements informatiques et de communication",{"$f":"SUMIF(Feuil1!$B:$B,Consolidation!$B166,Feuil1!$D:$D)","v":0},null,{"$f":"SUMIF(Feuil2!$B:$B,Consolidation!$B166,Feuil2!$D:$D)","v":0},null,{"$f":"SUMIF(Feuil3!$B:$B,Consolidation!$B166,Feuil3!$D:$D)","v":0},null,{"$f":"SUMIF(Feuil4!$B:$B,Consolidation!$B166,Feuil4!$D:$D)","v":0},null,{"$f":"SUMIF(Feuil5!$B:$B,Consolidation!$B166,Feuil5!$D:$D)","v":0},null,0,0,{"$f":"SUMIF(Feuil1!$B:$B,Consolidation!$B166,Feuil1!$F:$F)","v":0},null,{"$f":"SUMIF(Feuil2!$B:$B,Consolidation!$B166,Feuil2!$F:$F)","v":0},null,{"$f":"SUMIF(Feuil3!$B:$B,Consolidation!$B166,Feuil3!$F:$F)","v":0},null,{"$f":"SUMIF(Feuil4!$B:$B,Consolidation!$B166,Feuil4!$F:$F)","v":0},null,{"$f":"SUMIF(Feuil5!$B:$B,Consolidation!$B166,Feuil5!$F:$F)","v":0},null,0,0,{"$f":"SUMIF(Feuil1!$B:$B,Consolidation!$B166,Feuil1!$H:$H)","v":0},null,{"$f":"SUMIF(Feuil2!$B:$B,Consolidation!$B166,Feuil2!$H:$H)","v":0},null,{"$f":"SUMIF(Feuil3!$B:$B,Consolidation!$B166,Feuil3!$H:$H)","v":0},null,{"$f":"SUMIF(Feuil4!$B:$B,Consolidation!$B166,Feuil4!$H:$H)","v":0},null,{"$f":"SUMIF(Feuil5!$B:$B,Consolidation!$B166,Feuil5!$H:$H)","v":0},null,0,0,0]
["InsererLigne",4380,"Outillage et matériel pour l'entretien de la propriété",{"$f":"SUMIF(Feuil1!$B:$B,Consolidation!$B167,Feuil1!$D:$D)","v":0},null,{"$f":"SUMIF(Feuil2!$B:$B,Consolidation!$B167,Feuil2!$D:$D)","v":0},null,{"$f":"SUMIF(Feuil3!$B:$B,Consolidation!$B167,Feuil3!$D:$D)","v":0},null,{"$f":"SUMIF(Feuil4!$B:$B,Consolidation!$B167,Feuil4!$D:$D)","v":0},null,{"$f":"SUMIF(Feuil5!$B:$B,Consolidation!$B167,Feuil5!$D:$D)","v":0},null,0,0,{"$f":"SUMIF(Feuil1!$B:$B,Consolidation!$B167,Feuil1!$F:$F)","v":0},null,{"$f":"SUMIF(Feuil2!$B:$B,Consolidation!$B167,Feuil2!$F:$F)","v":0},null,{"$f":"SUMIF(Feuil3!$B:$B,Consolidation!$B167,Feuil3!$F:$F)","v":0},null,{"$f":"SUMIF(Feuil4!$B:$B,Consolidation!$B167,Feuil4!$F:$F)","v":0},null,{"$f":"SUMIF(Feuil5!$B:$B,Consolidation!$B167,Feuil5!$F:$F)","v":0},null,0,0,{"$f":"SUMIF(Feuil1!$B:$B,Consolidation!$B167,Feuil1!$H:$H)","v":0},null,{"$f":"SUMIF(Feuil2!$B:$B,Consolidation!$B167,Feuil2!$H:$H)","v":0},null,{"$f":"SUMIF(Feuil3!$B:$B,Consolidation!$B167,Feuil3!$H:$H)","v":0},null,{"$f":"SUMIF(Feuil4!$B:$B,Consolidation!$B167,Feuil4!$H:$H)","v":0},null,{"$f":"SUMIF(Feuil5!$B:$B,Consolidation!$B167,Feuil5!$H:$H)","v":0},null,0,0,0]
["InsererLigne",4382,"Sécurité immeuble (abonnements)",{"$f":"SUMIF(Feuil1!$B:$B,Consolidation!$B168,Feuil1!$D:$D)","v":0},null,{"$f":"SUMIF(Feuil2!$B:$B,Consolidation!$B168,Feuil2!$D:$D)","v":0},null,{"$f":"SUMIF(Feuil3!$B:$B,Consolidation!$B168,Feuil3!$D:$D)","v":0},null,{"$f":"SUMIF(Feuil4!$B:$B,Consolidation!$B168,Feuil4!$D:$D)","v":0},null,{"$f":"SUMIF(Feuil5!$B:$B,Consolidation!$B168,Feuil5!$D:$D)","v":0},null,0,0,{"$f":"SUMIF(Feuil1!$B:$B,Consolidation!$B168,Feuil1!$F:$F)","v":0},null,{"$f":"SUMIF(Feuil2!$B:$B,Consolidation!$B168,Feuil2!$F:$F)","v":0},null,{"$f":"SUMIF(Feuil3!$B:$B,Consolidation!$B168,Feuil3!$F:$F)","v":0},null,{"$f":"SUMIF(Feuil4!$B:$B,Consolidation!$B168,Feuil4!$F:$F)","v":0},null,{"$f":"SUMIF(Feuil5!$B:$B,Consolidation!$B168,Feuil5!$F:$F)","v":0},null,0,0,{"$f":"SUMIF(Feuil1!$B:$B,Consolidation!$B168,Feuil1!$H:$H)","v":0},null,{"$f":"SUMIF(Feuil2!$B:$B,Consolidation!$B168,Feuil2!$H:$H)","v":0},null,{"$f":"SUMIF(Feuil3!$B:$B,Consolidation!$B168,Feuil3!$H:$H)","v":0},null,{"$f":"SUMIF(Feuil4!$B:$B,Consolidation!$B168,Feuil4!$H:$H)","v":0},null,{"$f":"SUMIF(Feuil5!$B:$B,Consolidation!$B168,Feuil5!$H:$H)","v":0},null,0,0,0]
["InsererLigne",4390,"Plantations, fourniture pour les aménagements extérieurs",{"$f":"SUMIF(Feuil1!$B:$B,Consolidation!$B169,Feuil1!$D:$D)","v":0},null,{"$f":"SUMIF(Feuil2!$B:$B,Consolidation!$B169,Feuil2!$D:$D)","v":0},null,{"$f":"SUMIF(Feuil3!$B:$B,Consolidation!$B169,Feuil3!$D:$D)","v":0},null,{"$f":"SUMIF(Feuil4!$B:$B,Consolidation!$B169,Feuil4!$D:$D)","v":0},null,{"$f":"SUMIF(Feuil5!$B:$B,Consolidation!$B169,Feuil5!$D:$D)","v":0},null,0,0,{"$f":"SUMIF(Feuil1!$B:$B,Consolidation!$B169,Feuil1!$F:$F)","v":0},null,{"$f":"SUMIF(Feuil2!$B:$B,Consolidation!$B169,Feuil2!$F:$F)","v":0},null,{"$f":"SUMIF(Feuil3!$B:$B,Consolidation!$B169,Feuil3!$F:$F)","v":0},null,{"$f":"SUMIF(Feuil4!$B:$B,Consolidation!$B169,Feuil4!$F:$F)","v":0},null,{"$f":"SUMIF(Feuil5!$B:$B,Consolidation!$B169,Feuil5!$F:$F)","v":0},null,0,0,{"$f":"SUMIF(Feuil1!$B:$B,Consolidation!$B169,Feuil1!$H:$H)","v":0},null,{"$f":"SUMIF(Feuil2!$B:$B,Consolidation!$B169,Feuil2!$H:$H)","v":0},null,{"$f":"SUMIF(Feuil3!$B:$B,Consolidation!$B169,Feuil3!$H:$H)","v":0},null,{"$f":"SUMIF(Feuil4!$B:$B,Consolidation!$B169,Feuil4!$H:$H)","v":0},null,{"$f":"SUMIF(Feuil5!$B:$B,Consolidation!$B169,Feuil5!$H:$H)","v":0},null,0,0,0]
["InsererLigne",null,null,null,null,null,null,null,null,null,null,null,null,null,null,null,null,null,null,null,null,null,null,null,null,null,null,null,null,null,null,null,null,null,null,null,null,null,null,0]
[null,44,"Charges d'investissements",{"$f":"SUBTOTAL(9,D172:D184)","v":0},{"$f":"IF($E$5>0,D171/$E$5,0)","v":0},{"$f":"SUBTOTAL(9,F172:F184)","v":0},{"$f":"IF($G$5>0,F171/$G$5,0)","v":0},{"$f":"SUBTOTAL(9,H172:H184)","v":0},{"$f":"IF($I$5>0,H171/$I$5,0)","v":0},{"$f":"SUBTOTAL(9,J172:J184)","v":0},{"$f":"IF($K$5>0,J171/$K$5,0)","v":0},{"$f":"SUBTOTAL(9,L172:L184)","v":0},{"$f":"IF($M$5>0,L171/$M$5,0)","v":0},{"$f":"D171+F171+H171+J171+L171","v":0},{"$f":"E171+G171+I171+K171+M171","v":0},{"$f":"SUBTOTAL(9,P172:P184)","v":0},{"$f":"IF($Q$5>0,P171/$Q$5,0)","v":0},{"$f":"SUBTOTAL(9,R172:R184)","v":0},{"$f":"IF($S$5>0,R171/$S$5,0)","v":0},{"$f":"SUBTOTAL(9,T172:T184)","v":0},{"$f":"IF($U$5>0,T171/$U$5,0)","v":0},{"$f":"SUBTOTAL(9,V172:V184)","v":0},{"$f":"IF($W$5>0,V171/$W$5,0)","v":0},{"$f":"SUBTOTAL(9,X172:X184)","v":0},{"$f":"IF($Y$5>0,X171/$Y$5,0)","v":0},{"$f":"P171+R171+T171+V171+X171","v":0},{"$f":"Q171+S171+U171+W171+Y171","v":0},{"$f":"SUBTOTAL(9,AB172:AB184)","v":0},{"$f":"IF($AC$5>0,AB171/$AC$5,0)","v":0},{"$f":"SUBTOTAL(9,AD172:AD184)","v":0},{"$f":"IF($AE$5>0,AD171/$AE$5,0)","v":0},{"$f":"SUBTOTAL(9,AF172:AF184)","v":0},{"$f":"IF($AG$5>0,AF171/$AG$5,0)","v":0},{"$f":"SUBTOTAL(9,AH172:AH184)","v":0},{"$f":"IF($AI$5>0,AH171/$AI$5,0)","v":0},{"$f":"SUBTOTAL(9,AJ172:AJ184)","v":0},{"$f":"IF($AK$5>0,AJ171/$AK$5,0)","v":0},{"$f":"AB171+AD171+AF171+AH171+AJ171","v":0},{"$f":"AC171+AE171+AG171+AI171+AK171","v":0},0]
[null,4400,"Loyers                                                  ",{"$f":"SUMIF(Feuil1!$B:$B,Consolidation!$B172,Feuil1!$D:$D)","v":0},null,{"$f":"SUMIF(Feuil2!$B:$B,Consolidation!$B172,Feuil2!$D:$D)","v":0},null,{"$f":"SUMIF(Feuil3!$B:$B,Consolidation!$B172,Feuil3!$D:$D)","v":0},null,{"$f":"SUMIF(Feuil4!$B:$B,Consolidation!$B172,Feuil4!$D:$D)","v":0},null,{"$f":"SUMIF(Feuil5!$B:$B,Consolidation!$B172,Feuil5!$D:$D)","v":0},null,{"$f":"D172+F172+H172+J172+L172","v":0},{"$f":"E172+G172+I172+K172+M172","v":0},{"$f":"SUMIF(Feuil1!$B:$B,Consolidation!$B172,Feuil1!$F:$F)","v":0},null,{"$f":"SUMIF(Feuil2!$B:$B,Consolidation!$B172,Feuil2!$F:$F)","v":0},null,{"$f":"SUMIF(Feuil3!$B:$B,Consolidation!$B172,Feuil3!$F:$F)","v":0},null,{"$f":"SUMIF(Feuil4!$B:$B,Consolidation!$B172,Feuil4!$F:$F)","v":0},null,{"$f":"SUMIF(Feuil5!$B:$B,Consolidation!$B172,Feuil5!$F:$F)","v":0},null,{"$f":"P172+R172+T172+V172+X172","v":0},{"$f":"Q172+S172+U172+W172+Y172","v":0},{"$f":"SUMIF(Feuil1!$B:$B,Consolidation!$B172,Feuil1!$H:$H)","v":0},null,{"$f":"SUMIF(Feuil2!$B:$B,Consolidation!$B172,Feuil2!$H:$H)","v":0},null,{"$f":"SUMIF(Feuil3!$B:$B,Consolidation!$B172,Feuil3!$H:$H)","v":0},null,{"$f":"SUMIF(Feuil4!$B:$B,Consolidation!$B172,Feuil4!$H:$H)","v":0},null,{"$f":"SUMIF(Feuil5!$B:$B,Consolidation!$B172,Feuil5!$H:$H)","v":0},null,{"$f":"AB172+AD172+AF172+AH172+AJ172","v":0},{"$f":"AC172+AE172+AG172+AI172+AK172","v":0},0]
["InsererLigne",4401,"Loyers garage",{"$f":"SUMIF(Feuil1!$B:$B,Consolidation!$B173,Feuil1!$D:$D)","v":0},null,{"$f":"SUMIF(Feuil2!$B:$B,Consolidation!$B173,Feuil2!$D:$D)","v":0},null,{"$f":"SUMIF(Feuil3!$B:$B,Consolidation!$B173,Feuil3!$D:$D)","v":0},null,{"$f":"SUMIF(Feuil4!$B:$B,Consolidation!$B173,Feuil4!$D:$D)","v":0},null,{"$f":"SUMIF(Feuil5!$B:$B,Consolidation!$B173,Feuil5!$D:$D)","v":0},null,0,0,{"$f":"SUMIF(Feuil1!$B:$B,Consolidation!$B173,Feuil1!$F:$F)","v":0},null,{"$f":"SUMIF(Feuil2!$B:$B,Consolidation!$B173,Feuil2!$F:$F)","v":0},null,{"$f":"SUMIF(Feuil3!$B:$B,Consolidation!$B173,Feuil3!$F:$F)","v":0},null,{"$f":"SUMIF(Feuil4!$B:$B,Consolidation!$B173,Feuil4!$F:$F)","v":0},null,{"$f":"SUMIF(Feuil5!$B:$B,Consolidation!$B173,Feuil5!$F:$F)","v":0},null,0,0,{"$f":"SUMIF(Feuil1!$B:$B,Consolidation!$B173,Feuil1!$H:$H)","v":0},null,{"$f":"SUMIF(Feuil2!$B:$B,Consolidation!$B173,Feuil2!$H:$H)","v":0},null,{"$f":"SUMIF(Feuil3!$B:$B,Consolidation!$B173,Feuil3!$H:$H)","v":0},null,{"$f":"SUMIF(Feuil4!$B:$B,Consolidation!$B173,Feuil4!$H:$H)","v":0},null,{"$f":"SUMIF(Feuil5!$B:$B,Consolidation!$B173,Feuil5!$H:$H)","v":0},null,0,0,0]
["InsererLigne",4402,"Loyers imputés                                                  ",{"$f":"SUMIF(Feuil1!$B:$B,Consolidation!$B174,Feuil1!$D:$D)","v":0},null,{"$f":"SUMIF(Feuil2!$B:$B,Consolidation!$B174,Feuil2!$D:$D)","v":0},null,{"$f":"SUMIF(Feuil3!$B:$B,Consolidation!$B174,Feuil3!$D:$D)","v":0},null,{"$f":"SUMIF(Feuil4!$B:$B,Consolidation!$B174,Feuil4!$D:$D)","v":0},null,{"$f":"SUMIF(Feuil5!$B:$B,Consolidation!$B174,Feuil5!$D:$D)","v":0},null,0,0,{"$f":"SUMIF(Feuil1!$B:$B,Consolidation!$B174,Feuil1!$F:$F)","v":0},null,{"$f":"SUMIF(Feuil2!$B:$B,Consolidation!$B174,Feuil2!$F:$F)","v":0},null,{"$f":"SUMIF(Feuil3!$B:$B,Consolidation!$B174,Feuil3!$F:$F)","v":0},null,{"$f":"SUMIF(Feuil4!$B:$B,Consolidation!$B174,Feuil4!$F:$F)","v":0},null,{"$f":"SUMIF(Feuil5!$B:$B,Consolidation!$B174,Feuil5!$F:$F)","v":0},null,0,0,{"$f":"SUMIF(Feuil1!$B:$B,Consolidation!$B174,Feuil1!$H:$H)","v":0},null,{"$f":"SUMIF(Feuil2!$B:$B,Consolidation!$B174,Feuil2!$H:$H)","v":0},null,{"$f":"SUMIF(Feuil3!$B:$B,Consolidation!$B174,Feuil3!$H:$H)","v":0},null,{"$f":"SUMIF(Feuil4!$B:$B,Consolidation!$B174,Feuil4!$H:$H)","v":0},null,{"$f":"SUMIF(Feuil5!$B:$B,Consolidation!$B174,Feuil5!$H:$H)","v":0},null,0,0,0]
["InsererLigne",4410,"Leasing                                                  ",{"$f":"SUMIF(Feuil1!$B:$B,Consolidation!$B175,Feuil1!$D:$D)","v":0},null,{"$f":"SUMIF(Feuil2!$B:$B,Consolidation!$B175,Feuil2!$D:$D)","v":0},null,{"$f":"SUMIF(Feuil3!$B:$B,Consolidation!$B175,Feuil3!$D:$D)","v":0},null,{"$f":"SUMIF(Feuil4!$B:$B,Consolidation!$B175,Feuil4!$D:$D)","v":0},null,{"$f":"SUMIF(Feuil5!$B:$B,Consolidation!$B175,Feuil5!$D:$D)","v":0},null,0,0,{"$f":"SUMIF(Feuil1!$B:$B,Consolidation!$B175,Feuil1!$F:$F)","v":0},null,{"$f":"SUMIF(Feuil2!$B:$B,Consolidation!$B175,Feuil2!$F:$F)","v":0},null,{"$f":"SUMIF(Feuil3!$B:$B,Consolidation!$B175,Feuil3!$F:$F)","v":0},null,{"$f":"SUMIF(Feuil4!$B:$B,Consolidation!$B175,Feuil4!$F:$F)","v":0},null,{"$f":"SUMIF(Feuil5!$B:$B,Consolidation!$B175,Feuil5!$F:$F)","v":0},null,0,0,{"$f":"SUMIF(Feuil1!$B:$B,Consolidation!$B175,Feuil1!$H:$H)","v":0},null,{"$f":"SUMIF(Feuil2!$B:$B,Consolidation!$B175,Feuil2!$H:$H)","v":0},null,{"$f":"SUMIF(Feuil3!$B:$B,Consolidation!$B175,Feuil3!$H:$H)","v":0},null,{"$f":"SUMIF(Feuil4!$B:$B,Consolidation!$B175,Feuil4!$H:$H)","v":0},null,{"$f":"SUMIF(Feuil5!$B:$B,Consolidation!$B175,Feuil5!$H:$H)","v":0},null,0,0,0]
["InsererLigne",4415,"Investissements non activés",{"$f":"SUMIF(Feuil1!$B:$B,Consolidation!$B176,Feuil1!$D:$D)","v":0},null,{"$f":"SUMIF(Feuil2!$B:$B,Consolidation!$B176,Feuil2!$D:$D)","v":0},null,{"$f":"SUMIF(Feuil3!$B:$B,Consolidation!$B176,Feuil3!$D:$D)","v":0},null,{"$f":"SUMIF(Feuil4!$B:$B,Consolidation!$B176,Feuil4!$D:$D)","v":0},null,{"$f":"SUMIF(Feuil5!$B:$B,Consolidation!$B176,Feuil5!$D:$D)","v":0},null,0,0,{"$f":"SUMIF(Feuil1!$B:$B,Consolidation!$B176,Feuil1!$F:$F)","v":0},null,{"$f":"SUMIF(Feuil2!$B:$B,Consolidation!$B176,Feuil2!$F:$F)","v":0},null,{"$f":"SUMIF(Feuil3!$B:$B,Consolidation!$B176,Feuil3!$F:$F)","v":0},null,{"$f":"SUMIF(Feuil4!$B:$B,Consolidation!$B176,Feuil4!$F:$F)","v":0},null,{"$f":"SUMIF(Feuil5!$B:$B,Consolidation!$B176,Feuil5!$F:$F)","v":0},null,0,0,{"$f":"SUMIF(Feuil1!$B:$B,Consolidation!$B176,Feuil1!$H:$H)","v":0},null,{"$f":"SUMIF(Feuil2!$B:$B,Consolidation!$B176,Feuil2!$H:$H)","v":0},null,{"$f":"SUMIF(Feuil3!$B:$B,Consolidation!$B176,Feuil3!$H:$H)","v":0},null,{"$f":"SUMIF(Feuil4!$B:$B,Consolidation!$B176,Feuil4!$H:$H)","v":0},null,{"$f":"SUMIF(Feuil5!$B:$B,Consolidation!$B176,Feuil5!$H:$H)","v":0},null,0,0,0]
["InsererLigne",4420,"Intérêts du capital, frais bancaires et postaux                                                  ",{"$f":"SUMIF(Feuil1!$B:$B,Consolidation!$B177,Feuil1!$D:$D)","v":0},null,{"$f":"SUMIF(Feuil2!$B:$B,Consolidation!$B177,Feuil2!$D:$D)","v":0},null,{"$f":"SUMIF(Feuil3!$B:$B,Consolidation!$B177,Feuil3!$D:$D)","v":0},null,{"$f":"SUMIF(Feuil4!$B:$B,Consolidation!$B177,Feuil4!$D:$D)","v":0},null,{"$f":"SUMIF(Feuil5!$B:$B,Consolidation!$B177,Feuil5!$D:$D)","v":0},null,0,0,{"$f":"SUMIF(Feuil1!$B:$B,Consolidation!$B177,Feuil1!$F:$F)","v":0},null,{"$f":"SUMIF(Feuil2!$B:$B,Consolidation!$B177,Feuil2!$F:$F)","v":0},null,{"$f":"SUMIF(Feuil3!$B:$B,Consolidation!$B177,Feuil3!$F:$F)","v":0},null,{"$f":"SUMIF(Feuil4!$B:$B,Consolidation!$B177,Feuil4!$F:$F)","v":0},null,{"$f":"SUMIF(Feuil5!$B:$B,Consolidation!$B177,Feuil5!$F:$F)","v":0},null,0,0,{"$f":"SUMIF(Feuil1!$B:$B,Consolidation!$B177,Feuil1!$H:$H)","v":0},null,{"$f":"SUMIF(Feuil2!$B:$B,Consolidation!$B177,Feuil2!$H:$H)","v":0},null,{"$f":"SUMIF(Feuil3!$B:$B,Consolidation!$B177,Feuil3!$H:$H)","v":0},null,{"$f":"SUMIF(Feuil4!$B:$B,Consolidation!$B177,Feuil4!$H:$H)","v":0},null,{"$f":"SUMIF(Feuil5!$B:$B,Consolidation!$B177,Feuil5!$H:$H)","v":0},null,0,0,0]
["InsererLigne",4440,"Intérêts hypothécaires                                                  ",{"$f":"SUMIF(Feuil1!$B:$B,Consolidation!$B178,Feuil1!$D:$D)","v":0},null,{"$f":"SUMIF(Feuil2!$B:$B,Consolidation!$B178,Feuil2!$D:$D)","v":0},null,{"$f":"SUMIF(Feuil3!$B:$B,Consolidation!$B178,Feuil3!$D:$D)","v":0},null,{"$f":"SUMIF(Feuil4!$B:$B,Consolidation!$B178,Feuil4!$D:$D)","v":0},null,{"$f":"SUMIF(Feuil5!$B:$B,Consolidation!$B178,Feuil5!$D:$D)","v":0},null,0,0,{"$f":"SUMIF(Feuil1!$B:$B,Consolidation!$B178,Feuil1!$F:$F)","v":0},null,{"$f":"SUMIF(Feuil2!$B:$B,Consolidation!$B178,Feuil2!$F:$F)","v":0},null,{"$f":"SUMIF(Feuil3!$B:$B,Consolidation!$B178,Feuil3!$F:$F)","v":0},null,{"$f":"SUMIF(Feuil4!$B:$B,Consolidation!$B178,Feuil4!$F:$F)","v":0},null,{"$f":"SUMIF(Feuil5!$B:$B,Consolidation!$B178,Feuil5!$F:$F)","v":0},null,0,0,{"$f":"SUMIF(Feuil1!$B:$B,Consolidation!$B178,Feuil1!$H:$H)","v":0},null,{"$f":"SUMIF(Feuil2!$B:$B,Consolidation!$B178,Feuil2!$H:$H)","v":0},null,{"$f":"SUMIF(Feuil3!$B:$B,Consolidation!$B178,Feuil3!$H:$H)","v":0},null,{"$f":"SUMIF(Feuil4!$B:$B,Consolidation!$B178,Feuil4!$H:$H)","v":0},null,{"$f":"SUMIF(Feuil5!$B:$B,Consolidation!$B178,Feuil5!$H:$H)","v":0},null,0,0,0]
["InsererLigne",4450,"Amortissement immobilisation corporelles immeubles                                                  ",{"$f":"SUMIF(Feuil1!$B:$B,Consolidation!$B179,Feuil1!$D:$D)","v":0},null,{"$f":"SUMIF(Feuil2!$B:$B,Consolidation!$B179,Feuil2!$D:$D)","v":0},null,{"$f":"SUMIF(Feuil3!$B:$B,Consolidation!$B179,Feuil3!$D:$D)","v":0},null,{"$f":"SUMIF(Feuil4!$B:$B,Consolidation!$B179,Feuil4!$D:$D)","v":0},null,{"$f":"SUMIF(Feuil5!$B:$B,Consolidation!$B179,Feuil5!$D:$D)","v":0},null,0,0,{"$f":"SUMIF(Feuil1!$B:$B,Consolidation!$B179,Feuil1!$F:$F)","v":0},null,{"$f":"SUMIF(Feuil2!$B:$B,Consolidation!$B179,Feuil2!$F:$F)","v":0},null,{"$f":"SUMIF(Feuil3!$B:$B,Consolidation!$B179,Feuil3!$F:$F)","v":0},null,{"$f":"SUMIF(Feuil4!$B:$B,Consolidation!$B179,Feuil4!$F:$F)","v":0},null,{"$f":"SUMIF(Feuil5!$B:$B,Consolidation!$B179,Feuil5!$F:$F)","v":0},null,0,0,{"$f":"SUMIF(Feuil1!$B:$B,Consolidation!$B179,Feuil1!$H:$H)","v":0},null,{"$f":"SUMIF(Feuil2!$B:$B,Consolidation!$B179,Feuil2!$H:$H)","v":0},null,{"$f":"SUMIF(Feuil3!$B:$B,Consolidation!$B179,Feuil3!$H:$H)","v":0},null,{"$f":"SUMIF(Feuil4!$B:$B,Consolidation!$B179,Feuil4!$H:$H)","v":0},null,{"$f":"SUMIF(Feuil5!$B:$B,Consolidation!$B179,Feuil5!$H:$H)","v":0},null,0,0,0]
["InsererLigne",4460,"Amortissement immobilisation corporelles meubles                                                  ",{"$f":"SUMIF(Feuil1!$B:$B,Consolidation!$B180,Feuil1!$D:$D)","v":0},null,{"$f":"SUMIF(Feuil2!$B:$B,Consolidation!$B180,Feuil2!$D:$D)","v":0},null,{"$f":"SUMIF(Feuil3!$B:$B,Consolidation!$B180,Feuil3!$D:$D)","v":0},null,{"$f":"SUMIF(Feuil4!$B:$B,Consolidation!$B180,Feuil4!$D:$D)","v":0},null,{"$f":"SUMIF(Feuil5!$B:$B,Consolidation!$B180,Feuil5!$D:$D)","v":0},null,0,0,{"$f":"SUMIF(Feuil1!$B:$B,Consolidation!$B180,Feuil1!$F:$F)","v":0},null,{"$f":"SUMIF(Feuil2!$B:$B,Consolidation!$B180,Feuil2!$F:$F)","v":0},null,{"$f":"SUMIF(Feuil3!$B:$B,Consolidation!$B180,Feuil3!$F:$F)","v":0},null,{"$f":"SUMIF(Feuil4!$B:$B,Consolidation!$B180,Feuil4!$F:$F)","v":0},null,{"$f":"SUMIF(Feuil5!$B:$B,Consolidation!$B180,Feuil5!$F:$F)","v":0},null,0,0,{"$f":"SUMIF(Feuil1!$B:$B,Consolidation!$B180,Feuil1!$H:$H)","v":0},null,{"$f":"SUMIF(Feuil2!$B:$B,Consolidation!$B180,Feuil2!$H:$H)","v":0},null,{"$f":"SUMIF(Feuil3!$B:$B,Consolidation!$B180,Feuil3!$H:$H)","v":0},null,{"$f":"SUMIF(Feuil4!$B:$B,Consolidation!$B180,Feuil4!$H:$H)","v":0},null,{"$f":"SUMIF(Feuil5!$B:$B,Consolidation!$B180,Feuil5!$H:$H)","v":0},null,0,0,0]
["InsererLigne",4470,"Amortissement véhicules                                                  ",{"$f":"SUMIF(Feuil1!$B:$B,Consolidation!$B181,Feuil1!$D:$D)","v":0},null,{"$f":"SUMIF(Feuil2!$B:$B,Consolidation!$B181,Feuil2!$D:$D)","v":0},null,{"$f":"SUMIF(Feuil3!$B:$B,Consolidation!$B181,Feuil3!$D:$D)","v":0},null,{"$f":"SUMIF(Feuil4!$B:$B,Consolidation!$B181,Feuil4!$D:$D)","v":0},null,{"$f":"SUMIF(Feuil5!$B:$B,Consolidation!$B181,Feuil5!$D:$D)","v":0},null,0,0,{"$f":"SUMIF(Feuil1!$B:$B,Consolidation!$B181,Feuil1!$F:$F)","v":0},null,{"$f":"SUMIF(Feuil2!$B:$B,Consolidation!$B181,Feuil2!$F:$F)","v":0},null,{"$f":"SUMIF(Feuil3!$B:$B,Consolidation!$B181,Feuil3!$F:$F)","v":0},null,{"$f":"SUMIF(Feuil4!$B:$B,Consolidation!$B181,Feuil4!$F:$F)","v":0},null,{"$f":"SUMIF(Feuil5!$B:$B,Consolidation!$B181,Feuil5!$F:$F)","v":0},null,0,0,{"$f":"SUMIF(Feuil1!$B:$B,Consolidation!$B181,Feuil1!$H:$H)","v":0},null,{"$f":"SUMIF(Feuil2!$B:$B,Consolidation!$B181,Feuil2!$H:$H)","v":0},null,{"$f":"SUMIF(Feuil3!$B:$B,Consolidation!$B181,Feuil3!$H:$H)","v":0},null,{"$f":"SUMIF(Feuil4!$B:$B,Consolidation!$B181,Feuil4!$H:$H)","v":0},null,{"$f":"SUMIF(Feuil5!$B:$B,Consolidation!$B181,Feuil5!$H:$H)","v":0},null,0,0,0]
["InsererLigne",4480,"Amortissement informatique et communication",{"$f":"SUMIF(Feuil1!$B:$B,Consolidation!$B182,Feuil1!$D:$D)","v":0},null,{"$f":"SUMIF(Feuil2!$B:$B,Consolidation!$B182,Feuil2!$D:$D)","v":0},null,{"$f":"SUMIF(Feuil3!$B:$B,Consolidation!$B182,Feuil3!$D:$D)","v":0},null,{"$f":"SUMIF(Feuil4!$B:$B,Consolidation!$B182,Feuil4!$D:$D)","v":0},null,{"$f":"SUMIF(Feuil5!$B:$B,Consolidation!$B182,Feuil5!$D:$D)","v":0},null,0,0,{"$f":"SUMIF(Feuil1!$B:$B,Consolidation!$B182,Feuil1!$F:$F)","v":0},null,{"$f":"SUMIF(Feuil2!$B:$B,Consolidation!$B182,Feuil2!$F:$F)","v":0},null,{"$f":"SUMIF(Feuil3!$B:$B,Consolidation!$B182,Feuil3!$F:$F)","v":0},null,{"$f":"SUMIF(Feuil4!$B:$B,Consolidation!$B182,Feuil4!$F:$F)","v":0},null,{"$f":"SUMIF(Feuil5!$B:$B,Consolidation!$B182,Feuil5!$F:$F)","v":0},null,0,0,{"$f":"SUMIF(Feuil1!$B:$B,Consolidation!$B182,Feuil1!$H:$H)","v":0},null,{"$f":"SUMIF(Feuil2!$B:$B,Consolidation!$B182,Feuil2!$H:$H)","v":0},null,{"$f":"SUMIF(Feuil3!$B:$B,Consolidation!$B182,Feuil3!$H:$H)","v":0},null,{"$f":"SUMIF(Feuil4!$B:$B,Consolidation!$B182,Feuil4!$H:$H)","v":0},null,{"$f":"SUMIF(Feuil5!$B:$B,Consolidation!$B182,Feuil5!$H:$H)","v":0},null,0,0,0]
["InsererLigne",4481,"Amortissement informatique RPN",{"$f":"SUMIF(Feuil1!$B:$B,Consolidation!$B183,Feuil1!$D:$D)","v":0},null,{"$f":"SUMIF(Feuil2!$B:$B,Consolidation!$B183,Feuil2!$D:$D)","v":0},null,{"$f":"SUMIF(Feuil3!$B:$B,Consolidation!$B183,Feuil3!$D:$D)","v":0},null,{"$f":"SUMIF(Feuil4!$B:$B,Consolidation!$B183,Feuil4!$D:$D)","v":0},null,{"$f":"SUMIF(Feuil5!$B:$B,Consolidation!$B183,Feuil5!$D:$D)","v":0},null,0,0,{"$f":"SUMIF(Feuil1!$B:$B,Consolidation!$B183,Feuil1!$F:$F)","v":0},null,{"$f":"SUMIF(Feuil2!$B:$B,Consolidation!$B183,Feuil2!$F:$F)","v":0},null,{"$f":"SUMIF(Feuil3!$B:$B,Consolidation!$B183,Feuil3!$F:$F)","v":0},null,{"$f":"SUMIF(Feuil4!$B:$B,Consolidation!$B183,Feuil4!$F:$F)","v":0},null,{"$f":"SUMIF(Feuil5!$B:$B,Consolidation!$B183,Feuil5!$F:$F)","v":0},null,0,0,{"$f":"SUMIF(Feuil1!$B:$B,Consolidation!$B183,Feuil1!$H:$H)","v":0},null,{"$f":"SUMIF(Feuil2!$B:$B,Consolidation!$B183,Feuil2!$H:$H)","v":0},null,{"$f":"SUMIF(Feuil3!$B:$B,Consolidation!$B183,Feuil3!$H:$H)","v":0},null,{"$f":"SUMIF(Feuil4!$B:$B,Consolidation!$B183,Feuil4!$H:$H)","v":0},null,{"$f":"SUMIF(Feuil5!$B:$B,Consolidation!$B183,Feuil5!$H:$H)","v":0},null,0,0,0]
["InsererLigne",null,null,null,null,null,null,null,null,null,null,null,null,null,null,null,null,null,null,null,null,null,null,null,null,null,null,null,null,null,null,null,null,null,null,null,null,null,null,0]
[null,45,"Energie et eau",{"$f":"SUBTOTAL(9,D186:D191)","v":0},{"$f":"IF($E$5>0,D185/$E$5,0)","v":0},{"$f":"SUBTOTAL(9,F186:F191)","v":0},{"$f":"IF($G$5>0,F185/$G$5,0)","v":0},{"$f":"SUBTOTAL(9,H186:H191)","v":0},{"$f":"IF($I$5>0,H185/$I$5,0)","v":0},{"$f":"SUBTOTAL(9,J186:J191)","v":0},{"$f":"IF($K$5>0,J185/$K$5,0)","v":0},{"$f":"SUBTOTAL(9,L186:L191)","v":0},{"$f":"IF($M$5>0,L185/$M$5,0)","v":0},{"$f":"D185+F185+H185+J185+L185","v":0},{"$f":"E185+G185+I185+K185+M185","v":0},{"$f":"SUBTOTAL(9,P186:P191)","v":0},{"$f":"IF($Q$5>0,P185/$Q$5,0)","v":0},{"$f":"SUBTOTAL(9,R186:R191)","v":0},{"$f":"IF($S$5>0,R185/$S$5,0)","v":0},{"$f":"SUBTOTAL(9,T186:T191)","v":0},{"$f":"IF($U$5>0,T185/$U$5,0)","v":0},{"$f":"SUBTOTAL(9,V186:V191)","v":0},{"$f":"IF($W$5>0,V185/$W$5,0)","v":0},{"$f":"SUBTOTAL(9,X186:X191)","v":0},{"$f":"IF($Y$5>0,X185/$Y$5,0)","v":0},{"$f":"P185+R185+T185+V185+X185","v":0},{"$f":"Q185+S185+U185+W185+Y185","v":0},{"$f":"SUBTOTAL(9,AB186:AB191)","v":0},{"$f":"IF($AC$5>0,AB185/$AC$5,0)","v":0},{"$f":"SUBTOTAL(9,AD186:AD191)","v":0},{"$f":"IF($AE$5>0,AD185/$AE$5,0)","v":0},{"$f":"SUBTOTAL(9,AF186:AF191)","v":0},{"$f":"IF($AG$5>0,AF185/$AG$5,0)","v":0},{"$f":"SUBTOTAL(9,AH186:AH191)","v":0},{"$f":"IF($AI$5>0,AH185/$AI$5,0)","v":0},{"$f":"SUBTOTAL(9,AJ186:AJ191)","v":0},{"$f":"IF($AK$5>0,AJ185/$AK$5,0)","v":0},{"$f":"AB185+AD185+AF185+AH185+AJ185","v":0},{"$f":"AC185+AE185+AG185+AI185+AK185","v":0},0]
[null,4500,"Electricité                                                  ",{"$f":"SUMIF(Feuil1!$B:$B,Consolidation!$B186,Feuil1!$D:$D)","v":0},null,{"$f":"SUMIF(Feuil2!$B:$B,Consolidation!$B186,Feuil2!$D:$D)","v":0},null,{"$f":"SUMIF(Feuil3!$B:$B,Consolidation!$B186,Feuil3!$D:$D)","v":0},null,{"$f":"SUMIF(Feuil4!$B:$B,Consolidation!$B186,Feuil4!$D:$D)","v":0},null,{"$f":"SUMIF(Feuil5!$B:$B,Consolidation!$B186,Feuil5!$D:$D)","v":0},null,{"$f":"D186+F186+H186+J186+L186","v":0},{"$f":"E186+G186+I186+K186+M186","v":0},{"$f":"SUMIF(Feuil1!$B:$B,Consolidation!$B186,Feuil1!$F:$F)","v":0},null,{"$f":"SUMIF(Feuil2!$B:$B,Consolidation!$B186,Feuil2!$F:$F)","v":0},null,{"$f":"SUMIF(Feuil3!$B:$B,Consolidation!$B186,Feuil3!$F:$F)","v":0},null,{"$f":"SUMIF(Feuil4!$B:$B,Consolidation!$B186,Feuil4!$F:$F)","v":0},null,{"$f":"SUMIF(Feuil5!$B:$B,Consolidation!$B186,Feuil5!$F:$F)","v":0},null,{"$f":"P186+R186+T186+V186+X186","v":0},{"$f":"Q186+S186+U186+W186+Y186","v":0},{"$f":"SUMIF(Feuil1!$B:$B,Consolidation!$B186,Feuil1!$H:$H)","v":0},null,{"$f":"SUMIF(Feuil2!$B:$B,Consolidation!$B186,Feuil2!$H:$H)","v":0},null,{"$f":"SUMIF(Feuil3!$B:$B,Consolidation!$B186,Feuil3!$H:$H)","v":0},null,{"$f":"SUMIF(Feuil4!$B:$B,Consolidation!$B186,Feuil4!$H:$H)","v":0},null,{"$f":"SUMIF(Feuil5!$B:$B,Consolidation!$B186,Feuil5!$H:$H)","v":0},null,{"$f":"AB186+AD186+AF186+AH186+AJ186","v":0},{"$f":"AC186+AE186+AG186+AI186+AK186","v":0},0]
["InsererLigne",4510,"Gaz                                                  ",{"$f":"SUMIF(Feuil1!$B:$B,Consolidation!$B187,Feuil1!$D:$D)","v":0},null,{"$f":"SUMIF(Feuil2!$B:$B,Consolidation!$B187,Feuil2!$D:$D)","v":0},null,{"$f":"SUMIF(Feuil3!$B:$B,Consolidation!$B187,Feuil3!$D:$D)","v":0},null,{"$f":"SUMIF(Feuil4!$B:$B,Consolidation!$B187,Feuil4!$D:$D)","v":0},null,{"$f":"SUMIF(Feuil5!$B:$B,Consolidation!$B187,Feuil5!$D:$D)","v":0},null,0,0,{"$f":"SUMIF(Feuil1!$B:$B,Consolidation!$B187,Feuil1!$F:$F)","v":0},null,{"$f":"SUMIF(Feuil2!$B:$B,Consolidation!$B187,Feuil2!$F:$F)","v":0},null,{"$f":"SUMIF(Feuil3!$B:$B,Consolidation!$B187,Feuil3!$F:$F)","v":0},null,{"$f":"SUMIF(Feuil4!$B:$B,Consolidation!$B187,Feuil4!$F:$F)","v":0},null,{"$f":"SUMIF(Feuil5!$B:$B,Consolidation!$B187,Feuil5!$F:$F)","v":0},null,0,0,{"$f":"SUMIF(Feuil1!$B:$B,Consolidation!$B187,Feuil1!$H:$H)","v":0},null,{"$f":"SUMIF(Feuil2!$B:$B,Consolidation!$B187,Feuil2!$H:$H)","v":0},null,{"$f":"SUMIF(Feuil3!$B:$B,Consolidation!$B187,Feuil3!$H:$H)","v":0},null,{"$f":"SUMIF(Feuil4!$B:$B,Consolidation!$B187,Feuil4!$H:$H)","v":0},null,{"$f":"SUMIF(Feuil5!$B:$B,Consolidation!$B187,Feuil5!$H:$H)","v":0},null,0,0,0]
["InsererLigne",4520,"Combustibles",{"$f":"SUMIF(Feuil1!$B:$B,Consolidation!$B188,Feuil1!$D:$D)","v":0},null,{"$f":"SUMIF(Feuil2!$B:$B,Consolidation!$B188,Feuil2!$D:$D)","v":0},null,{"$f":"SUMIF(Feuil3!$B:$B,Consolidation!$B188,Feuil3!$D:$D)","v":0},null,{"$f":"SUMIF(Feuil4!$B:$B,Consolidation!$B188,Feuil4!$D:$D)","v":0},null,{"$f":"SUMIF(Feuil5!$B:$B,Consolidation!$B188,Feuil5!$D:$D)","v":0},null,0,0,{"$f":"SUMIF(Feuil1!$B:$B,Consolidation!$B188,Feuil1!$F:$F)","v":0},null,{"$f":"SUMIF(Feuil2!$B:$B,Consolidation!$B188,Feuil2!$F:$F)","v":0},null,{"$f":"SUMIF(Feuil3!$B:$B,Consolidation!$B188,Feuil3!$F:$F)","v":0},null,{"$f":"SUMIF(Feuil4!$B:$B,Consolidation!$B188,Feuil4!$F:$F)","v":0},null,{"$f":"SUMIF(Feuil5!$B:$B,Consolidation!$B188,Feuil5!$F:$F)","v":0},null,0,0,{"$f":"SUMIF(Feuil1!$B:$B,Consolidation!$B188,Feuil1!$H:$H)","v":0},null,{"$f":"SUMIF(Feuil2!$B:$B,Consolidation!$B188,Feuil2!$H:$H)","v":0},null,{"$f":"SUMIF(Feuil3!$B:$B,Consolidation!$B188,Feuil3!$H:$H)","v":0},null,{"$f":"SUMIF(Feuil4!$B:$B,Consolidation!$B188,Feuil4!$H:$H)","v":0},null,{"$f":"SUMIF(Feuil5!$B:$B,Consolidation!$B188,Feuil5!$H:$H)","v":0},null,0,0,0]
["InsererLigne",4540,"Chauffage à distance                                                  ",{"$f":"SUMIF(Feuil1!$B:$B,Consolidation!$B189,Feuil1!$D:$D)","v":0},null,{"$f":"SUMIF(Feuil2!$B:$B,Consolidation!$B189,Feuil2!$D:$D)","v":0},null,{"$f":"SUMIF(Feuil3!$B:$B,Consolidation!$B189,Feuil3!$D:$D)","v":0},null,{"$f":"SUMIF(Feuil4!$B:$B,Consolidation!$B189,Feuil4!$D:$D)","v":0},null,{"$f":"SUMIF(Feuil5!$B:$B,Consolidation!$B189,Feuil5!$D:$D)","v":0},null,0,0,{"$f":"SUMIF(Feuil1!$B:$B,Consolidation!$B189,Feuil1!$F:$F)","v":0},null,{"$f":"SUMIF(Feuil2!$B:$B,Consolidation!$B189,Feuil2!$F:$F)","v":0},null,{"$f":"SUMIF(Feuil3!$B:$B,Consolidation!$B189,Feuil3!$F:$F)","v":0},null,{"$f":"SUMIF(Feuil4!$B:$B,Consolidation!$B189,Feuil4!$F:$F)","v":0},null,{"$f":"SUMIF(Feuil5!$B:$B,Consolidation!$B189,Feuil5!$F:$F)","v":0},null,0,0,{"$f":"SUMIF(Feuil1!$B:$B,Consolidation!$B189,Feuil1!$H:$H)","v":0},null,{"$f":"SUMIF(Feuil2!$B:$B,Consolidation!$B189,Feuil2!$H:$H)","v":0},null,{"$f":"SUMIF(Feuil3!$B:$B,Consolidation!$B189,Feuil3!$H:$H)","v":0},null,{"$f":"SUMIF(Feuil4!$B:$B,Consolidation!$B189,Feuil4!$H:$H)","v":0},null,{"$f":"SUMIF(Feuil5!$B:$B,Consolidation!$B189,Feuil5!$H:$H)","v":0},null,0,0,0]
["InsererLigne",4550,"Eau                                                  ",{"$f":"SUMIF(Feuil1!$B:$B,Consolidation!$B190,Feuil1!$D:$D)","v":0},null,{"$f":"SUMIF(Feuil2!$B:$B,Consolidation!$B190,Feuil2!$D:$D)","v":0},null,{"$f":"SUMIF(Feuil3!$B:$B,Consolidation!$B190,Feuil3!$D:$D)","v":0},null,{"$f":"SUMIF(Feuil4!$B:$B,Consolidation!$B190,Feuil4!$D:$D)","v":0},null,{"$f":"SUMIF(Feuil5!$B:$B,Consolidation!$B190,Feuil5!$D:$D)","v":0},null,0,0,{"$f":"SUMIF(Feuil1!$B:$B,Consolidation!$B190,Feuil1!$F:$F)","v":0},null,{"$f":"SUMIF(Feuil2!$B:$B,Consolidation!$B190,Feuil2!$F:$F)","v":0},null,{"$f":"SUMIF(Feuil3!$B:$B,Consolidation!$B190,Feuil3!$F:$F)","v":0},null,{"$f":"SUMIF(Feuil4!$B:$B,Consolidation!$B190,Feuil4!$F:$F)","v":0},null,{"$f":"SUMIF(Feuil5!$B:$B,Consolidation!$B190,Feuil5!$F:$F)","v":0},null,0,0,{"$f":"SUMIF(Feuil1!$B:$B,Consolidation!$B190,Feuil1!$H:$H)","v":0},null,{"$f":"SUMIF(Feuil2!$B:$B,Consolidation!$B190,Feuil2!$H:$H)","v":0},null,{"$f":"SUMIF(Feuil3!$B:$B,Consolidation!$B190,Feuil3!$H:$H)","v":0},null,{"$f":"SUMIF(Feuil4!$B:$B,Consolidation!$B190,Feuil4!$H:$H)","v":0},null,{"$f":"SUMIF(Feuil5!$B:$B,Consolidation!$B190,Feuil5!$H:$H)","v":0},null,0,0,0]
["InsererLigne",null,null,null,null,null,null,null,null,null,null,null,null,null,null,null,null,null,null,null,null,null,null,null,null,null,null,null,null,null,null,null,null,null,null,null,null,null,null,0]
[null,46,"Ecole, formation et loisirs",{"$f":"SUBTOTAL(9,D193:D212)","v":0},{"$f":"IF($E$5>0,D192/$E$5,0)","v":0},{"$f":"SUBTOTAL(9,F193:F212)","v":0},{"$f":"IF($G$5>0,F192/$G$5,0)","v":0},{"$f":"SUBTOTAL(9,H193:H212)","v":0},{"$f":"IF($I$5>0,H192/$I$5,0)","v":0},{"$f":"SUBTOTAL(9,J193:J212)","v":0},{"$f":"IF($K$5>0,J192/$K$5,0)","v":0},{"$f":"SUBTOTAL(9,L193:L212)","v":0},{"$f":"IF($M$5>0,L192/$M$5,0)","v":0},{"$f":"D192+F192+H192+J192+L192","v":0},{"$f":"E192+G192+I192+K192+M192","v":0},{"$f":"SUBTOTAL(9,P193:P212)","v":0},{"$f":"IF($Q$5>0,P192/$Q$5,0)","v":0},{"$f":"SUBTOTAL(9,R193:R212)","v":0},{"$f":"IF($S$5>0,R192/$S$5,0)","v":0},{"$f":"SUBTOTAL(9,T193:T212)","v":0},{"$f":"IF($U$5>0,T192/$U$5,0)","v":0},{"$f":"SUBTOTAL(9,V193:V212)","v":0},{"$f":"IF($W$5>0,V192/$W$5,0)","v":0},{"$f":"SUBTOTAL(9,X193:X212)","v":0},{"$f":"IF($Y$5>0,X192/$Y$5,0)","v":0},{"$f":"P192+R192+T192+V192+X192","v":0},{"$f":"Q192+S192+U192+W192+Y192","v":0},{"$f":"SUBTOTAL(9,AB193:AB212)","v":0},{"$f":"IF($AC$5>0,AB192/$AC$5,0)","v":0},{"$f":"SUBTOTAL(9,AD193:AD212)","v":0},{"$f":"IF($AE$5>0,AD192/$AE$5,0)","v":0},{"$f":"SUBTOTAL(9,AF193:AF212)","v":0},{"$f":"IF($AG$5>0,AF192/$AG$5,0)","v":0},{"$f":"SUBTOTAL(9,AH193:AH212)","v":0},{"$f":"IF($AI$5>0,AH192/$AI$5,0)","v":0},{"$f":"SUBTOTAL(9,AJ193:AJ212)","v":0},{"$f":"IF($AK$5>0,AJ192/$AK$5,0)","v":0},{"$f":"AB192+AD192+AF192+AH192+AJ192","v":0},{"$f":"AC192+AE192+AG192+AI192+AK192","v":0},0]
[null,4600,"Matériel scolaire et de formation                                                  ",{"$f":"SUMIF(Feuil1!$B:$B,Consolidation!$B193,Feuil1!$D:$D)","v":0},null,{"$f":"SUMIF(Feuil2!$B:$B,Consolidation!$B193,Feuil2!$D:$D)","v":0},null,{"$f":"SUMIF(Feuil3!$B:$B,Consolidation!$B193,Feuil3!$D:$D)","v":0},null,{"$f":"SUMIF(Feuil4!$B:$B,Consolidation!$B193,Feuil4!$D:$D)","v":0},null,{"$f":"SUMIF(Feuil5!$B:$B,Consolidation!$B193,Feuil5!$D:$D)","v":0},null,{"$f":"D193+F193+H193+J193+L193","v":0},{"$f":"E193+G193+I193+K193+M193","v":0},{"$f":"SUMIF(Feuil1!$B:$B,Consolidation!$B193,Feuil1!$F:$F)","v":0},null,{"$f":"SUMIF(Feuil2!$B:$B,Consolidation!$B193,Feuil2!$F:$F)","v":0},null,{"$f":"SUMIF(Feuil3!$B:$B,Consolidation!$B193,Feuil3!$F:$F)","v":0},null,{"$f":"SUMIF(Feuil4!$B:$B,Consolidation!$B193,Feuil4!$F:$F)","v":0},null,{"$f":"SUMIF(Feuil5!$B:$B,Consolidation!$B193,Feuil5!$F:$F)","v":0},null,{"$f":"P193+R193+T193+V193+X193","v":0},{"$f":"Q193+S193+U193+W193+Y193","v":0},{"$f":"SUMIF(Feuil1!$B:$B,Consolidation!$B193,Feuil1!$H:$H)","v":0},null,{"$f":"SUMIF(Feuil2!$B:$B,Consolidation!$B193,Feuil2!$H:$H)","v":0},null,{"$f":"SUMIF(Feuil3!$B:$B,Consolidation!$B193,Feuil3!$H:$H)","v":0},null,{"$f":"SUMIF(Feuil4!$B:$B,Consolidation!$B193,Feuil4!$H:$H)","v":0},null,{"$f":"SUMIF(Feuil5!$B:$B,Consolidation!$B193,Feuil5!$H:$H)","v":0},null,{"$f":"AB193+AD193+AF193+AH193+AJ193","v":0},{"$f":"AC193+AE193+AG193+AI193+AK193","v":0},0]
["InsererLigne",4610,"Matériel de bricolage et d'habileté manuelle                                                  ",{"$f":"SUMIF(Feuil1!$B:$B,Consolidation!$B194,Feuil1!$D:$D)","v":0},null,{"$f":"SUMIF(Feuil2!$B:$B,Consolidation!$B194,Feuil2!$D:$D)","v":0},null,{"$f":"SUMIF(Feuil3!$B:$B,Consolidation!$B194,Feuil3!$D:$D)","v":0},null,{"$f":"SUMIF(Feuil4!$B:$B,Consolidation!$B194,Feuil4!$D:$D)","v":0},null,{"$f":"SUMIF(Feuil5!$B:$B,Consolidation!$B194,Feuil5!$D:$D)","v":0},null,0,0,{"$f":"SUMIF(Feuil1!$B:$B,Consolidation!$B194,Feuil1!$F:$F)","v":0},null,{"$f":"SUMIF(Feuil2!$B:$B,Consolidation!$B194,Feuil2!$F:$F)","v":0},null,{"$f":"SUMIF(Feuil3!$B:$B,Consolidation!$B194,Feuil3!$F:$F)","v":0},null,{"$f":"SUMIF(Feuil4!$B:$B,Consolidation!$B194,Feuil4!$F:$F)","v":0},null,{"$f":"SUMIF(Feuil5!$B:$B,Consolidation!$B194,Feuil5!$F:$F)","v":0},null,0,0,{"$f":"SUMIF(Feuil1!$B:$B,Consolidation!$B194,Feuil1!$H:$H)","v":0},null,{"$f":"SUMIF(Feuil2!$B:$B,Consolidation!$B194,Feuil2!$H:$H)","v":0},null,{"$f":"SUMIF(Feuil3!$B:$B,Consolidation!$B194,Feuil3!$H:$H)","v":0},null,{"$f":"SUMIF(Feuil4!$B:$B,Consolidation!$B194,Feuil4!$H:$H)","v":0},null,{"$f":"SUMIF(Feuil5!$B:$B,Consolidation!$B194,Feuil5!$H:$H)","v":0},null,0,0,0]
["InsererLigne",4620,"Bibliothèque                                                  ",{"$f":"SUMIF(Feuil1!$B:$B,Consolidation!$B195,Feuil1!$D:$D)","v":0},null,{"$f":"SUMIF(Feuil2!$B:$B,Consolidation!$B195,Feuil2!$D:$D)","v":0},null,{"$f":"SUMIF(Feuil3!$B:$B,Consolidation!$B195,Feuil3!$D:$D)","v":0},null,{"$f":"SUMIF(Feuil4!$B:$B,Consolidation!$B195,Feuil4!$D:$D)","v":0},null,{"$f":"SUMIF(Feuil5!$B:$B,Consolidation!$B195,Feuil5!$D:$D)","v":0},null,0,0,{"$f":"SUMIF(Feuil1!$B:$B,Consolidation!$B195,Feuil1!$F:$F)","v":0},null,{"$f":"SUMIF(Feuil2!$B:$B,Consolidation!$B195,Feuil2!$F:$F)","v":0},null,{"$f":"SUMIF(Feuil3!$B:$B,Consolidation!$B195,Feuil3!$F:$F)","v":0},null,{"$f":"SUMIF(Feuil4!$B:$B,Consolidation!$B195,Feuil4!$F:$F)","v":0},null,{"$f":"SUMIF(Feuil5!$B:$B,Consolidation!$B195,Feuil5!$F:$F)","v":0},null,0,0,{"$f":"SUMIF(Feuil1!$B:$B,Consolidation!$B195,Feuil1!$H:$H)","v":0},null,{"$f":"SUMIF(Feuil2!$B:$B,Consolidation!$B195,Feuil2!$H:$H)","v":0},null,{"$f":"SUMIF(Feuil3!$B:$B,Consolidation!$B195,Feuil3!$H:$H)","v":0},null,{"$f":"SUMIF(Feuil4!$B:$B,Consolidation!$B195,Feuil4!$H:$H)","v":0},null,{"$f":"SUMIF(Feuil5!$B:$B,Consolidation!$B195,Feuil5!$H:$H)","v":0},null,0,0,0]
["InsererLigne",4630,"Loisirs, animation                                            ",{"$f":"SUMIF(Feuil1!$B:$B,Consolidation!$B196,Feuil1!$D:$D)","v":0},null,{"$f":"SUMIF(Feuil2!$B:$B,Consolidation!$B196,Feuil2!$D:$D)","v":0},null,{"$f":"SUMIF(Feuil3!$B:$B,Consolidation!$B196,Feuil3!$D:$D)","v":0},null,{"$f":"SUMIF(Feuil4!$B:$B,Consolidation!$B196,Feuil4!$D:$D)","v":0},null,{"$f":"SUMIF(Feuil5!$B:$B,Consolidation!$B196,Feuil5!$D:$D)","v":0},null,0,0,{"$f":"SUMIF(Feuil1!$B:$B,Consolidation!$B196,Feuil1!$F:$F)","v":0},null,{"$f":"SUMIF(Feuil2!$B:$B,Consolidation!$B196,Feuil2!$F:$F)","v":0},null,{"$f":"SUMIF(Feuil3!$B:$B,Consolidation!$B196,Feuil3!$F:$F)","v":0},null,{"$f":"SUMIF(Feuil4!$B:$B,Consolidation!$B196,Feuil4!$F:$F)","v":0},null,{"$f":"SUMIF(Feuil5!$B:$B,Consolidation!$B196,Feuil5!$F:$F)","v":0},null,0,0,{"$f":"SUMIF(Feuil1!$B:$B,Consolidation!$B196,Feuil1!$H:$H)","v":0},null,{"$f":"SUMIF(Feuil2!$B:$B,Consolidation!$B196,Feuil2!$H:$H)","v":0},null,{"$f":"SUMIF(Feuil3!$B:$B,Consolidation!$B196,Feuil3!$H:$H)","v":0},null,{"$f":"SUMIF(Feuil4!$B:$B,Consolidation!$B196,Feuil4!$H:$H)","v":0},null,{"$f":"SUMIF(Feuil5!$B:$B,Consolidation!$B196,Feuil5!$H:$H)","v":0},null,0,0,0]
["InsererLigne",4631,"Kermesse, bazar",{"$f":"SUMIF(Feuil1!$B:$B,Consolidation!$B197,Feuil1!$D:$D)","v":0},null,{"$f":"SUMIF(Feuil2!$B:$B,Consolidation!$B197,Feuil2!$D:$D)","v":0},null,{"$f":"SUMIF(Feuil3!$B:$B,Consolidation!$B197,Feuil3!$D:$D)","v":0},null,{"$f":"SUMIF(Feuil4!$B:$B,Consolidation!$B197,Feuil4!$D:$D)","v":0},null,{"$f":"SUMIF(Feuil5!$B:$B,Consolidation!$B197,Feuil5!$D:$D)","v":0},null,0,0,{"$f":"SUMIF(Feuil1!$B:$B,Consolidation!$B197,Feuil1!$F:$F)","v":0},null,{"$f":"SUMIF(Feuil2!$B:$B,Consolidation!$B197,Feuil2!$F:$F)","v":0},null,{"$f":"SUMIF(Feuil3!$B:$B,Consolidation!$B197,Feuil3!$F:$F)","v":0},null,{"$f":"SUMIF(Feuil4!$B:$B,Consolidation!$B197,Feuil4!$F:$F)","v":0},null,{"$f":"SUMIF(Feuil5!$B:$B,Consolidation!$B197,Feuil5!$F:$F)","v":0},null,0,0,{"$f":"SUMIF(Feuil1!$B:$B,Consolidation!$B197,Feuil1!$H:$H)","v":0},null,{"$f":"SUMIF(Feuil2!$B:$B,Consolidation!$B197,Feuil2!$H:$H)","v":0},null,{"$f":"SUMIF(Feuil3!$B:$B,Consolidation!$B197,Feuil3!$H:$H)","v":0},null,{"$f":"SUMIF(Feuil4!$B:$B,Consolidation!$B197,Feuil4!$H:$H)","v":0},null,{"$f":"SUMIF(Feuil5!$B:$B,Consolidation!$B197,Feuil5!$H:$H)","v":0},null,0,0,0]
["InsererLigne",4632,"Support médiatique institutionnel",{"$f":"SUMIF(Feuil1!$B:$B,Consolidation!$B198,Feuil1!$D:$D)","v":0},null,{"$f":"SUMIF(Feuil2!$B:$B,Consolidation!$B198,Feuil2!$D:$D)","v":0},null,{"$f":"SUMIF(Feuil3!$B:$B,Consolidation!$B198,Feuil3!$D:$D)","v":0},null,{"$f":"SUMIF(Feuil4!$B:$B,Consolidation!$B198,Feuil4!$D:$D)","v":0},null,{"$f":"SUMIF(Feuil5!$B:$B,Consolidation!$B198,Feuil5!$D:$D)","v":0},null,0,0,{"$f":"SUMIF(Feuil1!$B:$B,Consolidation!$B198,Feuil1!$F:$F)","v":0},null,{"$f":"SUMIF(Feuil2!$B:$B,Consolidation!$B198,Feuil2!$F:$F)","v":0},null,{"$f":"SUMIF(Feuil3!$B:$B,Consolidation!$B198,Feuil3!$F:$F)","v":0},null,{"$f":"SUMIF(Feuil4!$B:$B,Consolidation!$B198,Feuil4!$F:$F)","v":0},null,{"$f":"SUMIF(Feuil5!$B:$B,Consolidation!$B198,Feuil5!$F:$F)","v":0},null,0,0,{"$f":"SUMIF(Feuil1!$B:$B,Consolidation!$B198,Feuil1!$H:$H)","v":0},null,{"$f":"SUMIF(Feuil2!$B:$B,Consolidation!$B198,Feuil2!$H:$H)","v":0},null,{"$f":"SUMIF(Feuil3!$B:$B,Consolidation!$B198,Feuil3!$H:$H)","v":0},null,{"$f":"SUMIF(Feuil4!$B:$B,Consolidation!$B198,Feuil4!$H:$H)","v":0},null,{"$f":"SUMIF(Feuil5!$B:$B,Consolidation!$B198,Feuil5!$H:$H)","v":0},null,0,0,0]
["InsererLigne",4640,"Excursions et visites                                                  ",{"$f":"SUMIF(Feuil1!$B:$B,Consolidation!$B199,Feuil1!$D:$D)","v":0},null,{"$f":"SUMIF(Feuil2!$B:$B,Consolidation!$B199,Feuil2!$D:$D)","v":0},null,{"$f":"SUMIF(Feuil3!$B:$B,Consolidation!$B199,Feuil3!$D:$D)","v":0},null,{"$f":"SUMIF(Feuil4!$B:$B,Consolidation!$B199,Feuil4!$D:$D)","v":0},null,{"$f":"SUMIF(Feuil5!$B:$B,Consolidation!$B199,Feuil5!$D:$D)","v":0},null,0,0,{"$f":"SUMIF(Feuil1!$B:$B,Consolidation!$B199,Feuil1!$F:$F)","v":0},null,{"$f":"SUMIF(Feuil2!$B:$B,Consolidation!$B199,Feuil2!$F:$F)","v":0},null,{"$f":"SUMIF(Feuil3!$B:$B,Consolidation!$B199,Feuil3!$F:$F)","v":0},null,{"$f":"SUMIF(Feuil4!$B:$B,Consolidation!$B199,Feuil4!$F:$F)","v":0},null,{"$f":"SUMIF(Feuil5!$B:$B,Consolidation!$B199,Feuil5!$F:$F)","v":0},null,0,0,{"$f":"SUMIF(Feuil1!$B:$B,Consolidation!$B199,Feuil1!$H:$H)","v":0},null,{"$f":"SUMIF(Feuil2!$B:$B,Consolidation!$B199,Feuil2!$H:$H)","v":0},null,{"$f":"SUMIF(Feuil3!$B:$B,Consolidation!$B199,Feuil3!$H:$H)","v":0},null,{"$f":"SUMIF(Feuil4!$B:$B,Consolidation!$B199,Feuil4!$H:$H)","v":0},null,{"$f":"SUMIF(Feuil5!$B:$B,Consolidation!$B199,Feuil5!$H:$H)","v":0},null,0,0,{"$f":"SUM(D199:AM199)","v":0}]
["InsererLigne",4650,"Camps                                                  ",{"$f":"SUMIF(Feuil1!$B:$B,Consolidation!$B200,Feuil1!$D:$D)","v":0},null,{"$f":"SUMIF(Feuil2!$B:$B,Consolidation!$B200,Feuil2!$D:$D)","v":0},null,{"$f":"SUMIF(Feuil3!$B:$B,Consolidation!$B200,Feuil3!$D:$D)","v":0},null,{"$f":"SUMIF(Feuil4!$B:$B,Consolidation!$B200,Feuil4!$D:$D)","v":0},null,{"$f":"SUMIF(Feuil5!$B:$B,Consolidation!$B200,Feuil5!$D:$D)","v":0},null,0,0,{"$f":"SUMIF(Feuil1!$B:$B,Consolidation!$B200,Feuil1!$F:$F)","v":0},null,{"$f":"SUMIF(Feuil2!$B:$B,Consolidation!$B200,Feuil2!$F:$F)","v":0},null,{"$f":"SUMIF(Feuil3!$B:$B,Consolidation!$B200,Feuil3!$F:$F)","v":0},null,{"$f":"SUMIF(Feuil4!$B:$B,Consolidation!$B200,Feuil4!$F:$F)","v":0},null,{"$f":"SUMIF(Feuil5!$B:$B,Consolidation!$B200,Feuil5!$F:$F)","v":0},null,0,0,{"$f":"SUMIF(Feuil1!$B:$B,Consolidation!$B200,Feuil1!$H:$H)","v":0},null,{"$f":"SUMIF(Feuil2!$B:$B,Consolidation!$B200,Feuil2!$H:$H)","v":0},null,{"$f":"SUMIF(Feuil3!$B:$B,Consolidation!$B200,Feuil3!$H:$H)","v":0},null,{"$f":"SUMIF(Feuil4!$B:$B,Consolidation!$B200,Feuil4!$H:$H)","v":0},null,{"$f":"SUMIF(Feuil5!$B:$B,Consolidation!$B200,Feuil5!$H:$H)","v":0},null,0,0,0]
["InsererLigne",4660,"Contributions d'écolage aux communes scolaires                                                  ",{"$f":"SUMIF(Feuil1!$B:$B,Consolidation!$B201,Feuil1!$D:$D)","v":0},null,{"$f":"SUMIF(Feuil2!$B:$B,Consolidation!$B201,Feuil2!$D:$D)","v":0},null,{"$f":"SUMIF(Feuil3!$B:$B,Consolidation!$B201,Feuil3!$D:$D)","v":0},null,{"$f":"SUMIF(Feuil4!$B:$B,Consolidation!$B201,Feuil4!$D:$D)","v":0},null,{"$f":"SUMIF(Feuil5!$B:$B,Consolidation!$B201,Feuil5!$D:$D)","v":0},null,0,0,{"$f":"SUMIF(Feuil1!$B:$B,Consolidation!$B201,Feuil1!$F:$F)","v":0},null,{"$f":"SUMIF(Feuil2!$B:$B,Consolidation!$B201,Feuil2!$F:$F)","v":0},null,{"$f":"SUMIF(Feuil3!$B:$B,Consolidation!$B201,Feuil3!$F:$F)","v":0},null,{"$f":"SUMIF(Feuil4!$B:$B,Consolidation!$B201,Feuil4!$F:$F)","v":0},null,{"$f":"SUMIF(Feuil5!$B:$B,Consolidation!$B201,Feuil5!$F:$F)","v":0},null,0,0,{"$f":"SUMIF(Feuil1!$B:$B,Consolidation!$B201,Feuil1!$H:$H)","v":0},null,{"$f":"SUMIF(Feuil2!$B:$B,Consolidation!$B201,Feuil2!$H:$H)","v":0},null,{"$f":"SUMIF(Feuil3!$B:$B,Consolidation!$B201,Feuil3!$H:$H)","v":0},null,{"$f":"SUMIF(Feuil4!$B:$B,Consolidation!$B201,Feuil4!$H:$H)","v":0},null,{"$f":"SUMIF(Feuil5!$B:$B,Consolidation!$B201,Feuil5!$H:$H)","v":0},null,0,0,0]
["InsererLigne",4670,"Soins aux petits animaux                                                  ",{"$f":"SUMIF(Feuil1!$B:$B,Consolidation!$B202,Feuil1!$D:$D)","v":0},null,{"$f":"SUMIF(Feuil2!$B:$B,Consolidation!$B202,Feuil2!$D:$D)","v":0},null,{"$f":"SUMIF(Feuil3!$B:$B,Consolidation!$B202,Feuil3!$D:$D)","v":0},null,{"$f":"SUMIF(Feuil4!$B:$B,Consolidation!$B202,Feuil4!$D:$D)","v":0},null,{"$f":"SUMIF(Feuil5!$B:$B,Consolidation!$B202,Feuil5!$D:$D)","v":0},null,0,0,{"$f":"SUMIF(Feuil1!$B:$B,Consolidation!$B202,Feuil1!$F:$F)","v":0},null,{"$f":"SUMIF(Feuil2!$B:$B,Consolidation!$B202,Feuil2!$F:$F)","v":0},null,{"$f":"SUMIF(Feuil3!$B:$B,Consolidation!$B202,Feuil3!$F:$F)","v":0},null,{"$f":"SUMIF(Feuil4!$B:$B,Consolidation!$B202,Feuil4!$F:$F)","v":0},null,{"$f":"SUMIF(Feuil5!$B:$B,Consolidation!$B202,Feuil5!$F:$F)","v":0},null,0,0,{"$f":"SUMIF(Feuil1!$B:$B,Consolidation!$B202,Feuil1!$H:$H)","v":0},null,{"$f":"SUMIF(Feuil2!$B:$B,Consolidation!$B202,Feuil2!$H:$H)","v":0},null,{"$f":"SUMIF(Feuil3!$B:$B,Consolidation!$B202,Feuil3!$H:$H)","v":0},null,{"$f":"SUMIF(Feuil4!$B:$B,Consolidation!$B202,Feuil4!$H:$H)","v":0},null,{"$f":"SUMIF(Feuil5!$B:$B,Consolidation!$B202,Feuil5!$H:$H)","v":0},null,0,0,0]
["InsererLigne",4671,"Matériel de thérapie                                                  ",{"$f":"SUMIF(Feuil1!$B:$B,Consolidation!$B203,Feuil1!$D:$D)","v":0},null,{"$f":"SUMIF(Feuil2!$B:$B,Consolidation!$B203,Feuil2!$D:$D)","v":0},null,{"$f":"SUMIF(Feuil3!$B:$B,Consolidation!$B203,Feuil3!$D:$D)","v":0},null,{"$f":"SUMIF(Feuil4!$B:$B,Consolidation!$B203,Feuil4!$D:$D)","v":0},null,{"$f":"SUMIF(Feuil5!$B:$B,Consolidation!$B203,Feuil5!$D:$D)","v":0},null,0,0,{"$f":"SUMIF(Feuil1!$B:$B,Consolidation!$B203,Feuil1!$F:$F)","v":0},null,{"$f":"SUMIF(Feuil2!$B:$B,Consolidation!$B203,Feuil2!$F:$F)","v":0},null,{"$f":"SUMIF(Feuil3!$B:$B,Consolidation!$B203,Feuil3!$F:$F)","v":0},null,{"$f":"SUMIF(Feuil4!$B:$B,Consolidation!$B203,Feuil4!$F:$F)","v":0},null,{"$f":"SUMIF(Feuil5!$B:$B,Consolidation!$B203,Feuil5!$F:$F)","v":0},null,0,0,{"$f":"SUMIF(Feuil1!$B:$B,Consolidation!$B203,Feuil1!$H:$H)","v":0},null,{"$f":"SUMIF(Feuil2!$B:$B,Consolidation!$B203,Feuil2!$H:$H)","v":0},null,{"$f":"SUMIF(Feuil3!$B:$B,Consolidation!$B203,Feuil3!$H:$H)","v":0},null,{"$f":"SUMIF(Feuil4!$B:$B,Consolidation!$B203,Feuil4!$H:$H)","v":0},null,{"$f":"SUMIF(Feuil5!$B:$B,Consolidation!$B203,Feuil5!$H:$H)","v":0},null,0,0,0]
["InsererLigne",4672,"Matériel de sport                                                  ",{"$f":"SUMIF(Feuil1!$B:$B,Consolidation!$B204,Feuil1!$D:$D)","v":0},null,{"$f":"SUMIF(Feuil2!$B:$B,Consolidation!$B204,Feuil2!$D:$D)","v":0},null,{"$f":"SUMIF(Feuil3!$B:$B,Consolidation!$B204,Feuil3!$D:$D)","v":0},null,{"$f":"SUMIF(Feuil4!$B:$B,Consolidation!$B204,Feuil4!$D:$D)","v":0},null,{"$f":"SUMIF(Feuil5!$B:$B,Consolidation!$B204,Feuil5!$D:$D)","v":0},null,0,0,{"$f":"SUMIF(Feuil1!$B:$B,Consolidation!$B204,Feuil1!$F:$F)","v":0},null,{"$f":"SUMIF(Feuil2!$B:$B,Consolidation!$B204,Feuil2!$F:$F)","v":0},null,{"$f":"SUMIF(Feuil3!$B:$B,Consolidation!$B204,Feuil3!$F:$F)","v":0},null,{"$f":"SUMIF(Feuil4!$B:$B,Consolidation!$B204,Feuil4!$F:$F)","v":0},null,{"$f":"SUMIF(Feuil5!$B:$B,Consolidation!$B204,Feuil5!$F:$F)","v":0},null,0,0,{"$f":"SUMIF(Feuil1!$B:$B,Consolidation!$B204,Feuil1!$H:$H)","v":0},null,{"$f":"SUMIF(Feuil2!$B:$B,Consolidation!$B204,Feuil2!$H:$H)","v":0},null,{"$f":"SUMIF(Feuil3!$B:$B,Consolidation!$B204,Feuil3!$H:$H)","v":0},null,{"$f":"SUMIF(Feuil4!$B:$B,Consolidation!$B204,Feuil4!$H:$H)","v":0},null,{"$f":"SUMIF(Feuil5!$B:$B,Consolidation!$B204,Feuil5!$H:$H)","v":0},null,0,0,0]
["InsererLigne",4673,"Matériel audio-visuel                                                  ",{"$f":"SUMIF(Feuil1!$B:$B,Consolidation!$B205,Feuil1!$D:$D)","v":0},null,{"$f":"SUMIF(Feuil2!$B:$B,Consolidation!$B205,Feuil2!$D:$D)","v":0},null,{"$f":"SUMIF(Feuil3!$B:$B,Consolidation!$B205,Feuil3!$D:$D)","v":0},null,{"$f":"SUMIF(Feuil4!$B:$B,Consolidation!$B205,Feuil4!$D:$D)","v":0},null,{"$f":"SUMIF(Feuil5!$B:$B,Consolidation!$B205,Feuil5!$D:$D)","v":0},null,0,0,{"$f":"SUMIF(Feuil1!$B:$B,Consolidation!$B205,Feuil1!$F:$F)","v":0},null,{"$f":"SUMIF(Feuil2!$B:$B,Consolidation!$B205,Feuil2!$F:$F)","v":0},null,{"$f":"SUMIF(Feuil3!$B:$B,Consolidation!$B205,Feuil3!$F:$F)","v":0},null,{"$f":"SUMIF(Feuil4!$B:$B,Consolidation!$B205,Feuil4!$F:$F)","v":0},null,{"$f":"SUMIF(Feuil5!$B:$B,Consolidation!$B205,Feuil5!$F:$F)","v":0},null,0,0,{"$f":"SUMIF(Feuil1!$B:$B,Consolidation!$B205,Feuil1!$H:$H)","v":0},null,{"$f":"SUMIF(Feuil2!$B:$B,Consolidation!$B205,Feuil2!$H:$H)","v":0},null,{"$f":"SUMIF(Feuil3!$B:$B,Consolidation!$B205,Feuil3!$H:$H)","v":0},null,{"$f":"SUMIF(Feuil4!$B:$B,Consolidation!$B205,Feuil4!$H:$H)","v":0},null,{"$f":"SUMIF(Feuil5!$B:$B,Consolidation!$B205,Feuil5!$H:$H)","v":0},null,0,0,0]
["InsererLigne",4674,"Frais d'observation et de postcure                                                  ",{"$f":"SUMIF(Feuil1!$B:$B,Consolidation!$B206,Feuil1!$D:$D)","v":0},null,{"$f":"SUMIF(Feuil2!$B:$B,Consolidation!$B206,Feuil2!$D:$D)","v":0},null,{"$f":"SUMIF(Feuil3!$B:$B,Consolidation!$B206,Feuil3!$D:$D)","v":0},null,{"$f":"SUMIF(Feuil4!$B:$B,Consolidation!$B206,Feuil4!$D:$D)","v":0},null,{"$f":"SUMIF(Feuil5!$B:$B,Consolidation!$B206,Feuil5!$D:$D)","v":0},null,0,0,{"$f":"SUMIF(Feuil1!$B:$B,Consolidation!$B206,Feuil1!$F:$F)","v":0},null,{"$f":"SUMIF(Feuil2!$B:$B,Consolidation!$B206,Feuil2!$F:$F)","v":0},null,{"$f":"SUMIF(Feuil3!$B:$B,Consolidation!$B206,Feuil3!$F:$F)","v":0},null,{"$f":"SUMIF(Feuil4!$B:$B,Consolidation!$B206,Feuil4!$F:$F)","v":0},null,{"$f":"SUMIF(Feuil5!$B:$B,Consolidation!$B206,Feuil5!$F:$F)","v":0},null,0,0,{"$f":"SUMIF(Feuil1!$B:$B,Consolidation!$B206,Feuil1!$H:$H)","v":0},null,{"$f":"SUMIF(Feuil2!$B:$B,Consolidation!$B206,Feuil2!$H:$H)","v":0},null,{"$f":"SUMIF(Feuil3!$B:$B,Consolidation!$B206,Feuil3!$H:$H)","v":0},null,{"$f":"SUMIF(Feuil4!$B:$B,Consolidation!$B206,Feuil4!$H:$H)","v":0},null,{"$f":"SUMIF(Feuil5!$B:$B,Consolidation!$B206,Feuil5!$H:$H)","v":0},null,0,0,0]
["InsererLigne",4690,"Frais divers",{"$f":"SUMIF(Feuil1!$B:$B,Consolidation!$B207,Feuil1!$D:$D)","v":0},null,{"$f":"SUMIF(Feuil2!$B:$B,Consolidation!$B207,Feuil2!$D:$D)","v":0},null,{"$f":"SUMIF(Feuil3!$B:$B,Consolidation!$B207,Feuil3!$D:$D)","v":0},null,{"$f":"SUMIF(Feuil4!$B:$B,Consolidation!$B207,Feuil4!$D:$D)","v":0},null,{"$f":"SUMIF(Feuil5!$B:$B,Consolidation!$B207,Feuil5!$D:$D)","v":0},null,0,0,{"$f":"SUMIF(Feuil1!$B:$B,Consolidation!$B207,Feuil1!$F:$F)","v":0},null,{"$f":"SUMIF(Feuil2!$B:$B,Consolidation!$B207,Feuil2!$F:$F)","v":0},null,{"$f":"SUMIF(Feuil3!$B:$B,Consolidation!$B207,Feuil3!$F:$F)","v":0},null,{"$f":"SUMIF(Feuil4!$B:$B,Consolidation!$B207,Feuil4!$F:$F)","v":0},null,{"$f":"SUMIF(Feuil5!$B:$B,Consolidation!$B207,Feuil5!$F:$F)","v":0},null,0,0,{"$f":"SUMIF(Feuil1!$B:$B,Consolidation!$B207,Feuil1!$H:$H)","v":0},null,{"$f":"SUMIF(Feuil2!$B:$B,Consolidation!$B207,Feuil2!$H:$H)","v":0},null,{"$f":"SUMIF(Feuil3!$B:$B,Consolidation!$B207,Feuil3!$H:$H)","v":0},null,{"$f":"SUMIF(Feuil4!$B:$B,Consolidation!$B207,Feuil4!$H:$H)","v":0},null,{"$f":"SUMIF(Feuil5!$B:$B,Consolidation!$B207,Feuil5!$H:$H)","v":0},null,0,0,0]
["InsererLigne",4691,"Frais fonctionnement chargé de prévention",{"$f":"SUMIF(Feuil1!$B:$B,Consolidation!$B208,Feuil1!$D:$D)","v":0},null,{"$f":"SUMIF(Feuil2!$B:$B,Consolidation!$B208,Feuil2!$D:$D)","v":0},null,{"$f":"SUMIF(Feuil3!$B:$B,Consolidation!$B208,Feuil3!$D:$D)","v":0},null,{"$f":"SUMIF(Feuil4!$B:$B,Consolidation!$B208,Feuil4!$D:$D)","v":0},null,{"$f":"SUMIF(Feuil5!$B:$B,Consolidation!$B208,Feuil5!$D:$D)","v":0},null,0,0,{"$f":"SUMIF(Feuil1!$B:$B,Consolidation!$B208,Feuil1!$F:$F)","v":0},null,{"$f":"SUMIF(Feuil2!$B:$B,Consolidation!$B208,Feuil2!$F:$F)","v":0},null,{"$f":"SUMIF(Feuil3!$B:$B,Consolidation!$B208,Feuil3!$F:$F)","v":0},null,{"$f":"SUMIF(Feuil4!$B:$B,Consolidation!$B208,Feuil4!$F:$F)","v":0},null,{"$f":"SUMIF(Feuil5!$B:$B,Consolidation!$B208,Feuil5!$F:$F)","v":0},null,0,0,{"$f":"SUMIF(Feuil1!$B:$B,Consolidation!$B208,Feuil1!$H:$H)","v":0},null,{"$f":"SUMIF(Feuil2!$B:$B,Consolidation!$B208,Feuil2!$H:$H)","v":0},null,{"$f":"SUMIF(Feuil3!$B:$B,Consolidation!$B208,Feuil3!$H:$H)","v":0},null,{"$f":"SUMIF(Feuil4!$B:$B,Consolidation!$B208,Feuil4!$H:$H)","v":0},null,{"$f":"SUMIF(Feuil5!$B:$B,Consolidation!$B208,Feuil5!$H:$H)","v":0},null,0,0,0]
["InsererLigne",4692,"Frais actions diverses de prévention",{"$f":"SUMIF(Feuil1!$B:$B,Consolidation!$B209,Feuil1!$D:$D)","v":0},null,{"$f":"SUMIF(Feuil2!$B:$B,Consolidation!$B209,Feuil2!$D:$D)","v":0},null,{"$f":"SUMIF(Feuil3!$B:$B,Consolidation!$B209,Feuil3!$D:$D)","v":0},null,{"$f":"SUMIF(Feuil4!$B:$B,Consolidation!$B209,Feuil4!$D:$D)","v":0},null,{"$f":"SUMIF(Feuil5!$B:$B,Consolidation!$B209,Feuil5!$D:$D)","v":0},null,0,0,{"$f":"SUMIF(Feuil1!$B:$B,Consolidation!$B209,Feuil1!$F:$F)","v":0},null,{"$f":"SUMIF(Feuil2!$B:$B,Consolidation!$B209,Feuil2!$F:$F)","v":0},null,{"$f":"SUMIF(Feuil3!$B:$B,Consolidation!$B209,Feuil3!$F:$F)","v":0},null,{"$f":"SUMIF(Feuil4!$B:$B,Consolidation!$B209,Feuil4!$F:$F)","v":0},null,{"$f":"SUMIF(Feuil5!$B:$B,Consolidation!$B209,Feuil5!$F:$F)","v":0},null,0,0,{"$f":"SUMIF(Feuil1!$B:$B,Consolidation!$B209,Feuil1!$H:$H)","v":0},null,{"$f":"SUMIF(Feuil2!$B:$B,Consolidation!$B209,Feuil2!$H:$H)","v":0},null,{"$f":"SUMIF(Feuil3!$B:$B,Consolidation!$B209,Feuil3!$H:$H)","v":0},null,{"$f":"SUMIF(Feuil4!$B:$B,Consolidation!$B209,Feuil4!$H:$H)","v":0},null,{"$f":"SUMIF(Feuil5!$B:$B,Consolidation!$B209,Feuil5!$H:$H)","v":0},null,0,0,0]
["InsererLigne",4693,"Frais prévention Dîme",{"$f":"SUMIF(Feuil1!$B:$B,Consolidation!$B210,Feuil1!$D:$D)","v":0},null,{"$f":"SUMIF(Feuil2!$B:$B,Consolidation!$B210,Feuil2!$D:$D)","v":0},null,{"$f":"SUMIF(Feuil3!$B:$B,Consolidation!$B210,Feuil3!$D:$D)","v":0},null,{"$f":"SUMIF(Feuil4!$B:$B,Consolidation!$B210,Feuil4!$D:$D)","v":0},null,{"$f":"SUMIF(Feuil5!$B:$B,Consolidation!$B210,Feuil5!$D:$D)","v":0},null,0,0,{"$f":"SUMIF(Feuil1!$B:$B,Consolidation!$B210,Feuil1!$F:$F)","v":0},null,{"$f":"SUMIF(Feuil2!$B:$B,Consolidation!$B210,Feuil2!$F:$F)","v":0},null,{"$f":"SUMIF(Feuil3!$B:$B,Consolidation!$B210,Feuil3!$F:$F)","v":0},null,{"$f":"SUMIF(Feuil4!$B:$B,Consolidation!$B210,Feuil4!$F:$F)","v":0},null,{"$f":"SUMIF(Feuil5!$B:$B,Consolidation!$B210,Feuil5!$F:$F)","v":0},null,0,0,{"$f":"SUMIF(Feuil1!$B:$B,Consolidation!$B210,Feuil1!$H:$H)","v":0},null,{"$f":"SUMIF(Feuil2!$B:$B,Consolidation!$B210,Feuil2!$H:$H)","v":0},null,{"$f":"SUMIF(Feuil3!$B:$B,Consolidation!$B210,Feuil3!$H:$H)","v":0},null,{"$f":"SUMIF(Feuil4!$B:$B,Consolidation!$B210,Feuil4!$H:$H)","v":0},null,{"$f":"SUMIF(Feuil5!$B:$B,Consolidation!$B210,Feuil5!$H:$H)","v":0},null,0,0,0]
["InsererLigne",4694,"Be My Angel - FNA",{"$f":"SUMIF(Feuil1!$B:$B,Consolidation!$B211,Feuil1!$D:$D)","v":0},null,{"$f":"SUMIF(Feuil2!$B:$B,Consolidation!$B211,Feuil2!$D:$D)","v":0},null,{"$f":"SUMIF(Feuil3!$B:$B,Consolidation!$B211,Feuil3!$D:$D)","v":0},null,{"$f":"SUMIF(Feuil4!$B:$B,Consolidation!$B211,Feuil4!$D:$D)","v":0},null,{"$f":"SUMIF(Feuil5!$B:$B,Consolidation!$B211,Feuil5!$D:$D)","v":0},null,0,0,{"$f":"SUMIF(Feuil1!$B:$B,Consolidation!$B211,Feuil1!$F:$F)","v":0},null,{"$f":"SUMIF(Feuil2!$B:$B,Consolidation!$B211,Feuil2!$F:$F)","v":0},null,{"$f":"SUMIF(Feuil3!$B:$B,Consolidation!$B211,Feuil3!$F:$F)","v":0},null,{"$f":"SUMIF(Feuil4!$B:$B,Consolidation!$B211,Feuil4!$F:$F)","v":0},null,{"$f":"SUMIF(Feuil5!$B:$B,Consolidation!$B211,Feuil5!$F:$F)","v":0},null,0,0,{"$f":"SUMIF(Feuil1!$B:$B,Consolidation!$B211,Feuil1!$H:$H)","v":0},null,{"$f":"SUMIF(Feuil2!$B:$B,Consolidation!$B211,Feuil2!$H:$H)","v":0},null,{"$f":"SUMIF(Feuil3!$B:$B,Consolidation!$B211,Feuil3!$H:$H)","v":0},null,{"$f":"SUMIF(Feuil4!$B:$B,Consolidation!$B211,Feuil4!$H:$H)","v":0},null,{"$f":"SUMIF(Feuil5!$B:$B,Consolidation!$B211,Feuil5!$H:$H)","v":0},null,0,0,0]
["InsererLigne",null,null,null,null,null,null,null,null,null,null,null,null,null,null,null,null,null,null,null,null,null,null,null,null,null,null,null,null,null,null,null,null,null,null,null,null,null,null,0]
[null,47,"Bureau et administration",{"$f":"SUBTOTAL(9,D214:D241)","v":0},{"$f":"IF($E$5>0,D213/$E$5,0)","v":0},{"$f":"SUBTOTAL(9,F214:F241)","v":0},{"$f":"IF($G$5>0,F213/$G$5,0)","v":0},{"$f":"SUBTOTAL(9,H214:H241)","v":0},{"$f":"IF($I$5>0,H213/$I$5,0)","v":0},{"$f":"SUBTOTAL(9,J214:J241)","v":0},{"$f":"IF($K$5>0,J213/$K$5,0)","v":0},{"$f":"SUBTOTAL(9,L214:L241)","v":0},{"$f":"IF($M$5>0,L213/$M$5,0)","v":0},{"$f":"D213+F213+H213+J213+L213","v":0},{"$f":"E213+G213+I213+K213+M213","v":0},{"$f":"SUBTOTAL(9,P214:P241)","v":0},{"$f":"IF($Q$5>0,P213/$Q$5,0)","v":0},{"$f":"SUBTOTAL(9,R214:R241)","v":0},{"$f":"IF($S$5>0,R213/$S$5,0)","v":0},{"$f":"SUBTOTAL(9,T214:T241)","v":0},{"$f":"IF($U$5>0,T213/$U$5,0)","v":0},{"$f":"SUBTOTAL(9,V214:V241)","v":0},{"$f":"IF($W$5>0,V213/$W$5,0)","v":0},{"$f":"SUBTOTAL(9,X214:X241)","v":0},{"$f":"IF($Y$5>0,X213/$Y$5,0)","v":0},{"$f":"P213+R213+T213+V213+X213","v":0},{"$f":"Q213+S213+U213+W213+Y213","v":0},{"$f":"SUBTOTAL(9,AB214:AB241)","v":0},{"$f":"IF($AC$5>0,AB213/$AC$5,0)","v":0},{"$f":"SUBTOTAL(9,AD214:AD241)","v":0},{"$f":"IF($AE$5>0,AD213/$AE$5,0)","v":0},{"$f":"SUBTOTAL(9,AF214:AF241)","v":0},{"$f":"IF($AG$5>0,AF213/$AG$5,0)","v":0},{"$f":"SUBTOTAL(9,AH214:AH241)","v":0},{"$f":"IF($AI$5>0,AH213/$AI$5,0)","v":0},{"$f":"SUBTOTAL(9,AJ214:AJ241)","v":0},{"$f":"IF($AK$5>0,AJ213/$AK$5,0)","v":0},{"$f":"AB213+AD213+AF213+AH213+AJ213","v":0},{"$f":"AC213+AE213+AG213+AI213+AK213","v":0},0]
[null,4700,"Matériel de bureau, imprimés                                                  ",{"$f":"SUMIF(Feuil1!$B:$B,Consolidation!$B214,Feuil1!$D:$D)","v":0},null,{"$f":"SUMIF(Feuil2!$B:$B,Consolidation!$B214,Feuil2!$D:$D)","v":0},null,{"$f":"SUMIF(Feuil3!$B:$B,Consolidation!$B214,Feuil3!$D:$D)","v":0},null,{"$f":"SUMIF(Feuil4!$B:$B,Consolidation!$B214,Feuil4!$D:$D)","v":0},null,{"$f":"SUMIF(Feuil5!$B:$B,Consolidation!$B214,Feuil5!$D:$D)","v":0},null,{"$f":"D214+F214+H214+J214+L214","v":0},{"$f":"E214+G214+I214+K214+M214","v":0},{"$f":"SUMIF(Feuil1!$B:$B,Consolidation!$B214,Feuil1!$F:$F)","v":0},null,{"$f":"SUMIF(Feuil2!$B:$B,Consolidation!$B214,Feuil2!$F:$F)","v":0},null,{"$f":"SUMIF(Feuil3!$B:$B,Consolidation!$B214,Feuil3!$F:$F)","v":0},null,{"$f":"SUMIF(Feuil4!$B:$B,Consolidation!$B214,Feuil4!$F:$F)","v":0},null,{"$f":"SUMIF(Feuil5!$B:$B,Consolidation!$B214,Feuil5!$F:$F)","v":0},null,{"$f":"P214+R214+T214+V214+X214","v":0},{"$f":"Q214+S214+U214+W214+Y214","v":0},{"$f":"SUMIF(Feuil1!$B:$B,Consolidation!$B214,Feuil1!$H:$H)","v":0},null,{"$f":"SUMIF(Feuil2!$B:$B,Consolidation!$B214,Feuil2!$H:$H)","v":0},null,{"$f":"SUMIF(Feuil3!$B:$B,Consolidation!$B214,Feuil3!$H:$H)","v":0},null,{"$f":"SUMIF(Feuil4!$B:$B,Consolidation!$B214,Feuil4!$H:$H)","v":0},null,{"$f":"SUMIF(Feuil5!$B:$B,Consolidation!$B214,Feuil5!$H:$H)","v":0},null,{"$f":"AB214+AD214+AF214+AH214+AJ214","v":0},{"$f":"AC214+AE214+AG214+AI214+AK214","v":0},0]
["InsererLigne",4701,"Frais administratifs Commission Cantonale Addictions",{"$f":"SUMIF(Feuil1!$B:$B,Consolidation!$B215,Feuil1!$D:$D)","v":0},null,{"$f":"SUMIF(Feuil2!$B:$B,Consolidation!$B215,Feuil2!$D:$D)","v":0},null,{"$f":"SUMIF(Feuil3!$B:$B,Consolidation!$B215,Feuil3!$D:$D)","v":0},null,{"$f":"SUMIF(Feuil4!$B:$B,Consolidation!$B215,Feuil4!$D:$D)","v":0},null,{"$f":"SUMIF(Feuil5!$B:$B,Consolidation!$B215,Feuil5!$D:$D)","v":0},null,0,0,{"$f":"SUMIF(Feuil1!$B:$B,Consolidation!$B215,Feuil1!$F:$F)","v":0},null,{"$f":"SUMIF(Feuil2!$B:$B,Consolidation!$B215,Feuil2!$F:$F)","v":0},null,{"$f":"SUMIF(Feuil3!$B:$B,Consolidation!$B215,Feuil3!$F:$F)","v":0},null,{"$f":"SUMIF(Feuil4!$B:$B,Consolidation!$B215,Feuil4!$F:$F)","v":0},null,{"$f":"SUMIF(Feuil5!$B:$B,Consolidation!$B215,Feuil5!$F:$F)","v":0},null,0,0,{"$f":"SUMIF(Feuil1!$B:$B,Consolidation!$B215,Feuil1!$H:$H)","v":0},null,{"$f":"SUMIF(Feuil2!$B:$B,Consolidation!$B215,Feuil2!$H:$H)","v":0},null,{"$f":"SUMIF(Feuil3!$B:$B,Consolidation!$B215,Feuil3!$H:$H)","v":0},null,{"$f":"SUMIF(Feuil4!$B:$B,Consolidation!$B215,Feuil4!$H:$H)","v":0},null,{"$f":"SUMIF(Feuil5!$B:$B,Consolidation!$B215,Feuil5!$H:$H)","v":0},null,0,0,0]
["InsererLigne",4710,"Communications (téléphones, Internet)",{"$f":"SUMIF(Feuil1!$B:$B,Consolidation!$B216,Feuil1!$D:$D)","v":0},null,{"$f":"SUMIF(Feuil2!$B:$B,Consolidation!$B216,Feuil2!$D:$D)","v":0},null,{"$f":"SUMIF(Feuil3!$B:$B,Consolidation!$B216,Feuil3!$D:$D)","v":0},null,{"$f":"SUMIF(Feuil4!$B:$B,Consolidation!$B216,Feuil4!$D:$D)","v":0},null,{"$f":"SUMIF(Feuil5!$B:$B,Consolidation!$B216,Feuil5!$D:$D)","v":0},null,0,0,{"$f":"SUMIF(Feuil1!$B:$B,Consolidation!$B216,Feuil1!$F:$F)","v":0},null,{"$f":"SUMIF(Feuil2!$B:$B,Consolidation!$B216,Feuil2!$F:$F)","v":0},null,{"$f":"SUMIF(Feuil3!$B:$B,Consolidation!$B216,Feuil3!$F:$F)","v":0},null,{"$f":"SUMIF(Feuil4!$B:$B,Consolidation!$B216,Feuil4!$F:$F)","v":0},null,{"$f":"SUMIF(Feuil5!$B:$B,Consolidation!$B216,Feuil5!$F:$F)","v":0},null,0,0,{"$f":"SUMIF(Feuil1!$B:$B,Consolidation!$B216,Feuil1!$H:$H)","v":0},null,{"$f":"SUMIF(Feuil2!$B:$B,Consolidation!$B216,Feuil2!$H:$H)","v":0},null,{"$f":"SUMIF(Feuil3!$B:$B,Consolidation!$B216,Feuil3!$H:$H)","v":0},null,{"$f":"SUMIF(Feuil4!$B:$B,Consolidation!$B216,Feuil4!$H:$H)","v":0},null,{"$f":"SUMIF(Feuil5!$B:$B,Consolidation!$B216,Feuil5!$H:$H)","v":0},null,0,0,0]
["InsererLigne",4711,"Téléphone mobile",{"$f":"SUMIF(Feuil1!$B:$B,Consolidation!$B217,Feuil1!$D:$D)","v":0},null,{"$f":"SUMIF(Feuil2!$B:$B,Consolidation!$B217,Feuil2!$D:$D)","v":0},null,{"$f":"SUMIF(Feuil3!$B:$B,Consolidation!$B217,Feuil3!$D:$D)","v":0},null,{"$f":"SUMIF(Feuil4!$B:$B,Consolidation!$B217,Feuil4!$D:$D)","v":0},null,{"$f":"SUMIF(Feuil5!$B:$B,Consolidation!$B217,Feuil5!$D:$D)","v":0},null,0,0,{"$f":"SUMIF(Feuil1!$B:$B,Consolidation!$B217,Feuil1!$F:$F)","v":0},null,{"$f":"SUMIF(Feuil2!$B:$B,Consolidation!$B217,Feuil2!$F:$F)","v":0},null,{"$f":"SUMIF(Feuil3!$B:$B,Consolidation!$B217,Feuil3!$F:$F)","v":0},null,{"$f":"SUMIF(Feuil4!$B:$B,Consolidation!$B217,Feuil4!$F:$F)","v":0},null,{"$f":"SUMIF(Feuil5!$B:$B,Consolidation!$B217,Feuil5!$F:$F)","v":0},null,0,0,{"$f":"SUMIF(Feuil1!$B:$B,Consolidation!$B217,Feuil1!$H:$H)","v":0},null,{"$f":"SUMIF(Feuil2!$B:$B,Consolidation!$B217,Feuil2!$H:$H)","v":0},null,{"$f":"SUMIF(Feuil3!$B:$B,Consolidation!$B217,Feuil3!$H:$H)","v":0},null,{"$f":"SUMIF(Feuil4!$B:$B,Consolidation!$B217,Feuil4!$H:$H)","v":0},null,{"$f":"SUMIF(Feuil5!$B:$B,Consolidation!$B217,Feuil5!$H:$H)","v":0},null,0,0,0]
["InsererLigne",4712,"Frais de port",{"$f":"SUMIF(Feuil1!$B:$B,Consolidation!$B218,Feuil1!$D:$D)","v":0},null,{"$f":"SUMIF(Feuil2!$B:$B,Consolidation!$B218,Feuil2!$D:$D)","v":0},null,{"$f":"SUMIF(Feuil3!$B:$B,Consolidation!$B218,Feuil3!$D:$D)","v":0},null,{"$f":"SUMIF(Feuil4!$B:$B,Consolidation!$B218,Feuil4!$D:$D)","v":0},null,{"$f":"SUMIF(Feuil5!$B:$B,Consolidation!$B218,Feuil5!$D:$D)","v":0},null,0,0,{"$f":"SUMIF(Feuil1!$B:$B,Consolidation!$B218,Feuil1!$F:$F)","v":0},null,{"$f":"SUMIF(Feuil2!$B:$B,Consolidation!$B218,Feuil2!$F:$F)","v":0},null,{"$f":"SUMIF(Feuil3!$B:$B,Consolidation!$B218,Feuil3!$F:$F)","v":0},null,{"$f":"SUMIF(Feuil4!$B:$B,Consolidation!$B218,Feuil4!$F:$F)","v":0},null,{"$f":"SUMIF(Feuil5!$B:$B,Consolidation!$B218,Feuil5!$F:$F)","v":0},null,0,0,{"$f":"SUMIF(Feuil1!$B:$B,Consolidation!$B218,Feuil1!$H:$H)","v":0},null,{"$f":"SUMIF(Feuil2!$B:$B,Consolidation!$B218,Feuil2!$H:$H)","v":0},null,{"$f":"SUMIF(Feuil3!$B:$B,Consolidation!$B218,Feuil3!$H:$H)","v":0},null,{"$f":"SUMIF(Feuil4!$B:$B,Consolidation!$B218,Feuil4!$H:$H)","v":0},null,{"$f":"SUMIF(Feuil5!$B:$B,Consolidation!$B218,Feuil5!$H:$H)","v":0},null,0,0,0]
["InsererLigne",4713,"Frais d'emballage",{"$f":"SUMIF(Feuil1!$B:$B,Consolidation!$B219,Feuil1!$D:$D)","v":0},null,{"$f":"SUMIF(Feuil2!$B:$B,Consolidation!$B219,Feuil2!$D:$D)","v":0},null,{"$f":"SUMIF(Feuil3!$B:$B,Consolidation!$B219,Feuil3!$D:$D)","v":0},null,{"$f":"SUMIF(Feuil4!$B:$B,Consolidation!$B219,Feuil4!$D:$D)","v":0},null,{"$f":"SUMIF(Feuil5!$B:$B,Consolidation!$B219,Feuil5!$D:$D)","v":0},null,0,0,{"$f":"SUMIF(Feuil1!$B:$B,Consolidation!$B219,Feuil1!$F:$F)","v":0},null,{"$f":"SUMIF(Feuil2!$B:$B,Consolidation!$B219,Feuil2!$F:$F)","v":0},null,{"$f":"SUMIF(Feuil3!$B:$B,Consolidation!$B219,Feuil3!$F:$F)","v":0},null,{"$f":"SUMIF(Feuil4!$B:$B,Consolidation!$B219,Feuil4!$F:$F)","v":0},null,{"$f":"SUMIF(Feuil5!$B:$B,Consolidation!$B219,Feuil5!$F:$F)","v":0},null,0,0,{"$f":"SUMIF(Feuil1!$B:$B,Consolidation!$B219,Feuil1!$H:$H)","v":0},null,{"$f":"SUMIF(Feuil2!$B:$B,Consolidation!$B219,Feuil2!$H:$H)","v":0},null,{"$f":"SUMIF(Feuil3!$B:$B,Consolidation!$B219,Feuil3!$H:$H)","v":0},null,{"$f":"SUMIF(Feuil4!$B:$B,Consolidation!$B219,Feuil4!$H:$H)","v":0},null,{"$f":"SUMIF(Feuil5!$B:$B,Consolidation!$B219,Feuil5!$H:$H)","v":0},null,0,0,0]
["InsererLigne",4714,"Concessions TV et radio                                                  ",{"$f":"SUMIF(Feuil1!$B:$B,Consolidation!$B220,Feuil1!$D:$D)","v":0},null,{"$f":"SUMIF(Feuil2!$B:$B,Consolidation!$B220,Feuil2!$D:$D)","v":0},null,{"$f":"SUMIF(Feuil3!$B:$B,Consolidation!$B220,Feuil3!$D:$D)","v":0},null,{"$f":"SUMIF(Feuil4!$B:$B,Consolidation!$B220,Feuil4!$D:$D)","v":0},null,{"$f":"SUMIF(Feuil5!$B:$B,Consolidation!$B220,Feuil5!$D:$D)","v":0},null,0,0,{"$f":"SUMIF(Feuil1!$B:$B,Consolidation!$B220,Feuil1!$F:$F)","v":0},null,{"$f":"SUMIF(Feuil2!$B:$B,Consolidation!$B220,Feuil2!$F:$F)","v":0},null,{"$f":"SUMIF(Feuil3!$B:$B,Consolidation!$B220,Feuil3!$F:$F)","v":0},null,{"$f":"SUMIF(Feuil4!$B:$B,Consolidation!$B220,Feuil4!$F:$F)","v":0},null,{"$f":"SUMIF(Feuil5!$B:$B,Consolidation!$B220,Feuil5!$F:$F)","v":0},null,0,0,{"$f":"SUMIF(Feuil1!$B:$B,Consolidation!$B220,Feuil1!$H:$H)","v":0},null,{"$f":"SUMIF(Feuil2!$B:$B,Consolidation!$B220,Feuil2!$H:$H)","v":0},null,{"$f":"SUMIF(Feuil3!$B:$B,Consolidation!$B220,Feuil3!$H:$H)","v":0},null,{"$f":"SUMIF(Feuil4!$B:$B,Consolidation!$B220,Feuil4!$H:$H)","v":0},null,{"$f":"SUMIF(Feuil5!$B:$B,Consolidation!$B220,Feuil5!$H:$H)","v":0},null,0,0,0]
["InsererLigne",4720,"Journaux, littérature spécial                                                  ",{"$f":"SUMIF(Feuil1!$B:$B,Consolidation!$B221,Feuil1!$D:$D)","v":0},null,{"$f":"SUMIF(Feuil2!$B:$B,Consolidation!$B221,Feuil2!$D:$D)","v":0},null,{"$f":"SUMIF(Feuil3!$B:$B,Consolidation!$B221,Feuil3!$D:$D)","v":0},null,{"$f":"SUMIF(Feuil4!$B:$B,Consolidation!$B221,Feuil4!$D:$D)","v":0},null,{"$f":"SUMIF(Feuil5!$B:$B,Consolidation!$B221,Feuil5!$D:$D)","v":0},null,0,0,{"$f":"SUMIF(Feuil1!$B:$B,Consolidation!$B221,Feuil1!$F:$F)","v":0},null,{"$f":"SUMIF(Feuil2!$B:$B,Consolidation!$B221,Feuil2!$F:$F)","v":0},null,{"$f":"SUMIF(Feuil3!$B:$B,Consolidation!$B221,Feuil3!$F:$F)","v":0},null,{"$f":"SUMIF(Feuil4!$B:$B,Consolidation!$B221,Feuil4!$F:$F)","v":0},null,{"$f":"SUMIF(Feuil5!$B:$B,Consolidation!$B221,Feuil5!$F:$F)","v":0},null,0,0,{"$f":"SUMIF(Feuil1!$B:$B,Consolidation!$B221,Feuil1!$H:$H)","v":0},null,{"$f":"SUMIF(Feuil2!$B:$B,Consolidation!$B221,Feuil2!$H:$H)","v":0},null,{"$f":"SUMIF(Feuil3!$B:$B,Consolidation!$B221,Feuil3!$H:$H)","v":0},null,{"$f":"SUMIF(Feuil4!$B:$B,Consolidation!$B221,Feuil4!$H:$H)","v":0},null,{"$f":"SUMIF(Feuil5!$B:$B,Consolidation!$B221,Feuil5!$H:$H)","v":0},null,0,0,0]
["InsererLigne",4740,"Débours                                                  ",{"$f":"SUMIF(Feuil1!$B:$B,Consolidation!$B222,Feuil1!$D:$D)","v":0},null,{"$f":"SUMIF(Feuil2!$B:$B,Consolidation!$B222,Feuil2!$D:$D)","v":0},null,{"$f":"SUMIF(Feuil3!$B:$B,Consolidation!$B222,Feuil3!$D:$D)","v":0},null,{"$f":"SUMIF(Feuil4!$B:$B,Consolidation!$B222,Feuil4!$D:$D)","v":0},null,{"$f":"SUMIF(Feuil5!$B:$B,Consolidation!$B222,Feuil5!$D:$D)","v":0},null,0,0,{"$f":"SUMIF(Feuil1!$B:$B,Consolidation!$B222,Feuil1!$F:$F)","v":0},null,{"$f":"SUMIF(Feuil2!$B:$B,Consolidation!$B222,Feuil2!$F:$F)","v":0},null,{"$f":"SUMIF(Feuil3!$B:$B,Consolidation!$B222,Feuil3!$F:$F)","v":0},null,{"$f":"SUMIF(Feuil4!$B:$B,Consolidation!$B222,Feuil4!$F:$F)","v":0},null,{"$f":"SUMIF(Feuil5!$B:$B,Consolidation!$B222,Feuil5!$F:$F)","v":0},null,0,0,{"$f":"SUMIF(Feuil1!$B:$B,Consolidation!$B222,Feuil1!$H:$H)","v":0},null,{"$f":"SUMIF(Feuil2!$B:$B,Consolidation!$B222,Feuil2!$H:$H)","v":0},null,{"$f":"SUMIF(Feuil3!$B:$B,Consolidation!$B222,Feuil3!$H:$H)","v":0},null,{"$f":"SUMIF(Feuil4!$B:$B,Consolidation!$B222,Feuil4!$H:$H)","v":0},null,{"$f":"SUMIF(Feuil5!$B:$B,Consolidation!$B222,Feuil5!$H:$H)","v":0},null,0,0,0]
["InsererLigne",4750,"Maintenance logiciels informatiques et de communication",{"$f":"SUMIF(Feuil1!$B:$B,Consolidation!$B223,Feuil1!$D:$D)","v":0},null,{"$f":"SUMIF(Feuil2!$B:$B,Consolidation!$B223,Feuil2!$D:$D)","v":0},null,{"$f":"SUMIF(Feuil3!$B:$B,Consolidation!$B223,Feuil3!$D:$D)","v":0},null,{"$f":"SUMIF(Feuil4!$B:$B,Consolidation!$B223,Feuil4!$D:$D)","v":0},null,{"$f":"SUMIF(Feuil5!$B:$B,Consolidation!$B223,Feuil5!$D:$D)","v":0},null,0,0,{"$f":"SUMIF(Feuil1!$B:$B,Consolidation!$B223,Feuil1!$F:$F)","v":0},null,{"$f":"SUMIF(Feuil2!$B:$B,Consolidation!$B223,Feuil2!$F:$F)","v":0},null,{"$f":"SUMIF(Feuil3!$B:$B,Consolidation!$B223,Feuil3!$F:$F)","v":0},null,{"$f":"SUMIF(Feuil4!$B:$B,Consolidation!$B223,Feuil4!$F:$F)","v":0},null,{"$f":"SUMIF(Feuil5!$B:$B,Consolidation!$B223,Feuil5!$F:$F)","v":0},null,0,0,{"$f":"SUMIF(Feuil1!$B:$B,Consolidation!$B223,Feuil1!$H:$H)","v":0},null,{"$f":"SUMIF(Feuil2!$B:$B,Consolidation!$B223,Feuil2!$H:$H)","v":0},null,{"$f":"SUMIF(Feuil3!$B:$B,Consolidation!$B223,Feuil3!$H:$H)","v":0},null,{"$f":"SUMIF(Feuil4!$B:$B,Consolidation!$B223,Feuil4!$H:$H)","v":0},null,{"$f":"SUMIF(Feuil5!$B:$B,Consolidation!$B223,Feuil5!$H:$H)","v":0},null,0,0,0]
["InsererLigne",4751,"Nœud cantonal",{"$f":"SUMIF(Feuil1!$B:$B,Consolidation!$B224,Feuil1!$D:$D)","v":0},null,{"$f":"SUMIF(Feuil2!$B:$B,Consolidation!$B224,Feuil2!$D:$D)","v":0},null,{"$f":"SUMIF(Feuil3!$B:$B,Consolidation!$B224,Feuil3!$D:$D)","v":0},null,{"$f":"SUMIF(Feuil4!$B:$B,Consolidation!$B224,Feuil4!$D:$D)","v":0},null,{"$f":"SUMIF(Feuil5!$B:$B,Consolidation!$B224,Feuil5!$D:$D)","v":0},null,0,0,{"$f":"SUMIF(Feuil1!$B:$B,Consolidation!$B224,Feuil1!$F:$F)","v":0},null,{"$f":"SUMIF(Feuil2!$B:$B,Consolidation!$B224,Feuil2!$F:$F)","v":0},null,{"$f":"SUMIF(Feuil3!$B:$B,Consolidation!$B224,Feuil3!$F:$F)","v":0},null,{"$f":"SUMIF(Feuil4!$B:$B,Consolidation!$B224,Feuil4!$F:$F)","v":0},null,{"$f":"SUMIF(Feuil5!$B:$B,Consolidation!$B224,Feuil5!$F:$F)","v":0},null,0,0,{"$f":"SUMIF(Feuil1!$B:$B,Consolidation!$B224,Feuil1!$H:$H)","v":0},null,{"$f":"SUMIF(Feuil2!$B:$B,Consolidation!$B224,Feuil2!$H:$H)","v":0},null,{"$f":"SUMIF(Feuil3!$B:$B,Consolidation!$B224,Feuil3!$H:$H)","v":0},null,{"$f":"SUMIF(Feuil4!$B:$B,Consolidation!$B224,Feuil4!$H:$H)","v":0},null,{"$f":"SUMIF(Feuil5!$B:$B,Consolidation!$B224,Feuil5!$H:$H)","v":0},null,0,0,0]
["InsererLigne",4752,"SIDIS",{"$f":"SUMIF(Feuil1!$B:$B,Consolidation!$B225,Feuil1!$D:$D)","v":0},null,{"$f":"SUMIF(Feuil2!$B:$B,Consolidation!$B225,Feuil2!$D:$D)","v":0},null,{"$f":"SUMIF(Feuil3!$B:$B,Consolidation!$B225,Feuil3!$D:$D)","v":0},null,{"$f":"SUMIF(Feuil4!$B:$B,Consolidation!$B225,Feuil4!$D:$D)","v":0},null,{"$f":"SUMIF(Feuil5!$B:$B,Consolidation!$B225,Feuil5!$D:$D)","v":0},null,0,0,{"$f":"SUMIF(Feuil1!$B:$B,Consolidation!$B225,Feuil1!$F:$F)","v":0},null,{"$f":"SUMIF(Feuil2!$B:$B,Consolidation!$B225,Feuil2!$F:$F)","v":0},null,{"$f":"SUMIF(Feuil3!$B:$B,Consolidation!$B225,Feuil3!$F:$F)","v":0},null,{"$f":"SUMIF(Feuil4!$B:$B,Consolidation!$B225,Feuil4!$F:$F)","v":0},null,{"$f":"SUMIF(Feuil5!$B:$B,Consolidation!$B225,Feuil5!$F:$F)","v":0},null,0,0,{"$f":"SUMIF(Feuil1!$B:$B,Consolidation!$B225,Feuil1!$H:$H)","v":0},null,{"$f":"SUMIF(Feuil2!$B:$B,Consolidation!$B225,Feuil2!$H:$H)","v":0},null,{"$f":"SUMIF(Feuil3!$B:$B,Consolidation!$B225,Feuil3!$H:$H)","v":0},null,{"$f":"SUMIF(Feuil4!$B:$B,Consolidation!$B225,Feuil4!$H:$H)","v":0},null,{"$f":"SUMIF(Feuil5!$B:$B,Consolidation!$B225,Feuil5!$H:$H)","v":0},null,0,0,0]
["InsererLigne",4753,"Logiciels divers",{"$f":"SUMIF(Feuil1!$B:$B,Consolidation!$B226,Feuil1!$D:$D)","v":0},null,{"$f":"SUMIF(Feuil2!$B:$B,Consolidation!$B226,Feuil2!$D:$D)","v":0},null,{"$f":"SUMIF(Feuil3!$B:$B,Consolidation!$B226,Feuil3!$D:$D)","v":0},null,{"$f":"SUMIF(Feuil4!$B:$B,Consolidation!$B226,Feuil4!$D:$D)","v":0},null,{"$f":"SUMIF(Feuil5!$B:$B,Consolidation!$B226,Feuil5!$D:$D)","v":0},null,0,0,{"$f":"SUMIF(Feuil1!$B:$B,Consolidation!$B226,Feuil1!$F:$F)","v":0},null,{"$f":"SUMIF(Feuil2!$B:$B,Consolidation!$B226,Feuil2!$F:$F)","v":0},null,{"$f":"SUMIF(Feuil3!$B:$B,Consolidation!$B226,Feuil3!$F:$F)","v":0},null,{"$f":"SUMIF(Feuil4!$B:$B,Consolidation!$B226,Feuil4!$F:$F)","v":0},null,{"$f":"SUMIF(Feuil5!$B:$B,Consolidation!$B226,Feuil5!$F:$F)","v":0},null,0,0,{"$f":"SUMIF(Feuil1!$B:$B,Consolidation!$B226,Feuil1!$H:$H)","v":0},null,{"$f":"SUMIF(Feuil2!$B:$B,Consolidation!$B226,Feuil2!$H:$H)","v":0},null,{"$f":"SUMIF(Feuil3!$B:$B,Consolidation!$B226,Feuil3!$H:$H)","v":0},null,{"$f":"SUMIF(Feuil4!$B:$B,Consolidation!$B226,Feuil4!$H:$H)","v":0},null,{"$f":"SUMIF(Feuil5!$B:$B,Consolidation!$B226,Feuil5!$H:$H)","v":0},null,0,0,0]
["InsererLigne",4760,"Charges administratives fondation",{"$f":"SUMIF(Feuil1!$B:$B,Consolidation!$B227,Feuil1!$D:$D)","v":0},null,{"$f":"SUMIF(Feuil2!$B:$B,Consolidation!$B227,Feuil2!$D:$D)","v":0},null,{"$f":"SUMIF(Feuil3!$B:$B,Consolidation!$B227,Feuil3!$D:$D)","v":0},null,{"$f":"SUMIF(Feuil4!$B:$B,Consolidation!$B227,Feuil4!$D:$D)","v":0},null,{"$f":"SUMIF(Feuil5!$B:$B,Consolidation!$B227,Feuil5!$D:$D)","v":0},null,0,0,{"$f":"SUMIF(Feuil1!$B:$B,Consolidation!$B227,Feuil1!$F:$F)","v":0},null,{"$f":"SUMIF(Feuil2!$B:$B,Consolidation!$B227,Feuil2!$F:$F)","v":0},null,{"$f":"SUMIF(Feuil3!$B:$B,Consolidation!$B227,Feuil3!$F:$F)","v":0},null,{"$f":"SUMIF(Feuil4!$B:$B,Consolidation!$B227,Feuil4!$F:$F)","v":0},null,{"$f":"SUMIF(Feuil5!$B:$B,Consolidation!$B227,Feuil5!$F:$F)","v":0},null,0,0,{"$f":"SUMIF(Feuil1!$B:$B,Consolidation!$B227,Feuil1!$H:$H)","v":0},null,{"$f":"SUMIF(Feuil2!$B:$B,Consolidation!$B227,Feuil2!$H:$H)","v":0},null,{"$f":"SUMIF(Feuil3!$B:$B,Consolidation!$B227,Feuil3!$H:$H)","v":0},null,{"$f":"SUMIF(Feuil4!$B:$B,Consolidation!$B227,Feuil4!$H:$H)","v":0},null,{"$f":"SUMIF(Feuil5!$B:$B,Consolidation!$B227,Feuil5!$H:$H)","v":0},null,0,0,0]
["InsererLigne",4770,"Prestations administratives de tiers (finances et comptabilité)",{"$f":"SUMIF(Feuil1!$B:$B,Consolidation!$B228,Feuil1!$D:$D)","v":0},null,{"$f":"SUMIF(Feuil2!$B:$B,Consolidation!$B228,Feuil2!$D:$D)","v":0},null,{"$f":"SUMIF(Feuil3!$B:$B,Consolidation!$B228,Feuil3!$D:$D)","v":0},null,{"$f":"SUMIF(Feuil4!$B:$B,Consolidation!$B228,Feuil4!$D:$D)","v":0},null,{"$f":"SUMIF(Feuil5!$B:$B,Consolidation!$B228,Feuil5!$D:$D)","v":0},null,0,0,{"$f":"SUMIF(Feuil1!$B:$B,Consolidation!$B228,Feuil1!$F:$F)","v":0},null,{"$f":"SUMIF(Feuil2!$B:$B,Consolidation!$B228,Feuil2!$F:$F)","v":0},null,{"$f":"SUMIF(Feuil3!$B:$B,Consolidation!$B228,Feuil3!$F:$F)","v":0},null,{"$f":"SUMIF(Feuil4!$B:$B,Consolidation!$B228,Feuil4!$F:$F)","v":0},null,{"$f":"SUMIF(Feuil5!$B:$B,Consolidation!$B228,Feuil5!$F:$F)","v":0},null,0,0,{"$f":"SUMIF(Feuil1!$B:$B,Consolidation!$B228,Feuil1!$H:$H)","v":0},null,{"$f":"SUMIF(Feuil2!$B:$B,Consolidation!$B228,Feuil2!$H:$H)","v":0},null,{"$f":"SUMIF(Feuil3!$B:$B,Consolidation!$B228,Feuil3!$H:$H)","v":0},null,{"$f":"SUMIF(Feuil4!$B:$B,Consolidation!$B228,Feuil4!$H:$H)","v":0},null,{"$f":"SUMIF(Feuil5!$B:$B,Consolidation!$B228,Feuil5!$H:$H)","v":0},null,0,0,0]
["InsererLigne",4771,"Qualité",{"$f":"SUMIF(Feuil1!$B:$B,Consolidation!$B229,Feuil1!$D:$D)","v":0},null,{"$f":"SUMIF(Feuil2!$B:$B,Consolidation!$B229,Feuil2!$D:$D)","v":0},null,{"$f":"SUMIF(Feuil3!$B:$B,Consolidation!$B229,Feuil3!$D:$D)","v":0},null,{"$f":"SUMIF(Feuil4!$B:$B,Consolidation!$B229,Feuil4!$D:$D)","v":0},null,{"$f":"SUMIF(Feuil5!$B:$B,Consolidation!$B229,Feuil5!$D:$D)","v":0},null,0,0,{"$f":"SUMIF(Feuil1!$B:$B,Consolidation!$B229,Feuil1!$F:$F)","v":0},null,{"$f":"SUMIF(Feuil2!$B:$B,Consolidation!$B229,Feuil2!$F:$F)","v":0},null,{"$f":"SUMIF(Feuil3!$B:$B,Consolidation!$B229,Feuil3!$F:$F)","v":0},null,{"$f":"SUMIF(Feuil4!$B:$B,Consolidation!$B229,Feuil4!$F:$F)","v":0},null,{"$f":"SUMIF(Feuil5!$B:$B,Consolidation!$B229,Feuil5!$F:$F)","v":0},null,0,0,{"$f":"SUMIF(Feuil1!$B:$B,Consolidation!$B229,Feuil1!$H:$H)","v":0},null,{"$f":"SUMIF(Feuil2!$B:$B,Consolidation!$B229,Feuil2!$H:$H)","v":0},null,{"$f":"SUMIF(Feuil3!$B:$B,Consolidation!$B229,Feuil3!$H:$H)","v":0},null,{"$f":"SUMIF(Feuil4!$B:$B,Consolidation!$B229,Feuil4!$H:$H)","v":0},null,{"$f":"SUMIF(Feuil5!$B:$B,Consolidation!$B229,Feuil5!$H:$H)","v":0},null,0,0,0]
["InsererLigne",4780,"Conseils, révisions des comptes                                                  ",{"$f":"SUMIF(Feuil1!$B:$B,Consolidation!$B230,Feuil1!$D:$D)","v":0},null,{"$f":"SUMIF(Feuil2!$B:$B,Consolidation!$B230,Feuil2!$D:$D)","v":0},null,{"$f":"SUMIF(Feuil3!$B:$B,Consolidation!$B230,Feuil3!$D:$D)","v":0},null,{"$f":"SUMIF(Feuil4!$B:$B,Consolidation!$B230,Feuil4!$D:$D)","v":0},null,{"$f":"SUMIF(Feuil5!$B:$B,Consolidation!$B230,Feuil5!$D:$D)","v":0},null,0,0,{"$f":"SUMIF(Feuil1!$B:$B,Consolidation!$B230,Feuil1!$F:$F)","v":0},null,{"$f":"SUMIF(Feuil2!$B:$B,Consolidation!$B230,Feuil2!$F:$F)","v":0},null,{"$f":"SUMIF(Feuil3!$B:$B,Consolidation!$B230,Feuil3!$F:$F)","v":0},null,{"$f":"SUMIF(Feuil4!$B:$B,Consolidation!$B230,Feuil4!$F:$F)","v":0},null,{"$f":"SUMIF(Feuil5!$B:$B,Consolidation!$B230,Feuil5!$F:$F)","v":0},null,0,0,{"$f":"SUMIF(Feuil1!$B:$B,Consolidation!$B230,Feuil1!$H:$H)","v":0},null,{"$f":"SUMIF(Feuil2!$B:$B,Consolidation!$B230,Feuil2!$H:$H)","v":0},null,{"$f":"SUMIF(Feuil3!$B:$B,Consolidation!$B230,Feuil3!$H:$H)","v":0},null,{"$f":"SUMIF(Feuil4!$B:$B,Consolidation!$B230,Feuil4!$H:$H)","v":0},null,{"$f":"SUMIF(Feuil5!$B:$B,Consolidation!$B230,Feuil5!$H:$H)","v":0},null,0,0,0]
["InsererLigne",4790,"Rapport annuel",{"$f":"SUMIF(Feuil1!$B:$B,Consolidation!$B231,Feuil1!$D:$D)","v":0},null,{"$f":"SUMIF(Feuil2!$B:$B,Consolidation!$B231,Feuil2!$D:$D)","v":0},null,{"$f":"SUMIF(Feuil3!$B:$B,Consolidation!$B231,Feuil3!$D:$D)","v":0},null,{"$f":"SUMIF(Feuil4!$B:$B,Consolidation!$B231,Feuil4!$D:$D)","v":0},null,{"$f":"SUMIF(Feuil5!$B:$B,Consolidation!$B231,Feuil5!$D:$D)","v":0},null,0,0,{"$f":"SUMIF(Feuil1!$B:$B,Consolidation!$B231,Feuil1!$F:$F)","v":0},null,{"$f":"SUMIF(Feuil2!$B:$B,Consolidation!$B231,Feuil2!$F:$F)","v":0},null,{"$f":"SUMIF(Feuil3!$B:$B,Consolidation!$B231,Feuil3!$F:$F)","v":0},null,{"$f":"SUMIF(Feuil4!$B:$B,Consolidation!$B231,Feuil4!$F:$F)","v":0},null,{"$f":"SUMIF(Feuil5!$B:$B,Consolidation!$B231,Feuil5!$F:$F)","v":0},null,0,0,{"$f":"SUMIF(Feuil1!$B:$B,Consolidation!$B231,Feuil1!$H:$H)","v":0},null,{"$f":"SUMIF(Feuil2!$B:$B,Consolidation!$B231,Feuil2!$H:$H)","v":0},null,{"$f":"SUMIF(Feuil3!$B:$B,Consolidation!$B231,Feuil3!$H:$H)","v":0},null,{"$f":"SUMIF(Feuil4!$B:$B,Consolidation!$B231,Feuil4!$H:$H)","v":0},null,{"$f":"SUMIF(Feuil5!$B:$B,Consolidation!$B231,Feuil5!$H:$H)","v":0},null,0,0,0]
["InsererLigne",4791,"Frais d'exposition",{"$f":"SUMIF(Feuil1!$B:$B,Consolidation!$B232,Feuil1!$D:$D)","v":0},null,{"$f":"SUMIF(Feuil2!$B:$B,Consolidation!$B232,Feuil2!$D:$D)","v":0},null,{"$f":"SUMIF(Feuil3!$B:$B,Consolidation!$B232,Feuil3!$D:$D)","v":0},null,{"$f":"SUMIF(Feuil4!$B:$B,Consolidation!$B232,Feuil4!$D:$D)","v":0},null,{"$f":"SUMIF(Feuil5!$B:$B,Consolidation!$B232,Feuil5!$D:$D)","v":0},null,0,0,{"$f":"SUMIF(Feuil1!$B:$B,Consolidation!$B232,Feuil1!$F:$F)","v":0},null,{"$f":"SUMIF(Feuil2!$B:$B,Consolidation!$B232,Feuil2!$F:$F)","v":0},null,{"$f":"SUMIF(Feuil3!$B:$B,Consolidation!$B232,Feuil3!$F:$F)","v":0},null,{"$f":"SUMIF(Feuil4!$B:$B,Consolidation!$B232,Feuil4!$F:$F)","v":0},null,{"$f":"SUMIF(Feuil5!$B:$B,Consolidation!$B232,Feuil5!$F:$F)","v":0},null,0,0,{"$f":"SUMIF(Feuil1!$B:$B,Consolidation!$B232,Feuil1!$H:$H)","v":0},null,{"$f":"SUMIF(Feuil2!$B:$B,Consolidation!$B232,Feuil2!$H:$H)","v":0},null,{"$f":"SUMIF(Feuil3!$B:$B,Consolidation!$B232,Feuil3!$H:$H)","v":0},null,{"$f":"SUMIF(Feuil4!$B:$B,Consolidation!$B232,Feuil4!$H:$H)","v":0},null,{"$f":"SUMIF(Feuil5!$B:$B,Consolidation!$B232,Feuil5!$H:$H)","v":0},null,0,0,0]
["InsererLigne",4792,"Jetons de présence                                                  ",{"$f":"SUMIF(Feuil1!$B:$B,Consolidation!$B233,Feuil1!$D:$D)","v":0},null,{"$f":"SUMIF(Feuil2!$B:$B,Consolidation!$B233,Feuil2!$D:$D)","v":0},null,{"$f":"SUMIF(Feuil3!$B:$B,Consolidation!$B233,Feuil3!$D:$D)","v":0},null,{"$f":"SUMIF(Feuil4!$B:$B,Consolidation!$B233,Feuil4!$D:$D)","v":0},null,{"$f":"SUMIF(Feuil5!$B:$B,Consolidation!$B233,Feuil5!$D:$D)","v":0},null,0,0,{"$f":"SUMIF(Feuil1!$B:$B,Consolidation!$B233,Feuil1!$F:$F)","v":0},null,{"$f":"SUMIF(Feuil2!$B:$B,Consolidation!$B233,Feuil2!$F:$F)","v":0},null,{"$f":"SUMIF(Feuil3!$B:$B,Consolidation!$B233,Feuil3!$F:$F)","v":0},null,{"$f":"SUMIF(Feuil4!$B:$B,Consolidation!$B233,Feuil4!$F:$F)","v":0},null,{"$f":"SUMIF(Feuil5!$B:$B,Consolidation!$B233,Feuil5!$F:$F)","v":0},null,0,0,{"$f":"SUMIF(Feuil1!$B:$B,Consolidation!$B233,Feuil1!$H:$H)","v":0},null,{"$f":"SUMIF(Feuil2!$B:$B,Consolidation!$B233,Feuil2!$H:$H)","v":0},null,{"$f":"SUMIF(Feuil3!$B:$B,Consolidation!$B233,Feuil3!$H:$H)","v":0},null,{"$f":"SUMIF(Feuil4!$B:$B,Consolidation!$B233,Feuil4!$H:$H)","v":0},null,{"$f":"SUMIF(Feuil5!$B:$B,Consolidation!$B233,Feuil5!$H:$H)","v":0},null,0,0,0]
["InsererLigne",4793,"Cotisations à des associations et à des sociétés                                                  ",{"$f":"SUMIF(Feuil1!$B:$B,Consolidation!$B234,Feuil1!$D:$D)","v":0},null,{"$f":"SUMIF(Feuil2!$B:$B,Consolidation!$B234,Feuil2!$D:$D)","v":0},null,{"$f":"SUMIF(Feuil3!$B:$B,Consolidation!$B234,Feuil3!$D:$D)","v":0},null,{"$f":"SUMIF(Feuil4!$B:$B,Consolidation!$B234,Feuil4!$D:$D)","v":0},null,{"$f":"SUMIF(Feuil5!$B:$B,Consolidation!$B234,Feuil5!$D:$D)","v":0},null,0,0,{"$f":"SUMIF(Feuil1!$B:$B,Consolidation!$B234,Feuil1!$F:$F)","v":0},null,{"$f":"SUMIF(Feuil2!$B:$B,Consolidation!$B234,Feuil2!$F:$F)","v":0},null,{"$f":"SUMIF(Feuil3!$B:$B,Consolidation!$B234,Feuil3!$F:$F)","v":0},null,{"$f":"SUMIF(Feuil4!$B:$B,Consolidation!$B234,Feuil4!$F:$F)","v":0},null,{"$f":"SUMIF(Feuil5!$B:$B,Consolidation!$B234,Feuil5!$F:$F)","v":0},null,0,0,{"$f":"SUMIF(Feuil1!$B:$B,Consolidation!$B234,Feuil1!$H:$H)","v":0},null,{"$f":"SUMIF(Feuil2!$B:$B,Consolidation!$B234,Feuil2!$H:$H)","v":0},null,{"$f":"SUMIF(Feuil3!$B:$B,Consolidation!$B234,Feuil3!$H:$H)","v":0},null,{"$f":"SUMIF(Feuil4!$B:$B,Consolidation!$B234,Feuil4!$H:$H)","v":0},null,{"$f":"SUMIF(Feuil5!$B:$B,Consolidation!$B234,Feuil5!$H:$H)","v":0},null,0,0,0]
["InsererLigne",4794,"Frais de voyage et de représentation                                                  ",{"$f":"SUMIF(Feuil1!$B:$B,Consolidation!$B235,Feuil1!$D:$D)","v":0},null,{"$f":"SUMIF(Feuil2!$B:$B,Consolidation!$B235,Feuil2!$D:$D)","v":0},null,{"$f":"SUMIF(Feuil3!$B:$B,Consolidation!$B235,Feuil3!$D:$D)","v":0},null,{"$f":"SUMIF(Feuil4!$B:$B,Consolidation!$B235,Feuil4!$D:$D)","v":0},null,{"$f":"SUMIF(Feuil5!$B:$B,Consolidation!$B235,Feuil5!$D:$D)","v":0},null,0,0,{"$f":"SUMIF(Feuil1!$B:$B,Consolidation!$B235,Feuil1!$F:$F)","v":0},null,{"$f":"SUMIF(Feuil2!$B:$B,Consolidation!$B235,Feuil2!$F:$F)","v":0},null,{"$f":"SUMIF(Feuil3!$B:$B,Consolidation!$B235,Feuil3!$F:$F)","v":0},null,{"$f":"SUMIF(Feuil4!$B:$B,Consolidation!$B235,Feuil4!$F:$F)","v":0},null,{"$f":"SUMIF(Feuil5!$B:$B,Consolidation!$B235,Feuil5!$F:$F)","v":0},null,0,0,{"$f":"SUMIF(Feuil1!$B:$B,Consolidation!$B235,Feuil1!$H:$H)","v":0},null,{"$f":"SUMIF(Feuil2!$B:$B,Consolidation!$B235,Feuil2!$H:$H)","v":0},null,{"$f":"SUMIF(Feuil3!$B:$B,Consolidation!$B235,Feuil3!$H:$H)","v":0},null,{"$f":"SUMIF(Feuil4!$B:$B,Consolidation!$B235,Feuil4!$H:$H)","v":0},null,{"$f":"SUMIF(Feuil5!$B:$B,Consolidation!$B235,Feuil5!$H:$H)","v":0},null,0,0,0]
["InsererLigne",4795,"Frais de publicité                                                  ",{"$f":"SUMIF(Feuil1!$B:$B,Consolidation!$B236,Feuil1!$D:$D)","v":0},null,{"$f":"SUMIF(Feuil2!$B:$B,Consolidation!$B236,Feuil2!$D:$D)","v":0},null,{"$f":"SUMIF(Feuil3!$B:$B,Consolidation!$B236,Feuil3!$D:$D)","v":0},null,{"$f":"SUMIF(Feuil4!$B:$B,Consolidation!$B236,Feuil4!$D:$D)","v":0},null,{"$f":"SUMIF(Feuil5!$B:$B,Consolidation!$B236,Feuil5!$D:$D)","v":0},null,0,0,{"$f":"SUMIF(Feuil1!$B:$B,Consolidation!$B236,Feuil1!$F:$F)","v":0},null,{"$f":"SUMIF(Feuil2!$B:$B,Consolidation!$B236,Feuil2!$F:$F)","v":0},null,{"$f":"SUMIF(Feuil3!$B:$B,Consolidation!$B236,Feuil3!$F:$F)","v":0},null,{"$f":"SUMIF(Feuil4!$B:$B,Consolidation!$B236,Feuil4!$F:$F)","v":0},null,{"$f":"SUMIF(Feuil5!$B:$B,Consolidation!$B236,Feuil5!$F:$F)","v":0},null,0,0,{"$f":"SUMIF(Feuil1!$B:$B,Consolidation!$B236,Feuil1!$H:$H)","v":0},null,{"$f":"SUMIF(Feuil2!$B:$B,Consolidation!$B236,Feuil2!$H:$H)","v":0},null,{"$f":"SUMIF(Feuil3!$B:$B,Consolidation!$B236,Feuil3!$H:$H)","v":0},null,{"$f":"SUMIF(Feuil4!$B:$B,Consolidation!$B236,Feuil4!$H:$H)","v":0},null,{"$f":"SUMIF(Feuil5!$B:$B,Consolidation!$B236,Feuil5!$H:$H)","v":0},null,0,0,0]
["InsererLigne",4796,"Commission sur vente                                                  ",{"$f":"SUMIF(Feuil1!$B:$B,Consolidation!$B237,Feuil1!$D:$D)","v":0},null,{"$f":"SUMIF(Feuil2!$B:$B,Consolidation!$B237,Feuil2!$D:$D)","v":0},null,{"$f":"SUMIF(Feuil3!$B:$B,Consolidation!$B237,Feuil3!$D:$D)","v":0},null,{"$f":"SUMIF(Feuil4!$B:$B,Consolidation!$B237,Feuil4!$D:$D)","v":0},null,{"$f":"SUMIF(Feuil5!$B:$B,Consolidation!$B237,Feuil5!$D:$D)","v":0},null,0,0,{"$f":"SUMIF(Feuil1!$B:$B,Consolidation!$B237,Feuil1!$F:$F)","v":0},null,{"$f":"SUMIF(Feuil2!$B:$B,Consolidation!$B237,Feuil2!$F:$F)","v":0},null,{"$f":"SUMIF(Feuil3!$B:$B,Consolidation!$B237,Feuil3!$F:$F)","v":0},null,{"$f":"SUMIF(Feuil4!$B:$B,Consolidation!$B237,Feuil4!$F:$F)","v":0},null,{"$f":"SUMIF(Feuil5!$B:$B,Consolidation!$B237,Feuil5!$F:$F)","v":0},null,0,0,{"$f":"SUMIF(Feuil1!$B:$B,Consolidation!$B237,Feuil1!$H:$H)","v":0},null,{"$f":"SUMIF(Feuil2!$B:$B,Consolidation!$B237,Feuil2!$H:$H)","v":0},null,{"$f":"SUMIF(Feuil3!$B:$B,Consolidation!$B237,Feuil3!$H:$H)","v":0},null,{"$f":"SUMIF(Feuil4!$B:$B,Consolidation!$B237,Feuil4!$H:$H)","v":0},null,{"$f":"SUMIF(Feuil5!$B:$B,Consolidation!$B237,Feuil5!$H:$H)","v":0},null,0,0,0]
["InsererLigne",4797,"Frais de contentieux                                                  ",{"$f":"SUMIF(Feuil1!$B:$B,Consolidation!$B238,Feuil1!$D:$D)","v":0},null,{"$f":"SUMIF(Feuil2!$B:$B,Consolidation!$B238,Feuil2!$D:$D)","v":0},null,{"$f":"SUMIF(Feuil3!$B:$B,Consolidation!$B238,Feuil3!$D:$D)","v":0},null,{"$f":"SUMIF(Feuil4!$B:$B,Consolidation!$B238,Feuil4!$D:$D)","v":0},null,{"$f":"SUMIF(Feuil5!$B:$B,Consolidation!$B238,Feuil5!$D:$D)","v":0},null,0,0,{"$f":"SUMIF(Feuil1!$B:$B,Consolidation!$B238,Feuil1!$F:$F)","v":0},null,{"$f":"SUMIF(Feuil2!$B:$B,Consolidation!$B238,Feuil2!$F:$F)","v":0},null,{"$f":"SUMIF(Feuil3!$B:$B,Consolidation!$B238,Feuil3!$F:$F)","v":0},null,{"$f":"SUMIF(Feuil4!$B:$B,Consolidation!$B238,Feuil4!$F:$F)","v":0},null,{"$f":"SUMIF(Feuil5!$B:$B,Consolidation!$B238,Feuil5!$F:$F)","v":0},null,0,0,{"$f":"SUMIF(Feuil1!$B:$B,Consolidation!$B238,Feuil1!$H:$H)","v":0},null,{"$f":"SUMIF(Feuil2!$B:$B,Consolidation!$B238,Feuil2!$H:$H)","v":0},null,{"$f":"SUMIF(Feuil3!$B:$B,Consolidation!$B238,Feuil3!$H:$H)","v":0},null,{"$f":"SUMIF(Feuil4!$B:$B,Consolidation!$B238,Feuil4!$H:$H)","v":0},null,{"$f":"SUMIF(Feuil5!$B:$B,Consolidation!$B238,Feuil5!$H:$H)","v":0},null,0,0,0]
["InsererLigne",4798,"Pertes sur débiteurs                                                  ",{"$f":"SUMIF(Feuil1!$B:$B,Consolidation!$B239,Feuil1!$D:$D)","v":0},null,{"$f":"SUMIF(Feuil2!$B:$B,Consolidation!$B239,Feuil2!$D:$D)","v":0},null,{"$f":"SUMIF(Feuil3!$B:$B,Consolidation!$B239,Feuil3!$D:$D)","v":0},null,{"$f":"SUMIF(Feuil4!$B:$B,Consolidation!$B239,Feuil4!$D:$D)","v":0},null,{"$f":"SUMIF(Feuil5!$B:$B,Consolidation!$B239,Feuil5!$D:$D)","v":0},null,0,0,{"$f":"SUMIF(Feuil1!$B:$B,Consolidation!$B239,Feuil1!$F:$F)","v":0},null,{"$f":"SUMIF(Feuil2!$B:$B,Consolidation!$B239,Feuil2!$F:$F)","v":0},null,{"$f":"SUMIF(Feuil3!$B:$B,Consolidation!$B239,Feuil3!$F:$F)","v":0},null,{"$f":"SUMIF(Feuil4!$B:$B,Consolidation!$B239,Feuil4!$F:$F)","v":0},null,{"$f":"SUMIF(Feuil5!$B:$B,Consolidation!$B239,Feuil5!$F:$F)","v":0},null,0,0,{"$f":"SUMIF(Feuil1!$B:$B,Consolidation!$B239,Feuil1!$H:$H)","v":0},null,{"$f":"SUMIF(Feuil2!$B:$B,Consolidation!$B239,Feuil2!$H:$H)","v":0},null,{"$f":"SUMIF(Feuil3!$B:$B,Consolidation!$B239,Feuil3!$H:$H)","v":0},null,{"$f":"SUMIF(Feuil4!$B:$B,Consolidation!$B239,Feuil4!$H:$H)","v":0},null,{"$f":"SUMIF(Feuil5!$B:$B,Consolidation!$B239,Feuil5!$H:$H)","v":0},null,0,0,0]
["InsererLigne",4799,"Autres dépenses                                                  ",{"$f":"SUMIF(Feuil1!$B:$B,Consolidation!$B240,Feuil1!$D:$D)","v":0},null,{"$f":"SUMIF(Feuil2!$B:$B,Consolidation!$B240,Feuil2!$D:$D)","v":0},null,{"$f":"SUMIF(Feuil3!$B:$B,Consolidation!$B240,Feuil3!$D:$D)","v":0},null,{"$f":"SUMIF(Feuil4!$B:$B,Consolidation!$B240,Feuil4!$D:$D)","v":0},null,{"$f":"SUMIF(Feuil5!$B:$B,Consolidation!$B240,Feuil5!$D:$D)","v":0},null,0,0,{"$f":"SUMIF(Feuil1!$B:$B,Consolidation!$B240,Feuil1!$F:$F)","v":0},null,{"$f":"SUMIF(Feuil2!$B:$B,Consolidation!$B240,Feuil2!$F:$F)","v":0},null,{"$f":"SUMIF(Feuil3!$B:$B,Consolidation!$B240,Feuil3!$F:$F)","v":0},null,{"$f":"SUMIF(Feuil4!$B:$B,Consolidation!$B240,Feuil4!$F:$F)","v":0},null,{"$f":"SUMIF(Feuil5!$B:$B,Consolidation!$B240,Feuil5!$F:$F)","v":0},null,0,0,{"$f":"SUMIF(Feuil1!$B:$B,Consolidation!$B240,Feuil1!$H:$H)","v":0},null,{"$f":"SUMIF(Feuil2!$B:$B,Consolidation!$B240,Feuil2!$H:$H)","v":0},null,{"$f":"SUMIF(Feuil3!$B:$B,Consolidation!$B240,Feuil3!$H:$H)","v":0},null,{"$f":"SUMIF(Feuil4!$B:$B,Consolidation!$B240,Feuil4!$H:$H)","v":0},null,{"$f":"SUMIF(Feuil5!$B:$B,Consolidation!$B240,Feuil5!$H:$H)","v":0},null,0,0,0]
["InsererLigne",null,null,null,null,null,null,null,null,null,null,null,null,null,null,null,null,null,null,null,null,null,null,null,null,null,null,null,null,null,null,null,null,null,null,null,null,null,null,0]
[null,48,"Outillage et matériel pour atelieres et ateliers d'occupation",{"$f":"SUBTOTAL(9,D243:D256)","v":0},{"$f":"IF($E$5>0,D242/$E$5,0)","v":0},{"$f":"SUBTOTAL(9,F243:F256)","v":0},{"$f":"IF($G$5>0,F242/$G$5,0)","v":0},{"$f":"SUBTOTAL(9,H243:H256)","v":0},{"$f":"IF($I$5>0,H242/$I$5,0)","v":0},{"$f":"SUBTOTAL(9,J243:J256)","v":0},{"$f":"IF($K$5>0,J242/$K$5,0)","v":0},{"$f":"SUBTOTAL(9,L243:L256)","v":0},{"$f":"IF($M$5>0,L242/$M$5,0)","v":0},{"$f":"D242+F242+H242+J242+L242","v":0},{"$f":"E242+G242+I242+K242+M242","v":0},{"$f":"SUBTOTAL(9,P243:P256)","v":0},{"$f":"IF($Q$5>0,P242/$Q$5,0)","v":0},{"$f":"SUBTOTAL(9,R243:R256)","v":0},{"$f":"IF($S$5>0,R242/$S$5,0)","v":0},{"$f":"SUBTOTAL(9,T243:T256)","v":0},{"$f":"IF($U$5>0,T242/$U$5,0)","v":0},{"$f":"SUBTOTAL(9,V243:V256)","v":0},{"$f":"IF($W$5>0,V242/$W$5,0)","v":0},{"$f":"SUBTOTAL(9,X243:X256)","v":0},{"$f":"IF($Y$5>0,X242/$Y$5,0)","v":0},{"$f":"P242+R242+T242+V242+X242","v":0},{"$f":"Q242+S242+U242+W242+Y242","v":0},{"$f":"SUBTOTAL(9,AB243:AB256)","v":0},{"$f":"IF($AC$5>0,AB242/$AC$5,0)","v":0},{"$f":"SUBTOTAL(9,AD243:AD256)","v":0},{"$f":"IF($AE$5>0,AD242/$AE$5,0)","v":0},{"$f":"SUBTOTAL(9,AF243:AF256)","v":0},{"$f":"IF($AG$5>0,AF242/$AG$5,0)","v":0},{"$f":"SUBTOTAL(9,AH243:AH256)","v":0},{"$f":"IF($AI$5>0,AH242/$AI$5,0)","v":0},{"$f":"SUBTOTAL(9,AJ243:AJ256)","v":0},{"$f":"IF($AK$5>0,AJ242/$AK$5,0)","v":0},{"$f":"AB242+AD242+AF242+AH242+AJ242","v":0},{"$f":"AC242+AE242+AG242+AI242+AK242","v":0},0]
[null,4800,"Achat de produits finis                                                  ",{"$f":"SUMIF(Feuil1!$B:$B,Consolidation!$B243,Feuil1!$D:$D)","v":0},null,{"$f":"SUMIF(Feuil2!$B:$B,Consolidation!$B243,Feuil2!$D:$D)","v":0},null,{"$f":"SUMIF(Feuil3!$B:$B,Consolidation!$B243,Feuil3!$D:$D)","v":0},null,{"$f":"SUMIF(Feuil4!$B:$B,Consolidation!$B243,Feuil4!$D:$D)","v":0},null,{"$f":"SUMIF(Feuil5!$B:$B,Consolidation!$B243,Feuil5!$D:$D)","v":0},null,{"$f":"D243+F243+H243+J243+L243","v":0},{"$f":"E243+G243+I243+K243+M243","v":0},{"$f":"SUMIF(Feuil1!$B:$B,Consolidation!$B243,Feuil1!$F:$F)","v":0},null,{"$f":"SUMIF(Feuil2!$B:$B,Consolidation!$B243,Feuil2!$F:$F)","v":0},null,{"$f":"SUMIF(Feuil3!$B:$B,Consolidation!$B243,Feuil3!$F:$F)","v":0},null,{"$f":"SUMIF(Feuil4!$B:$B,Consolidation!$B243,Feuil4!$F:$F)","v":0},null,{"$f":"SUMIF(Feuil5!$B:$B,Consolidation!$B243,Feuil5!$F:$F)","v":0},null,{"$f":"P243+R243+T243+V243+X243","v":0},{"$f":"Q243+S243+U243+W243+Y243","v":0},{"$f":"SUMIF(Feuil1!$B:$B,Consolidation!$B243,Feuil1!$H:$H)","v":0},null,{"$f":"SUMIF(Feuil2!$B:$B,Consolidation!$B243,Feuil2!$H:$H)","v":0},null,{"$f":"SUMIF(Feuil3!$B:$B,Consolidation!$B243,Feuil3!$H:$H)","v":0},null,{"$f":"SUMIF(Feuil4!$B:$B,Consolidation!$B243,Feuil4!$H:$H)","v":0},null,{"$f":"SUMIF(Feuil5!$B:$B,Consolidation!$B243,Feuil5!$H:$H)","v":0},null,{"$f":"AB243+AD243+AF243+AH243+AJ243","v":0},{"$f":"AC243+AE243+AG243+AI243+AK243","v":0},0]
["InsererLigne",4810,"Achat de matières brutes                                                  ",{"$f":"SUMIF(Feuil1!$B:$B,Consolidation!$B244,Feuil1!$D:$D)","v":0},null,{"$f":"SUMIF(Feuil2!$B:$B,Consolidation!$B244,Feuil2!$D:$D)","v":0},null,{"$f":"SUMIF(Feuil3!$B:$B,Consolidation!$B244,Feuil3!$D:$D)","v":0},null,{"$f":"SUMIF(Feuil4!$B:$B,Consolidation!$B244,Feuil4!$D:$D)","v":0},null,{"$f":"SUMIF(Feuil5!$B:$B,Consolidation!$B244,Feuil5!$D:$D)","v":0},null,0,0,{"$f":"SUMIF(Feuil1!$B:$B,Consolidation!$B244,Feuil1!$F:$F)","v":0},null,{"$f":"SUMIF(Feuil2!$B:$B,Consolidation!$B244,Feuil2!$F:$F)","v":0},null,{"$f":"SUMIF(Feuil3!$B:$B,Consolidation!$B244,Feuil3!$F:$F)","v":0},null,{"$f":"SUMIF(Feuil4!$B:$B,Consolidation!$B244,Feuil4!$F:$F)","v":0},null,{"$f":"SUMIF(Feuil5!$B:$B,Consolidation!$B244,Feuil5!$F:$F)","v":0},null,0,0,{"$f":"SUMIF(Feuil1!$B:$B,Consolidation!$B244,Feuil1!$H:$H)","v":0},null,{"$f":"SUMIF(Feuil2!$B:$B,Consolidation!$B244,Feuil2!$H:$H)","v":0},null,{"$f":"SUMIF(Feuil3!$B:$B,Consolidation!$B244,Feuil3!$H:$H)","v":0},null,{"$f":"SUMIF(Feuil4!$B:$B,Consolidation!$B244,Feuil4!$H:$H)","v":0},null,{"$f":"SUMIF(Feuil5!$B:$B,Consolidation!$B244,Feuil5!$H:$H)","v":0},null,0,0,0]
["InsererLigne",4820,"Matériel d'usage courant                                                  ",{"$f":"SUMIF(Feuil1!$B:$B,Consolidation!$B245,Feuil1!$D:$D)","v":0},null,{"$f":"SUMIF(Feuil2!$B:$B,Consolidation!$B245,Feuil2!$D:$D)","v":0},null,{"$f":"SUMIF(Feuil3!$B:$B,Consolidation!$B245,Feuil3!$D:$D)","v":0},null,{"$f":"SUMIF(Feuil4!$B:$B,Consolidation!$B245,Feuil4!$D:$D)","v":0},null,{"$f":"SUMIF(Feuil5!$B:$B,Consolidation!$B245,Feuil5!$D:$D)","v":0},null,0,0,{"$f":"SUMIF(Feuil1!$B:$B,Consolidation!$B245,Feuil1!$F:$F)","v":0},null,{"$f":"SUMIF(Feuil2!$B:$B,Consolidation!$B245,Feuil2!$F:$F)","v":0},null,{"$f":"SUMIF(Feuil3!$B:$B,Consolidation!$B245,Feuil3!$F:$F)","v":0},null,{"$f":"SUMIF(Feuil4!$B:$B,Consolidation!$B245,Feuil4!$F:$F)","v":0},null,{"$f":"SUMIF(Feuil5!$B:$B,Consolidation!$B245,Feuil5!$F:$F)","v":0},null,0,0,{"$f":"SUMIF(Feuil1!$B:$B,Consolidation!$B245,Feuil1!$H:$H)","v":0},null,{"$f":"SUMIF(Feuil2!$B:$B,Consolidation!$B245,Feuil2!$H:$H)","v":0},null,{"$f":"SUMIF(Feuil3!$B:$B,Consolidation!$B245,Feuil3!$H:$H)","v":0},null,{"$f":"SUMIF(Feuil4!$B:$B,Consolidation!$B245,Feuil4!$H:$H)","v":0},null,{"$f":"SUMIF(Feuil5!$B:$B,Consolidation!$B245,Feuil5!$H:$H)","v":0},null,0,0,0]
["InsererLigne",4830,"Matériel pour travaux en atelier                                                  ",{"$f":"SUMIF(Feuil1!$B:$B,Consolidation!$B246,Feuil1!$D:$D)","v":0},null,{"$f":"SUMIF(Feuil2!$B:$B,Consolidation!$B246,Feuil2!$D:$D)","v":0},null,{"$f":"SUMIF(Feuil3!$B:$B,Consolidation!$B246,Feuil3!$D:$D)","v":0},null,{"$f":"SUMIF(Feuil4!$B:$B,Consolidation!$B246,Feuil4!$D:$D)","v":0},null,{"$f":"SUMIF(Feuil5!$B:$B,Consolidation!$B246,Feuil5!$D:$D)","v":0},null,0,0,{"$f":"SUMIF(Feuil1!$B:$B,Consolidation!$B246,Feuil1!$F:$F)","v":0},null,{"$f":"SUMIF(Feuil2!$B:$B,Consolidation!$B246,Feuil2!$F:$F)","v":0},null,{"$f":"SUMIF(Feuil3!$B:$B,Consolidation!$B246,Feuil3!$F:$F)","v":0},null,{"$f":"SUMIF(Feuil4!$B:$B,Consolidation!$B246,Feuil4!$F:$F)","v":0},null,{"$f":"SUMIF(Feuil5!$B:$B,Consolidation!$B246,Feuil5!$F:$F)","v":0},null,0,0,{"$f":"SUMIF(Feuil1!$B:$B,Consolidation!$B246,Feuil1!$H:$H)","v":0},null,{"$f":"SUMIF(Feuil2!$B:$B,Consolidation!$B246,Feuil2!$H:$H)","v":0},null,{"$f":"SUMIF(Feuil3!$B:$B,Consolidation!$B246,Feuil3!$H:$H)","v":0},null,{"$f":"SUMIF(Feuil4!$B:$B,Consolidation!$B246,Feuil4!$H:$H)","v":0},null,{"$f":"SUMIF(Feuil5!$B:$B,Consolidation!$B246,Feuil5!$H:$H)","v":0},null,0,0,0]
["InsererLigne",4840,"Outillage                                                  ",{"$f":"SUMIF(Feuil1!$B:$B,Consolidation!$B247,Feuil1!$D:$D)","v":0},null,{"$f":"SUMIF(Feuil2!$B:$B,Consolidation!$B247,Feuil2!$D:$D)","v":0},null,{"$f":"SUMIF(Feuil3!$B:$B,Consolidation!$B247,Feuil3!$D:$D)","v":0},null,{"$f":"SUMIF(Feuil4!$B:$B,Consolidation!$B247,Feuil4!$D:$D)","v":0},null,{"$f":"SUMIF(Feuil5!$B:$B,Consolidation!$B247,Feuil5!$D:$D)","v":0},null,0,0,{"$f":"SUMIF(Feuil1!$B:$B,Consolidation!$B247,Feuil1!$F:$F)","v":0},null,{"$f":"SUMIF(Feuil2!$B:$B,Consolidation!$B247,Feuil2!$F:$F)","v":0},null,{"$f":"SUMIF(Feuil3!$B:$B,Consolidation!$B247,Feuil3!$F:$F)","v":0},null,{"$f":"SUMIF(Feuil4!$B:$B,Consolidation!$B247,Feuil4!$F:$F)","v":0},null,{"$f":"SUMIF(Feuil5!$B:$B,Consolidation!$B247,Feuil5!$F:$F)","v":0},null,0,0,{"$f":"SUMIF(Feuil1!$B:$B,Consolidation!$B247,Feuil1!$H:$H)","v":0},null,{"$f":"SUMIF(Feuil2!$B:$B,Consolidation!$B247,Feuil2!$H:$H)","v":0},null,{"$f":"SUMIF(Feuil3!$B:$B,Consolidation!$B247,Feuil3!$H:$H)","v":0},null,{"$f":"SUMIF(Feuil4!$B:$B,Consolidation!$B247,Feuil4!$H:$H)","v":0},null,{"$f":"SUMIF(Feuil5!$B:$B,Consolidation!$B247,Feuil5!$H:$H)","v":0},null,0,0,0]
["InsererLigne",4850,"Sous-traitance",{"$f":"SUMIF(Feuil1!$B:$B,Consolidation!$B248,Feuil1!$D:$D)","v":0},null,{"$f":"SUMIF(Feuil2!$B:$B,Consolidation!$B248,Feuil2!$D:$D)","v":0},null,{"$f":"SUMIF(Feuil3!$B:$B,Consolidation!$B248,Feuil3!$D:$D)","v":0},null,{"$f":"SUMIF(Feuil4!$B:$B,Consolidation!$B248,Feuil4!$D:$D)","v":0},null,{"$f":"SUMIF(Feuil5!$B:$B,Consolidation!$B248,Feuil5!$D:$D)","v":0},null,0,0,{"$f":"SUMIF(Feuil1!$B:$B,Consolidation!$B248,Feuil1!$F:$F)","v":0},null,{"$f":"SUMIF(Feuil2!$B:$B,Consolidation!$B248,Feuil2!$F:$F)","v":0},null,{"$f":"SUMIF(Feuil3!$B:$B,Consolidation!$B248,Feuil3!$F:$F)","v":0},null,{"$f":"SUMIF(Feuil4!$B:$B,Consolidation!$B248,Feuil4!$F:$F)","v":0},null,{"$f":"SUMIF(Feuil5!$B:$B,Consolidation!$B248,Feuil5!$F:$F)","v":0},null,0,0,{"$f":"SUMIF(Feuil1!$B:$B,Consolidation!$B248,Feuil1!$H:$H)","v":0},null,{"$f":"SUMIF(Feuil2!$B:$B,Consolidation!$B248,Feuil2!$H:$H)","v":0},null,{"$f":"SUMIF(Feuil3!$B:$B,Consolidation!$B248,Feuil3!$H:$H)","v":0},null,{"$f":"SUMIF(Feuil4!$B:$B,Consolidation!$B248,Feuil4!$H:$H)","v":0},null,{"$f":"SUMIF(Feuil5!$B:$B,Consolidation!$B248,Feuil5!$H:$H)","v":0},null,0,0,0]
["InsererLigne",4851,"Entretien outils                                                  ",{"$f":"SUMIF(Feuil1!$B:$B,Consolidation!$B249,Feuil1!$D:$D)","v":0},null,{"$f":"SUMIF(Feuil2!$B:$B,Consolidation!$B249,Feuil2!$D:$D)","v":0},null,{"$f":"SUMIF(Feuil3!$B:$B,Consolidation!$B249,Feuil3!$D:$D)","v":0},null,{"$f":"SUMIF(Feuil4!$B:$B,Consolidation!$B249,Feuil4!$D:$D)","v":0},null,{"$f":"SUMIF(Feuil5!$B:$B,Consolidation!$B249,Feuil5!$D:$D)","v":0},null,0,0,{"$f":"SUMIF(Feuil1!$B:$B,Consolidation!$B249,Feuil1!$F:$F)","v":0},null,{"$f":"SUMIF(Feuil2!$B:$B,Consolidation!$B249,Feuil2!$F:$F)","v":0},null,{"$f":"SUMIF(Feuil3!$B:$B,Consolidation!$B249,Feuil3!$F:$F)","v":0},null,{"$f":"SUMIF(Feuil4!$B:$B,Consolidation!$B249,Feuil4!$F:$F)","v":0},null,{"$f":"SUMIF(Feuil5!$B:$B,Consolidation!$B249,Feuil5!$F:$F)","v":0},null,0,0,{"$f":"SUMIF(Feuil1!$B:$B,Consolidation!$B249,Feuil1!$H:$H)","v":0},null,{"$f":"SUMIF(Feuil2!$B:$B,Consolidation!$B249,Feuil2!$H:$H)","v":0},null,{"$f":"SUMIF(Feuil3!$B:$B,Consolidation!$B249,Feuil3!$H:$H)","v":0},null,{"$f":"SUMIF(Feuil4!$B:$B,Consolidation!$B249,Feuil4!$H:$H)","v":0},null,{"$f":"SUMIF(Feuil5!$B:$B,Consolidation!$B249,Feuil5!$H:$H)","v":0},null,0,0,0]
["InsererLigne",4852,"Fournitures d'ateliers, petit outillage, sous-traitance effectuée par des tiers",{"$f":"SUMIF(Feuil1!$B:$B,Consolidation!$B250,Feuil1!$D:$D)","v":0},null,{"$f":"SUMIF(Feuil2!$B:$B,Consolidation!$B250,Feuil2!$D:$D)","v":0},null,{"$f":"SUMIF(Feuil3!$B:$B,Consolidation!$B250,Feuil3!$D:$D)","v":0},null,{"$f":"SUMIF(Feuil4!$B:$B,Consolidation!$B250,Feuil4!$D:$D)","v":0},null,{"$f":"SUMIF(Feuil5!$B:$B,Consolidation!$B250,Feuil5!$D:$D)","v":0},null,0,0,{"$f":"SUMIF(Feuil1!$B:$B,Consolidation!$B250,Feuil1!$F:$F)","v":0},null,{"$f":"SUMIF(Feuil2!$B:$B,Consolidation!$B250,Feuil2!$F:$F)","v":0},null,{"$f":"SUMIF(Feuil3!$B:$B,Consolidation!$B250,Feuil3!$F:$F)","v":0},null,{"$f":"SUMIF(Feuil4!$B:$B,Consolidation!$B250,Feuil4!$F:$F)","v":0},null,{"$f":"SUMIF(Feuil5!$B:$B,Consolidation!$B250,Feuil5!$F:$F)","v":0},null,0,0,{"$f":"SUMIF(Feuil1!$B:$B,Consolidation!$B250,Feuil1!$H:$H)","v":0},null,{"$f":"SUMIF(Feuil2!$B:$B,Consolidation!$B250,Feuil2!$H:$H)","v":0},null,{"$f":"SUMIF(Feuil3!$B:$B,Consolidation!$B250,Feuil3!$H:$H)","v":0},null,{"$f":"SUMIF(Feuil4!$B:$B,Consolidation!$B250,Feuil4!$H:$H)","v":0},null,{"$f":"SUMIF(Feuil5!$B:$B,Consolidation!$B250,Feuil5!$H:$H)","v":0},null,0,0,0]
["InsererLigne",4859,"Prestations achats internes",{"$f":"SUMIF(Feuil1!$B:$B,Consolidation!$B251,Feuil1!$D:$D)","v":0},null,{"$f":"SUMIF(Feuil2!$B:$B,Consolidation!$B251,Feuil2!$D:$D)","v":0},null,{"$f":"SUMIF(Feuil3!$B:$B,Consolidation!$B251,Feuil3!$D:$D)","v":0},null,{"$f":"SUMIF(Feuil4!$B:$B,Consolidation!$B251,Feuil4!$D:$D)","v":0},null,{"$f":"SUMIF(Feuil5!$B:$B,Consolidation!$B251,Feuil5!$D:$D)","v":0},null,null,null,{"$f":"SUMIF(Feuil1!$B:$B,Consolidation!$B251,Feuil1!$F:$F)","v":0},null,{"$f":"SUMIF(Feuil2!$B:$B,Consolidation!$B251,Feuil2!$F:$F)","v":0},null,{"$f":"SUMIF(Feuil3!$B:$B,Consolidation!$B251,Feuil3!$F:$F)","v":0},null,{"$f":"SUMIF(Feuil4!$B:$B,Consolidation!$B251,Feuil4!$F:$F)","v":0},null,{"$f":"SUMIF(Feuil5!$B:$B,Consolidation!$B251,Feuil5!$F:$F)","v":0},null,null,null,{"$f":"SUMIF(Feuil1!$B:$B,Consolidation!$B251,Feuil1!$H:$H)","v":0},null,{"$f":"SUMIF(Feuil2!$B:$B,Consolidation!$B251,Feuil2!$H:$H)","v":0},null,{"$f":"SUMIF(Feuil3!$B:$B,Consolidation!$B251,Feuil3!$H:$H)","v":0},null,{"$f":"SUMIF(Feuil4!$B:$B,Consolidation!$B251,Feuil4!$H:$H)","v":0},null,{"$f":"SUMIF(Feuil5!$B:$B,Consolidation!$B251,Feuil5!$H:$H)","v":0},null,null,null,0]
["InsererLigne",4860,"Alimentation du bétail",{"$f":"SUMIF(Feuil1!$B:$B,Consolidation!$B252,Feuil1!$D:$D)","v":0},null,{"$f":"SUMIF(Feuil2!$B:$B,Consolidation!$B252,Feuil2!$D:$D)","v":0},null,{"$f":"SUMIF(Feuil3!$B:$B,Consolidation!$B252,Feuil3!$D:$D)","v":0},null,{"$f":"SUMIF(Feuil4!$B:$B,Consolidation!$B252,Feuil4!$D:$D)","v":0},null,{"$f":"SUMIF(Feuil5!$B:$B,Consolidation!$B252,Feuil5!$D:$D)","v":0},null,0,0,{"$f":"SUMIF(Feuil1!$B:$B,Consolidation!$B252,Feuil1!$F:$F)","v":0},null,{"$f":"SUMIF(Feuil2!$B:$B,Consolidation!$B252,Feuil2!$F:$F)","v":0},null,{"$f":"SUMIF(Feuil3!$B:$B,Consolidation!$B252,Feuil3!$F:$F)","v":0},null,{"$f":"SUMIF(Feuil4!$B:$B,Consolidation!$B252,Feuil4!$F:$F)","v":0},null,{"$f":"SUMIF(Feuil5!$B:$B,Consolidation!$B252,Feuil5!$F:$F)","v":0},null,{"$f":"P252+R252+T252+V252+X252","v":0},{"$f":"Q252+S252+U252+W252+Y252","v":0},{"$f":"SUMIF(Feuil1!$B:$B,Consolidation!$B252,Feuil1!$H:$H)","v":0},null,{"$f":"SUMIF(Feuil2!$B:$B,Consolidation!$B252,Feuil2!$H:$H)","v":0},null,{"$f":"SUMIF(Feuil3!$B:$B,Consolidation!$B252,Feuil3!$H:$H)","v":0},null,{"$f":"SUMIF(Feuil4!$B:$B,Consolidation!$B252,Feuil4!$H:$H)","v":0},null,{"$f":"SUMIF(Feuil5!$B:$B,Consolidation!$B252,Feuil5!$H:$H)","v":0},null,{"$f":"AB252+AD252+AF252+AH252+AJ252","v":0},{"$f":"AC252+AE252+AG252+AI252+AK252","v":0},0]
["InsererLigne",4861,"Frais de vétérinaire",{"$f":"SUMIF(Feuil1!$B:$B,Consolidation!$B253,Feuil1!$D:$D)","v":0},null,{"$f":"SUMIF(Feuil2!$B:$B,Consolidation!$B253,Feuil2!$D:$D)","v":0},null,{"$f":"SUMIF(Feuil3!$B:$B,Consolidation!$B253,Feuil3!$D:$D)","v":0},null,{"$f":"SUMIF(Feuil4!$B:$B,Consolidation!$B253,Feuil4!$D:$D)","v":0},null,{"$f":"SUMIF(Feuil5!$B:$B,Consolidation!$B253,Feuil5!$D:$D)","v":0},null,0,0,{"$f":"SUMIF(Feuil1!$B:$B,Consolidation!$B253,Feuil1!$F:$F)","v":0},null,{"$f":"SUMIF(Feuil2!$B:$B,Consolidation!$B253,Feuil2!$F:$F)","v":0},null,{"$f":"SUMIF(Feuil3!$B:$B,Consolidation!$B253,Feuil3!$F:$F)","v":0},null,{"$f":"SUMIF(Feuil4!$B:$B,Consolidation!$B253,Feuil4!$F:$F)","v":0},null,{"$f":"SUMIF(Feuil5!$B:$B,Consolidation!$B253,Feuil5!$F:$F)","v":0},null,0,0,{"$f":"SUMIF(Feuil1!$B:$B,Consolidation!$B253,Feuil1!$H:$H)","v":0},null,{"$f":"SUMIF(Feuil2!$B:$B,Consolidation!$B253,Feuil2!$H:$H)","v":0},null,{"$f":"SUMIF(Feuil3!$B:$B,Consolidation!$B253,Feuil3!$H:$H)","v":0},null,{"$f":"SUMIF(Feuil4!$B:$B,Consolidation!$B253,Feuil4!$H:$H)","v":0},null,{"$f":"SUMIF(Feuil5!$B:$B,Consolidation!$B253,Feuil5!$H:$H)","v":0},null,0,0,0]
["InsererLigne",4862,"Frais d'abattoir",{"$f":"SUMIF(Feuil1!$B:$B,Consolidation!$B254,Feuil1!$D:$D)","v":0},null,{"$f":"SUMIF(Feuil2!$B:$B,Consolidation!$B254,Feuil2!$D:$D)","v":0},null,{"$f":"SUMIF(Feuil3!$B:$B,Consolidation!$B254,Feuil3!$D:$D)","v":0},null,{"$f":"SUMIF(Feuil4!$B:$B,Consolidation!$B254,Feuil4!$D:$D)","v":0},null,{"$f":"SUMIF(Feuil5!$B:$B,Consolidation!$B254,Feuil5!$D:$D)","v":0},null,0,0,{"$f":"SUMIF(Feuil1!$B:$B,Consolidation!$B254,Feuil1!$F:$F)","v":0},null,{"$f":"SUMIF(Feuil2!$B:$B,Consolidation!$B254,Feuil2!$F:$F)","v":0},null,{"$f":"SUMIF(Feuil3!$B:$B,Consolidation!$B254,Feuil3!$F:$F)","v":0},null,{"$f":"SUMIF(Feuil4!$B:$B,Consolidation!$B254,Feuil4!$F:$F)","v":0},null,{"$f":"SUMIF(Feuil5!$B:$B,Consolidation!$B254,Feuil5!$F:$F)","v":0},null,0,0,{"$f":"SUMIF(Feuil1!$B:$B,Consolidation!$B254,Feuil1!$H:$H)","v":0},null,{"$f":"SUMIF(Feuil2!$B:$B,Consolidation!$B254,Feuil2!$H:$H)","v":0},null,{"$f":"SUMIF(Feuil3!$B:$B,Consolidation!$B254,Feuil3!$H:$H)","v":0},null,{"$f":"SUMIF(Feuil4!$B:$B,Consolidation!$B254,Feuil4!$H:$H)","v":0},null,{"$f":"SUMIF(Feuil5!$B:$B,Consolidation!$B254,Feuil5!$H:$H)","v":0},null,0,0,0]
["InsererLigne",4890,"Autres dépenses pour les ateliers                                                  ",{"$f":"SUMIF(Feuil1!$B:$B,Consolidation!$B255,Feuil1!$D:$D)","v":0},null,{"$f":"SUMIF(Feuil2!$B:$B,Consolidation!$B255,Feuil2!$D:$D)","v":0},null,{"$f":"SUMIF(Feuil3!$B:$B,Consolidation!$B255,Feuil3!$D:$D)","v":0},null,{"$f":"SUMIF(Feuil4!$B:$B,Consolidation!$B255,Feuil4!$D:$D)","v":0},null,{"$f":"SUMIF(Feuil5!$B:$B,Consolidation!$B255,Feuil5!$D:$D)","v":0},null,0,0,{"$f":"SUMIF(Feuil1!$B:$B,Consolidation!$B255,Feuil1!$F:$F)","v":0},null,{"$f":"SUMIF(Feuil2!$B:$B,Consolidation!$B255,Feuil2!$F:$F)","v":0},null,{"$f":"SUMIF(Feuil3!$B:$B,Consolidation!$B255,Feuil3!$F:$F)","v":0},null,{"$f":"SUMIF(Feuil4!$B:$B,Consolidation!$B255,Feuil4!$F:$F)","v":0},null,{"$f":"SUMIF(Feuil5!$B:$B,Consolidation!$B255,Feuil5!$F:$F)","v":0},null,0,0,{"$f":"SUMIF(Feuil1!$B:$B,Consolidation!$B255,Feuil1!$H:$H)","v":0},null,{"$f":"SUMIF(Feuil2!$B:$B,Consolidation!$B255,Feuil2!$H:$H)","v":0},null,{"$f":"SUMIF(Feuil3!$B:$B,Consolidation!$B255,Feuil3!$H:$H)","v":0},null,{"$f":"SUMIF(Feuil4!$B:$B,Consolidation!$B255,Feuil4!$H:$H)","v":0},null,{"$f":"SUMIF(Feuil5!$B:$B,Consolidation!$B255,Feuil5!$H:$H)","v":0},null,0,0,0]
["InsererLigne",null,null,null,null,null,null,null,null,null,null,null,null,null,null,null,null,null,null,null,null,null,null,null,null,null,null,null,null,null,null,null,null,null,null,null,null,null,null,0]
[null,49,"Autres charges d'exploitation",{"$f":"SUBTOTAL(9,D258:D276)","v":0},{"$f":"IF($E$5>0,D257/$E$5,0)","v":0},{"$f":"SUBTOTAL(9,F258:F276)","v":0},{"$f":"IF($G$5>0,F257/$G$5,0)","v":0},{"$f":"SUBTOTAL(9,H258:H276)","v":0},{"$f":"IF($I$5>0,H257/$I$5,0)","v":0},{"$f":"SUBTOTAL(9,J258:J276)","v":0},{"$f":"IF($K$5>0,J257/$K$5,0)","v":0},{"$f":"SUBTOTAL(9,L258:L276)","v":0},{"$f":"IF($M$5>0,L257/$M$5,0)","v":0},{"$f":"D257+F257+H257+J257+L257","v":0},{"$f":"E257+G257+I257+K257+M257","v":0},{"$f":"SUBTOTAL(9,P258:P276)","v":0},{"$f":"IF($Q$5>0,P257/$Q$5,0)","v":0},{"$f":"SUBTOTAL(9,R258:R276)","v":0},{"$f":"IF($S$5>0,R257/$S$5,0)","v":0},{"$f":"SUBTOTAL(9,T258:T276)","v":0},{"$f":"IF($U$5>0,T257/$U$5,0)","v":0},{"$f":"SUBTOTAL(9,V258:V276)","v":0},{"$f":"IF($W$5>0,V257/$W$5,0)","v":0},{"$f":"SUBTOTAL(9,X258:X276)","v":0},{"$f":"IF($Y$5>0,X257/$Y$5,0)","v":0},{"$f":"P257+R257+T257+V257+X257","v":0},{"$f":"Q257+S257+U257+W257+Y257","v":0},{"$f":"SUBTOTAL(9,AB258:AB276)","v":0},{"$f":"IF($AC$5>0,AB257/$AC$5,0)","v":0},{"$f":"SUBTOTAL(9,AD258:AD276)","v":0},{"$f":"IF($AE$5>0,AD257/$AE$5,0)","v":0},{"$f":"SUBTOTAL(9,AF258:AF276)","v":0},{"$f":"IF($AG$5>0,AF257/$AG$5,0)","v":0},{"$f":"SUBTOTAL(9,AH258:AH276)","v":0},{"$f":"IF($AI$5>0,AH257/$AI$5,0)","v":0},{"$f":"SUBTOTAL(9,AJ258:AJ276)","v":0},{"$f":"IF($AK$5>0,AJ257/$AK$5,0)","v":0},{"$f":"AB257+AD257+AF257+AH257+AJ257","v":0},{"$f":"AC257+AE257+AG257+AI257+AK257","v":0},0]
[null,4900,"Primes assurances chose et responsabilité civile                                                  ",{"$f":"SUMIF(Feuil1!$B:$B,Consolidation!$B258,Feuil1!$D:$D)","v":0},null,{"$f":"SUMIF(Feuil2!$B:$B,Consolidation!$B258,Feuil2!$D:$D)","v":0},null,{"$f":"SUMIF(Feuil3!$B:$B,Consolidation!$B258,Feuil3!$D:$D)","v":0},null,{"$f":"SUMIF(Feuil4!$B:$B,Consolidation!$B258,Feuil4!$D:$D)","v":0},null,{"$f":"SUMIF(Feuil5!$B:$B,Consolidation!$B258,Feuil5!$D:$D)","v":0},null,{"$f":"D258+F258+H258+J258+L258","v":0},{"$f":"E258+G258+I258+K258+M258","v":0},{"$f":"SUMIF(Feuil1!$B:$B,Consolidation!$B258,Feuil1!$F:$F)","v":0},null,{"$f":"SUMIF(Feuil2!$B:$B,Consolidation!$B258,Feuil2!$F:$F)","v":0},null,{"$f":"SUMIF(Feuil3!$B:$B,Consolidation!$B258,Feuil3!$F:$F)","v":0},null,{"$f":"SUMIF(Feuil4!$B:$B,Consolidation!$B258,Feuil4!$F:$F)","v":0},null,{"$f":"SUMIF(Feuil5!$B:$B,Consolidation!$B258,Feuil5!$F:$F)","v":0},null,{"$f":"P258+R258+T258+V258+X258","v":0},{"$f":"Q258+S258+U258+W258+Y258","v":0},{"$f":"SUMIF(Feuil1!$B:$B,Consolidation!$B258,Feuil1!$H:$H)","v":0},null,{"$f":"SUMIF(Feuil2!$B:$B,Consolidation!$B258,Feuil2!$H:$H)","v":0},null,{"$f":"SUMIF(Feuil3!$B:$B,Consolidation!$B258,Feuil3!$H:$H)","v":0},null,{"$f":"SUMIF(Feuil4!$B:$B,Consolidation!$B258,Feuil4!$H:$H)","v":0},null,{"$f":"SUMIF(Feuil5!$B:$B,Consolidation!$B258,Feuil5!$H:$H)","v":0},null,{"$f":"AB258+AD258+AF258+AH258+AJ258","v":0},{"$f":"AC258+AE258+AG258+AI258+AK258","v":0},0]
["InsererLigne",4901,"Assurance contre les accidents pour les personnes prises en charge",{"$f":"SUMIF(Feuil1!$B:$B,Consolidation!$B259,Feuil1!$D:$D)","v":0},null,{"$f":"SUMIF(Feuil2!$B:$B,Consolidation!$B259,Feuil2!$D:$D)","v":0},null,{"$f":"SUMIF(Feuil3!$B:$B,Consolidation!$B259,Feuil3!$D:$D)","v":0},null,{"$f":"SUMIF(Feuil4!$B:$B,Consolidation!$B259,Feuil4!$D:$D)","v":0},null,{"$f":"SUMIF(Feuil5!$B:$B,Consolidation!$B259,Feuil5!$D:$D)","v":0},null,0,0,{"$f":"SUMIF(Feuil1!$B:$B,Consolidation!$B259,Feuil1!$F:$F)","v":0},null,{"$f":"SUMIF(Feuil2!$B:$B,Consolidation!$B259,Feuil2!$F:$F)","v":0},null,{"$f":"SUMIF(Feuil3!$B:$B,Consolidation!$B259,Feuil3!$F:$F)","v":0},null,{"$f":"SUMIF(Feuil4!$B:$B,Consolidation!$B259,Feuil4!$F:$F)","v":0},null,{"$f":"SUMIF(Feuil5!$B:$B,Consolidation!$B259,Feuil5!$F:$F)","v":0},null,0,0,{"$f":"SUMIF(Feuil1!$B:$B,Consolidation!$B259,Feuil1!$H:$H)","v":0},null,{"$f":"SUMIF(Feuil2!$B:$B,Consolidation!$B259,Feuil2!$H:$H)","v":0},null,{"$f":"SUMIF(Feuil3!$B:$B,Consolidation!$B259,Feuil3!$H:$H)","v":0},null,{"$f":"SUMIF(Feuil4!$B:$B,Consolidation!$B259,Feuil4!$H:$H)","v":0},null,{"$f":"SUMIF(Feuil5!$B:$B,Consolidation!$B259,Feuil5!$H:$H)","v":0},null,0,0,0]
["InsererLigne",4902,"Assurance juridique",{"$f":"SUMIF(Feuil1!$B:$B,Consolidation!$B260,Feuil1!$D:$D)","v":0},null,{"$f":"SUMIF(Feuil2!$B:$B,Consolidation!$B260,Feuil2!$D:$D)","v":0},null,{"$f":"SUMIF(Feuil3!$B:$B,Consolidation!$B260,Feuil3!$D:$D)","v":0},null,{"$f":"SUMIF(Feuil4!$B:$B,Consolidation!$B260,Feuil4!$D:$D)","v":0},null,{"$f":"SUMIF(Feuil5!$B:$B,Consolidation!$B260,Feuil5!$D:$D)","v":0},null,0,0,{"$f":"SUMIF(Feuil1!$B:$B,Consolidation!$B260,Feuil1!$F:$F)","v":0},null,{"$f":"SUMIF(Feuil2!$B:$B,Consolidation!$B260,Feuil2!$F:$F)","v":0},null,{"$f":"SUMIF(Feuil3!$B:$B,Consolidation!$B260,Feuil3!$F:$F)","v":0},null,{"$f":"SUMIF(Feuil4!$B:$B,Consolidation!$B260,Feuil4!$F:$F)","v":0},null,{"$f":"SUMIF(Feuil5!$B:$B,Consolidation!$B260,Feuil5!$F:$F)","v":0},null,0,0,{"$f":"SUMIF(Feuil1!$B:$B,Consolidation!$B260,Feuil1!$H:$H)","v":0},null,{"$f":"SUMIF(Feuil2!$B:$B,Consolidation!$B260,Feuil2!$H:$H)","v":0},null,{"$f":"SUMIF(Feuil3!$B:$B,Consolidation!$B260,Feuil3!$H:$H)","v":0},null,{"$f":"SUMIF(Feuil4!$B:$B,Consolidation!$B260,Feuil4!$H:$H)","v":0},null,{"$f":"SUMIF(Feuil5!$B:$B,Consolidation!$B260,Feuil5!$H:$H)","v":0},null,0,0,0]
["InsererLigne",4904,"Assurance mobilier et machines                                                  ",{"$f":"SUMIF(Feuil1!$B:$B,Consolidation!$B261,Feuil1!$D:$D)","v":0},null,{"$f":"SUMIF(Feuil2!$B:$B,Consolidation!$B261,Feuil2!$D:$D)","v":0},null,{"$f":"SUMIF(Feuil3!$B:$B,Consolidation!$B261,Feuil3!$D:$D)","v":0},null,{"$f":"SUMIF(Feuil4!$B:$B,Consolidation!$B261,Feuil4!$D:$D)","v":0},null,{"$f":"SUMIF(Feuil5!$B:$B,Consolidation!$B261,Feuil5!$D:$D)","v":0},null,0,0,{"$f":"SUMIF(Feuil1!$B:$B,Consolidation!$B261,Feuil1!$F:$F)","v":0},null,{"$f":"SUMIF(Feuil2!$B:$B,Consolidation!$B261,Feuil2!$F:$F)","v":0},null,{"$f":"SUMIF(Feuil3!$B:$B,Consolidation!$B261,Feuil3!$F:$F)","v":0},null,{"$f":"SUMIF(Feuil4!$B:$B,Consolidation!$B261,Feuil4!$F:$F)","v":0},null,{"$f":"SUMIF(Feuil5!$B:$B,Consolidation!$B261,Feuil5!$F:$F)","v":0},null,0,0,{"$f":"SUMIF(Feuil1!$B:$B,Consolidation!$B261,Feuil1!$H:$H)","v":0},null,{"$f":"SUMIF(Feuil2!$B:$B,Consolidation!$B261,Feuil2!$H:$H)","v":0},null,{"$f":"SUMIF(Feuil3!$B:$B,Consolidation!$B261,Feuil3!$H:$H)","v":0},null,{"$f":"SUMIF(Feuil4!$B:$B,Consolidation!$B261,Feuil4!$H:$H)","v":0},null,{"$f":"SUMIF(Feuil5!$B:$B,Consolidation!$B261,Feuil5!$H:$H)","v":0},null,0,0,0]
["InsererLigne",4905,"Assurance incendie immeubles (ECAP)  et dégâts d'eau",{"$f":"SUMIF(Feuil1!$B:$B,Consolidation!$B262,Feuil1!$D:$D)","v":0},null,{"$f":"SUMIF(Feuil2!$B:$B,Consolidation!$B262,Feuil2!$D:$D)","v":0},null,{"$f":"SUMIF(Feuil3!$B:$B,Consolidation!$B262,Feuil3!$D:$D)","v":0},null,{"$f":"SUMIF(Feuil4!$B:$B,Consolidation!$B262,Feuil4!$D:$D)","v":0},null,{"$f":"SUMIF(Feuil5!$B:$B,Consolidation!$B262,Feuil5!$D:$D)","v":0},null,0,0,{"$f":"SUMIF(Feuil1!$B:$B,Consolidation!$B262,Feuil1!$F:$F)","v":0},null,{"$f":"SUMIF(Feuil2!$B:$B,Consolidation!$B262,Feuil2!$F:$F)","v":0},null,{"$f":"SUMIF(Feuil3!$B:$B,Consolidation!$B262,Feuil3!$F:$F)","v":0},null,{"$f":"SUMIF(Feuil4!$B:$B,Consolidation!$B262,Feuil4!$F:$F)","v":0},null,{"$f":"SUMIF(Feuil5!$B:$B,Consolidation!$B262,Feuil5!$F:$F)","v":0},null,0,0,{"$f":"SUMIF(Feuil1!$B:$B,Consolidation!$B262,Feuil1!$H:$H)","v":0},null,{"$f":"SUMIF(Feuil2!$B:$B,Consolidation!$B262,Feuil2!$H:$H)","v":0},null,{"$f":"SUMIF(Feuil3!$B:$B,Consolidation!$B262,Feuil3!$H:$H)","v":0},null,{"$f":"SUMIF(Feuil4!$B:$B,Consolidation!$B262,Feuil4!$H:$H)","v":0},null,{"$f":"SUMIF(Feuil5!$B:$B,Consolidation!$B262,Feuil5!$H:$H)","v":0},null,0,0,0]
["InsererLigne",4906,"Assurance véhicules                                                  ",{"$f":"SUMIF(Feuil1!$B:$B,Consolidation!$B263,Feuil1!$D:$D)","v":0},null,{"$f":"SUMIF(Feuil2!$B:$B,Consolidation!$B263,Feuil2!$D:$D)","v":0},null,{"$f":"SUMIF(Feuil3!$B:$B,Consolidation!$B263,Feuil3!$D:$D)","v":0},null,{"$f":"SUMIF(Feuil4!$B:$B,Consolidation!$B263,Feuil4!$D:$D)","v":0},null,{"$f":"SUMIF(Feuil5!$B:$B,Consolidation!$B263,Feuil5!$D:$D)","v":0},null,0,0,{"$f":"SUMIF(Feuil1!$B:$B,Consolidation!$B263,Feuil1!$F:$F)","v":0},null,{"$f":"SUMIF(Feuil2!$B:$B,Consolidation!$B263,Feuil2!$F:$F)","v":0},null,{"$f":"SUMIF(Feuil3!$B:$B,Consolidation!$B263,Feuil3!$F:$F)","v":0},null,{"$f":"SUMIF(Feuil4!$B:$B,Consolidation!$B263,Feuil4!$F:$F)","v":0},null,{"$f":"SUMIF(Feuil5!$B:$B,Consolidation!$B263,Feuil5!$F:$F)","v":0},null,0,0,{"$f":"SUMIF(Feuil1!$B:$B,Consolidation!$B263,Feuil1!$H:$H)","v":0},null,{"$f":"SUMIF(Feuil2!$B:$B,Consolidation!$B263,Feuil2!$H:$H)","v":0},null,{"$f":"SUMIF(Feuil3!$B:$B,Consolidation!$B263,Feuil3!$H:$H)","v":0},null,{"$f":"SUMIF(Feuil4!$B:$B,Consolidation!$B263,Feuil4!$H:$H)","v":0},null,{"$f":"SUMIF(Feuil5!$B:$B,Consolidation!$B263,Feuil5!$H:$H)","v":0},null,0,0,{"$f":"SUM(D263:AM263)","v":0}]
["InsererLigne",4910,"Taxes et redevances (véhicules, incendie, Billag,…)",{"$f":"SUMIF(Feuil1!$B:$B,Consolidation!$B264,Feuil1!$D:$D)","v":0},null,{"$f":"SUMIF(Feuil2!$B:$B,Consolidation!$B264,Feuil2!$D:$D)","v":0},null,{"$f":"SUMIF(Feuil3!$B:$B,Consolidation!$B264,Feuil3!$D:$D)","v":0},null,{"$f":"SUMIF(Feuil4!$B:$B,Consolidation!$B264,Feuil4!$D:$D)","v":0},null,{"$f":"SUMIF(Feuil5!$B:$B,Consolidation!$B264,Feuil5!$D:$D)","v":0},null,0,0,{"$f":"SUMIF(Feuil1!$B:$B,Consolidation!$B264,Feuil1!$F:$F)","v":0},null,{"$f":"SUMIF(Feuil2!$B:$B,Consolidation!$B264,Feuil2!$F:$F)","v":0},null,{"$f":"SUMIF(Feuil3!$B:$B,Consolidation!$B264,Feuil3!$F:$F)","v":0},null,{"$f":"SUMIF(Feuil4!$B:$B,Consolidation!$B264,Feuil4!$F:$F)","v":0},null,{"$f":"SUMIF(Feuil5!$B:$B,Consolidation!$B264,Feuil5!$F:$F)","v":0},null,0,0,{"$f":"SUMIF(Feuil1!$B:$B,Consolidation!$B264,Feuil1!$H:$H)","v":0},null,{"$f":"SUMIF(Feuil2!$B:$B,Consolidation!$B264,Feuil2!$H:$H)","v":0},null,{"$f":"SUMIF(Feuil3!$B:$B,Consolidation!$B264,Feuil3!$H:$H)","v":0},null,{"$f":"SUMIF(Feuil4!$B:$B,Consolidation!$B264,Feuil4!$H:$H)","v":0},null,{"$f":"SUMIF(Feuil5!$B:$B,Consolidation!$B264,Feuil5!$H:$H)","v":0},null,0,0,0]
["InsererLigne",4920,"Taxes d'élimination des déchets et eaux usées",{"$f":"SUMIF(Feuil1!$B:$B,Consolidation!$B265,Feuil1!$D:$D)","v":0},null,{"$f":"SUMIF(Feuil2!$B:$B,Consolidation!$B265,Feuil2!$D:$D)","v":0},null,{"$f":"SUMIF(Feuil3!$B:$B,Consolidation!$B265,Feuil3!$D:$D)","v":0},null,{"$f":"SUMIF(Feuil4!$B:$B,Consolidation!$B265,Feuil4!$D:$D)","v":0},null,{"$f":"SUMIF(Feuil5!$B:$B,Consolidation!$B265,Feuil5!$D:$D)","v":0},null,0,0,{"$f":"SUMIF(Feuil1!$B:$B,Consolidation!$B265,Feuil1!$F:$F)","v":0},null,{"$f":"SUMIF(Feuil2!$B:$B,Consolidation!$B265,Feuil2!$F:$F)","v":0},null,{"$f":"SUMIF(Feuil3!$B:$B,Consolidation!$B265,Feuil3!$F:$F)","v":0},null,{"$f":"SUMIF(Feuil4!$B:$B,Consolidation!$B265,Feuil4!$F:$F)","v":0},null,{"$f":"SUMIF(Feuil5!$B:$B,Consolidation!$B265,Feuil5!$F:$F)","v":0},null,0,0,{"$f":"SUMIF(Feuil1!$B:$B,Consolidation!$B265,Feuil1!$H:$H)","v":0},null,{"$f":"SUMIF(Feuil2!$B:$B,Consolidation!$B265,Feuil2!$H:$H)","v":0},null,{"$f":"SUMIF(Feuil3!$B:$B,Consolidation!$B265,Feuil3!$H:$H)","v":0},null,{"$f":"SUMIF(Feuil4!$B:$B,Consolidation!$B265,Feuil4!$H:$H)","v":0},null,{"$f":"SUMIF(Feuil5!$B:$B,Consolidation!$B265,Feuil5!$H:$H)","v":0},null,0,0,0]
["InsererLigne",4950,"Débours pour les personnes accompagnées                                                  ",{"$f":"SUMIF(Feuil1!$B:$B,Consolidation!$B266,Feuil1!$D:$D)","v":0},null,{"$f":"SUMIF(Feuil2!$B:$B,Consolidation!$B266,Feuil2!$D:$D)","v":0},null,{"$f":"SUMIF(Feuil3!$B:$B,Consolidation!$B266,Feuil3!$D:$D)","v":0},null,{"$f":"SUMIF(Feuil4!$B:$B,Consolidation!$B266,Feuil4!$D:$D)","v":0},null,{"$f":"SUMIF(Feuil5!$B:$B,Consolidation!$B266,Feuil5!$D:$D)","v":0},null,0,0,{"$f":"SUMIF(Feuil1!$B:$B,Consolidation!$B266,Feuil1!$F:$F)","v":0},null,{"$f":"SUMIF(Feuil2!$B:$B,Consolidation!$B266,Feuil2!$F:$F)","v":0},null,{"$f":"SUMIF(Feuil3!$B:$B,Consolidation!$B266,Feuil3!$F:$F)","v":0},null,{"$f":"SUMIF(Feuil4!$B:$B,Consolidation!$B266,Feuil4!$F:$F)","v":0},null,{"$f":"SUMIF(Feuil5!$B:$B,Consolidation!$B266,Feuil5!$F:$F)","v":0},null,0,0,{"$f":"SUMIF(Feuil1!$B:$B,Consolidation!$B266,Feuil1!$H:$H)","v":0},null,{"$f":"SUMIF(Feuil2!$B:$B,Consolidation!$B266,Feuil2!$H:$H)","v":0},null,{"$f":"SUMIF(Feuil3!$B:$B,Consolidation!$B266,Feuil3!$H:$H)","v":0},null,{"$f":"SUMIF(Feuil4!$B:$B,Consolidation!$B266,Feuil4!$H:$H)","v":0},null,{"$f":"SUMIF(Feuil5!$B:$B,Consolidation!$B266,Feuil5!$H:$H)","v":0},null,0,0,0]
["InsererLigne",4951,"Transport d'élèves",{"$f":"SUMIF(Feuil1!$B:$B,Consolidation!$B267,Feuil1!$D:$D)","v":0},null,{"$f":"SUMIF(Feuil2!$B:$B,Consolidation!$B267,Feuil2!$D:$D)","v":0},null,{"$f":"SUMIF(Feuil3!$B:$B,Consolidation!$B267,Feuil3!$D:$D)","v":0},null,{"$f":"SUMIF(Feuil4!$B:$B,Consolidation!$B267,Feuil4!$D:$D)","v":0},null,{"$f":"SUMIF(Feuil5!$B:$B,Consolidation!$B267,Feuil5!$D:$D)","v":0},null,0,0,{"$f":"SUMIF(Feuil1!$B:$B,Consolidation!$B267,Feuil1!$F:$F)","v":0},null,{"$f":"SUMIF(Feuil2!$B:$B,Consolidation!$B267,Feuil2!$F:$F)","v":0},null,{"$f":"SUMIF(Feuil3!$B:$B,Consolidation!$B267,Feuil3!$F:$F)","v":0},null,{"$f":"SUMIF(Feuil4!$B:$B,Consolidation!$B267,Feuil4!$F:$F)","v":0},null,{"$f":"SUMIF(Feuil5!$B:$B,Consolidation!$B267,Feuil5!$F:$F)","v":0},null,0,0,{"$f":"SUMIF(Feuil1!$B:$B,Consolidation!$B267,Feuil1!$H:$H)","v":0},null,{"$f":"SUMIF(Feuil2!$B:$B,Consolidation!$B267,Feuil2!$H:$H)","v":0},null,{"$f":"SUMIF(Feuil3!$B:$B,Consolidation!$B267,Feuil3!$H:$H)","v":0},null,{"$f":"SUMIF(Feuil4!$B:$B,Consolidation!$B267,Feuil4!$H:$H)","v":0},null,{"$f":"SUMIF(Feuil5!$B:$B,Consolidation!$B267,Feuil5!$H:$H)","v":0},null,0,0,0]
["InsererLigne",4952,"Transport d'usagers",{"$f":"SUMIF(Feuil1!$B:$B,Consolidation!$B268,Feuil1!$D:$D)","v":0},null,{"$f":"SUMIF(Feuil2!$B:$B,Consolidation!$B268,Feuil2!$D:$D)","v":0},null,{"$f":"SUMIF(Feuil3!$B:$B,Consolidation!$B268,Feuil3!$D:$D)","v":0},null,{"$f":"SUMIF(Feuil4!$B:$B,Consolidation!$B268,Feuil4!$D:$D)","v":0},null,{"$f":"SUMIF(Feuil5!$B:$B,Consolidation!$B268,Feuil5!$D:$D)","v":0},null,0,0,{"$f":"SUMIF(Feuil1!$B:$B,Consolidation!$B268,Feuil1!$F:$F)","v":0},null,{"$f":"SUMIF(Feuil2!$B:$B,Consolidation!$B268,Feuil2!$F:$F)","v":0},null,{"$f":"SUMIF(Feuil3!$B:$B,Consolidation!$B268,Feuil3!$F:$F)","v":0},null,{"$f":"SUMIF(Feuil4!$B:$B,Consolidation!$B268,Feuil4!$F:$F)","v":0},null,{"$f":"SUMIF(Feuil5!$B:$B,Consolidation!$B268,Feuil5!$F:$F)","v":0},null,0,0,{"$f":"SUMIF(Feuil1!$B:$B,Consolidation!$B268,Feuil1!$H:$H)","v":0},null,{"$f":"SUMIF(Feuil2!$B:$B,Consolidation!$B268,Feuil2!$H:$H)","v":0},null,{"$f":"SUMIF(Feuil3!$B:$B,Consolidation!$B268,Feuil3!$H:$H)","v":0},null,{"$f":"SUMIF(Feuil4!$B:$B,Consolidation!$B268,Feuil4!$H:$H)","v":0},null,{"$f":"SUMIF(Feuil5!$B:$B,Consolidation!$B268,Feuil5!$H:$H)","v":0},null,0,0,0]
["InsererLigne",4953,"Repas non pris",{"$f":"SUMIF(Feuil1!$B:$B,Consolidation!$B269,Feuil1!$D:$D)","v":0},null,{"$f":"SUMIF(Feuil2!$B:$B,Consolidation!$B269,Feuil2!$D:$D)","v":0},null,{"$f":"SUMIF(Feuil3!$B:$B,Consolidation!$B269,Feuil3!$D:$D)","v":0},null,{"$f":"SUMIF(Feuil4!$B:$B,Consolidation!$B269,Feuil4!$D:$D)","v":0},null,{"$f":"SUMIF(Feuil5!$B:$B,Consolidation!$B269,Feuil5!$D:$D)","v":0},null,0,0,{"$f":"SUMIF(Feuil1!$B:$B,Consolidation!$B269,Feuil1!$F:$F)","v":0},null,{"$f":"SUMIF(Feuil2!$B:$B,Consolidation!$B269,Feuil2!$F:$F)","v":0},null,{"$f":"SUMIF(Feuil3!$B:$B,Consolidation!$B269,Feuil3!$F:$F)","v":0},null,{"$f":"SUMIF(Feuil4!$B:$B,Consolidation!$B269,Feuil4!$F:$F)","v":0},null,{"$f":"SUMIF(Feuil5!$B:$B,Consolidation!$B269,Feuil5!$F:$F)","v":0},null,0,0,{"$f":"SUMIF(Feuil1!$B:$B,Consolidation!$B269,Feuil1!$H:$H)","v":0},null,{"$f":"SUMIF(Feuil2!$B:$B,Consolidation!$B269,Feuil2!$H:$H)","v":0},null,{"$f":"SUMIF(Feuil3!$B:$B,Consolidation!$B269,Feuil3!$H:$H)","v":0},null,{"$f":"SUMIF(Feuil4!$B:$B,Consolidation!$B269,Feuil4!$H:$H)","v":0},null,{"$f":"SUMIF(Feuil5!$B:$B,Consolidation!$B269,Feuil5!$H:$H)","v":0},null,0,0,0]
["InsererLigne",4954,"Cadeaux de Noël, aide aux pensionnaires                                                  ",{"$f":"SUMIF(Feuil1!$B:$B,Consolidation!$B270,Feuil1!$D:$D)","v":0},null,{"$f":"SUMIF(Feuil2!$B:$B,Consolidation!$B270,Feuil2!$D:$D)","v":0},null,{"$f":"SUMIF(Feuil3!$B:$B,Consolidation!$B270,Feuil3!$D:$D)","v":0},null,{"$f":"SUMIF(Feuil4!$B:$B,Consolidation!$B270,Feuil4!$D:$D)","v":0},null,{"$f":"SUMIF(Feuil5!$B:$B,Consolidation!$B270,Feuil5!$D:$D)","v":0},null,0,0,{"$f":"SUMIF(Feuil1!$B:$B,Consolidation!$B270,Feuil1!$F:$F)","v":0},null,{"$f":"SUMIF(Feuil2!$B:$B,Consolidation!$B270,Feuil2!$F:$F)","v":0},null,{"$f":"SUMIF(Feuil3!$B:$B,Consolidation!$B270,Feuil3!$F:$F)","v":0},null,{"$f":"SUMIF(Feuil4!$B:$B,Consolidation!$B270,Feuil4!$F:$F)","v":0},null,{"$f":"SUMIF(Feuil5!$B:$B,Consolidation!$B270,Feuil5!$F:$F)","v":0},null,0,0,{"$f":"SUMIF(Feuil1!$B:$B,Consolidation!$B270,Feuil1!$H:$H)","v":0},null,{"$f":"SUMIF(Feuil2!$B:$B,Consolidation!$B270,Feuil2!$H:$H)","v":0},null,{"$f":"SUMIF(Feuil3!$B:$B,Consolidation!$B270,Feuil3!$H:$H)","v":0},null,{"$f":"SUMIF(Feuil4!$B:$B,Consolidation!$B270,Feuil4!$H:$H)","v":0},null,{"$f":"SUMIF(Feuil5!$B:$B,Consolidation!$B270,Feuil5!$H:$H)","v":0},null,0,0,0]
["InsererLigne",4955,"Frais d'aumônerie",{"$f":"SUMIF(Feuil1!$B:$B,Consolidation!$B271,Feuil1!$D:$D)","v":0},null,{"$f":"SUMIF(Feuil2!$B:$B,Consolidation!$B271,Feuil2!$D:$D)","v":0},null,{"$f":"SUMIF(Feuil3!$B:$B,Consolidation!$B271,Feuil3!$D:$D)","v":0},null,{"$f":"SUMIF(Feuil4!$B:$B,Consolidation!$B271,Feuil4!$D:$D)","v":0},null,{"$f":"SUMIF(Feuil5!$B:$B,Consolidation!$B271,Feuil5!$D:$D)","v":0},null,0,0,{"$f":"SUMIF(Feuil1!$B:$B,Consolidation!$B271,Feuil1!$F:$F)","v":0},null,{"$f":"SUMIF(Feuil2!$B:$B,Consolidation!$B271,Feuil2!$F:$F)","v":0},null,{"$f":"SUMIF(Feuil3!$B:$B,Consolidation!$B271,Feuil3!$F:$F)","v":0},null,{"$f":"SUMIF(Feuil4!$B:$B,Consolidation!$B271,Feuil4!$F:$F)","v":0},null,{"$f":"SUMIF(Feuil5!$B:$B,Consolidation!$B271,Feuil5!$F:$F)","v":0},null,0,0,{"$f":"SUMIF(Feuil1!$B:$B,Consolidation!$B271,Feuil1!$H:$H)","v":0},null,{"$f":"SUMIF(Feuil2!$B:$B,Consolidation!$B271,Feuil2!$H:$H)","v":0},null,{"$f":"SUMIF(Feuil3!$B:$B,Consolidation!$B271,Feuil3!$H:$H)","v":0},null,{"$f":"SUMIF(Feuil4!$B:$B,Consolidation!$B271,Feuil4!$H:$H)","v":0},null,{"$f":"SUMIF(Feuil5!$B:$B,Consolidation!$B271,Feuil5!$H:$H)","v":0},null,0,0,0]
["InsererLigne",4990,"Autres charges d'exploitation                                                  ",{"$f":"SUMIF(Feuil1!$B:$B,Consolidation!$B272,Feuil1!$D:$D)","v":0},null,{"$f":"SUMIF(Feuil2!$B:$B,Consolidation!$B272,Feuil2!$D:$D)","v":0},null,{"$f":"SUMIF(Feuil3!$B:$B,Consolidation!$B272,Feuil3!$D:$D)","v":0},null,{"$f":"SUMIF(Feuil4!$B:$B,Consolidation!$B272,Feuil4!$D:$D)","v":0},null,{"$f":"SUMIF(Feuil5!$B:$B,Consolidation!$B272,Feuil5!$D:$D)","v":0},null,0,0,{"$f":"SUMIF(Feuil1!$B:$B,Consolidation!$B272,Feuil1!$F:$F)","v":0},null,{"$f":"SUMIF(Feuil2!$B:$B,Consolidation!$B272,Feuil2!$F:$F)","v":0},null,{"$f":"SUMIF(Feuil3!$B:$B,Consolidation!$B272,Feuil3!$F:$F)","v":0},null,{"$f":"SUMIF(Feuil4!$B:$B,Consolidation!$B272,Feuil4!$F:$F)","v":0},null,{"$f":"SUMIF(Feuil5!$B:$B,Consolidation!$B272,Feuil5!$F:$F)","v":0},null,0,0,{"$f":"SUMIF(Feuil1!$B:$B,Consolidation!$B272,Feuil1!$H:$H)","v":0},null,{"$f":"SUMIF(Feuil2!$B:$B,Consolidation!$B272,Feuil2!$H:$H)","v":0},null,{"$f":"SUMIF(Feuil3!$B:$B,Consolidation!$B272,Feuil3!$H:$H)","v":0},null,{"$f":"SUMIF(Feuil4!$B:$B,Consolidation!$B272,Feuil4!$H:$H)","v":0},null,{"$f":"SUMIF(Feuil5!$B:$B,Consolidation!$B272,Feuil5!$H:$H)","v":0},null,0,0,0]
["InsererLigne",4991,"Frais mortuaires                                                  ",{"$f":"SUMIF(Feuil1!$B:$B,Consolidation!$B273,Feuil1!$D:$D)","v":0},null,{"$f":"SUMIF(Feuil2!$B:$B,Consolidation!$B273,Feuil2!$D:$D)","v":0},null,{"$f":"SUMIF(Feuil3!$B:$B,Consolidation!$B273,Feuil3!$D:$D)","v":0},null,{"$f":"SUMIF(Feuil4!$B:$B,Consolidation!$B273,Feuil4!$D:$D)","v":0},null,{"$f":"SUMIF(Feuil5!$B:$B,Consolidation!$B273,Feuil5!$D:$D)","v":0},null,0,0,{"$f":"SUMIF(Feuil1!$B:$B,Consolidation!$B273,Feuil1!$F:$F)","v":0},null,{"$f":"SUMIF(Feuil2!$B:$B,Consolidation!$B273,Feuil2!$F:$F)","v":0},null,{"$f":"SUMIF(Feuil3!$B:$B,Consolidation!$B273,Feuil3!$F:$F)","v":0},null,{"$f":"SUMIF(Feuil4!$B:$B,Consolidation!$B273,Feuil4!$F:$F)","v":0},null,{"$f":"SUMIF(Feuil5!$B:$B,Consolidation!$B273,Feuil5!$F:$F)","v":0},null,0,0,{"$f":"SUMIF(Feuil1!$B:$B,Consolidation!$B273,Feuil1!$H:$H)","v":0},null,{"$f":"SUMIF(Feuil2!$B:$B,Consolidation!$B273,Feuil2!$H:$H)","v":0},null,{"$f":"SUMIF(Feuil3!$B:$B,Consolidation!$B273,Feuil3!$H:$H)","v":0},null,{"$f":"SUMIF(Feuil4!$B:$B,Consolidation!$B273,Feuil4!$H:$H)","v":0},null,{"$f":"SUMIF(Feuil5!$B:$B,Consolidation!$B273,Feuil5!$H:$H)","v":0},null,0,0,0]
["InsererLigne",4992,"Matériel de décoration (Noël, plantes, fleurs,…)",{"$f":"SUMIF(Feuil1!$B:$B,Consolidation!$B274,Feuil1!$D:$D)","v":0},null,{"$f":"SUMIF(Feuil2!$B:$B,Consolidation!$B274,Feuil2!$D:$D)","v":0},null,{"$f":"SUMIF(Feuil3!$B:$B,Consolidation!$B274,Feuil3!$D:$D)","v":0},null,{"$f":"SUMIF(Feuil4!$B:$B,Consolidation!$B274,Feuil4!$D:$D)","v":0},null,{"$f":"SUMIF(Feuil5!$B:$B,Consolidation!$B274,Feuil5!$D:$D)","v":0},null,0,0,{"$f":"SUMIF(Feuil1!$B:$B,Consolidation!$B274,Feuil1!$F:$F)","v":0},null,{"$f":"SUMIF(Feuil2!$B:$B,Consolidation!$B274,Feuil2!$F:$F)","v":0},null,{"$f":"SUMIF(Feuil3!$B:$B,Consolidation!$B274,Feuil3!$F:$F)","v":0},null,{"$f":"SUMIF(Feuil4!$B:$B,Consolidation!$B274,Feuil4!$F:$F)","v":0},null,{"$f":"SUMIF(Feuil5!$B:$B,Consolidation!$B274,Feuil5!$F:$F)","v":0},null,0,0,{"$f":"SUMIF(Feuil1!$B:$B,Consolidation!$B274,Feuil1!$H:$H)","v":0},null,{"$f":"SUMIF(Feuil2!$B:$B,Consolidation!$B274,Feuil2!$H:$H)","v":0},null,{"$f":"SUMIF(Feuil3!$B:$B,Consolidation!$B274,Feuil3!$H:$H)","v":0},null,{"$f":"SUMIF(Feuil4!$B:$B,Consolidation!$B274,Feuil4!$H:$H)","v":0},null,{"$f":"SUMIF(Feuil5!$B:$B,Consolidation!$B274,Feuil5!$H:$H)","v":0},null,0,0,0]
["InsererLigne",4993,"Escomptes des fournisseurs",{"$f":"SUMIF(Feuil1!$B:$B,Consolidation!$B275,Feuil1!$D:$D)","v":0},null,{"$f":"SUMIF(Feuil2!$B:$B,Consolidation!$B275,Feuil2!$D:$D)","v":0},null,{"$f":"SUMIF(Feuil3!$B:$B,Consolidation!$B275,Feuil3!$D:$D)","v":0},null,{"$f":"SUMIF(Feuil4!$B:$B,Consolidation!$B275,Feuil4!$D:$D)","v":0},null,{"$f":"SUMIF(Feuil5!$B:$B,Consolidation!$B275,Feuil5!$D:$D)","v":0},null,0,0,{"$f":"SUMIF(Feuil1!$B:$B,Consolidation!$B275,Feuil1!$F:$F)","v":0},null,{"$f":"SUMIF(Feuil2!$B:$B,Consolidation!$B275,Feuil2!$F:$F)","v":0},null,{"$f":"SUMIF(Feuil3!$B:$B,Consolidation!$B275,Feuil3!$F:$F)","v":0},null,{"$f":"SUMIF(Feuil4!$B:$B,Consolidation!$B275,Feuil4!$F:$F)","v":0},null,{"$f":"SUMIF(Feuil5!$B:$B,Consolidation!$B275,Feuil5!$F:$F)","v":0},null,0,0,{"$f":"SUMIF(Feuil1!$B:$B,Consolidation!$B275,Feuil1!$H:$H)","v":0},null,{"$f":"SUMIF(Feuil2!$B:$B,Consolidation!$B275,Feuil2!$H:$H)","v":0},null,{"$f":"SUMIF(Feuil3!$B:$B,Consolidation!$B275,Feuil3!$H:$H)","v":0},null,{"$f":"SUMIF(Feuil4!$B:$B,Consolidation!$B275,Feuil4!$H:$H)","v":0},null,{"$f":"SUMIF(Feuil5!$B:$B,Consolidation!$B275,Feuil5!$H:$H)","v":0},null,0,0,0]
["InsererLigne",null,null,null,null,null,null,null,null,null,null,null,null,null,null,null,null,null,null,null,null,null,null,null,null,null,null,null,null,null,null,null,null,null,null,null,null,null,null,0]
[null,6,"PRODUITS D'EXPLOITATION",{"$f":"SUBTOTAL(9,D278:D404)","v":0},0,0,0,0,0,0,0,0,0,0,0,0,0,0,0,0,0,0,0,0,0,0,0,0,0,0,0,0,0,0,0,0,0,0,0,0]
[null,null,null,null,null,null,null,null,null,null,null,null,null,null,null,null,null,null,null,null,null,null,null,null,null,null,null,null,null,null,null,null,null,null,null,null,null,null,null,0]
[null,60,"Revenus proventant de la compensation des coûts intracantonale",{"$f":"SUBTOTAL(9,D280:D296)","v":0},{"$f":"IF($E$5>0,D279/$E$5,0)","v":0},{"$f":"SUBTOTAL(9,F280:F296)","v":0},{"$f":"IF($G$5>0,F279/$G$5,0)","v":0},{"$f":"SUBTOTAL(9,H280:H296)","v":0},{"$f":"IF($I$5>0,H279/$I$5,0)","v":0},{"$f":"SUBTOTAL(9,J280:J296)","v":0},{"$f":"IF($K$5>0,J279/$K$5,0)","v":0},{"$f":"SUBTOTAL(9,L280:L296)","v":0},{"$f":"IF($M$5>0,L279/$M$5,0)","v":0},{"$f":"D279+F279+H279+J279+L279","v":0},{"$f":"E279+G279+I279+K279+M279","v":0},{"$f":"SUBTOTAL(9,P280:P296)","v":0},{"$f":"IF($Q$5>0,P279/$Q$5,0)","v":0},{"$f":"SUBTOTAL(9,R280:R296)","v":0},{"$f":"IF($S$5>0,R279/$S$5,0)","v":0},{"$f":"SUBTOTAL(9,T280:T296)","v":0},{"$f":"IF($U$5>0,T279/$U$5,0)","v":0},{"$f":"SUBTOTAL(9,V280:V296)","v":0},{"$f":"IF($W$5>0,V279/$W$5,0)","v":0},{"$f":"SUBTOTAL(9,X280:X296)","v":0},{"$f":"IF($Y$5>0,X279/$Y$5,0)","v":0},{"$f":"P279+R279+T279+V279+X279","v":0},{"$f":"Q279+S279+U279+W279+Y279","v":0},{"$f":"SUBTOTAL(9,AB280:AB296)","v":0},{"$f":"IF($AC$5>0,AB279/$AC$5,0)","v":0},{"$f":"SUBTOTAL(9,AD280:AD296)","v":0},{"$f":"IF($AE$5>0,AD279/$AE$5,0)","v":0},{"$f":"SUBTOTAL(9,AF280:AF296)","v":0},{"$f":"IF($AG$5>0,AF279/$AG$5,0)","v":0},{"$f":"SUBTOTAL(9,AH280:AH296)","v":0},{"$f":"IF($AI$5>0,AH279/$AI$5,0)","v":0},{"$f":"SUBTOTAL(9,AJ280:AJ296)","v":0},{"$f":"IF($AK$5>0,AJ279/$AK$5,0)","v":0},{"$f":"AB279+AD279+AF279+AH279+AJ279","v":0},{"$f":"AC279+AE279+AG279+AI279+AK279","v":0},0]
[null,6000,"Contributions du canton répondant                                                  ",{"$f":"SUMIF(Feuil1!$B:$B,Consolidation!$B280,Feuil1!$D:$D)","v":0},null,{"$f":"SUMIF(Feuil2!$B:$B,Consolidation!$B280,Feuil2!$D:$D)","v":0},null,{"$f":"SUMIF(Feuil3!$B:$B,Consolidation!$B280,Feuil3!$D:$D)","v":0},null,{"$f":"SUMIF(Feuil4!$B:$B,Consolidation!$B280,Feuil4!$D:$D)","v":0},null,{"$f":"SUMIF(Feuil5!$B:$B,Consolidation!$B280,Feuil5!$D:$D)","v":0},null,{"$f":"D280+F280+H280+J280+L280","v":0},{"$f":"E280+G280+I280+K280+M280","v":0},{"$f":"SUMIF(Feuil1!$B:$B,Consolidation!$B280,Feuil1!$F:$F)","v":0},null,{"$f":"SUMIF(Feuil2!$B:$B,Consolidation!$B280,Feuil2!$F:$F)","v":0},null,{"$f":"SUMIF(Feuil3!$B:$B,Consolidation!$B280,Feuil3!$F:$F)","v":0},null,{"$f":"SUMIF(Feuil4!$B:$B,Consolidation!$B280,Feuil4!$F:$F)","v":0},null,{"$f":"SUMIF(Feuil5!$B:$B,Consolidation!$B280,Feuil5!$F:$F)","v":0},null,{"$f":"P280+R280+T280+V280+X280","v":0},{"$f":"Q280+S280+U280+W280+Y280","v":0},{"$f":"SUMIF(Feuil1!$B:$B,Consolidation!$B280,Feuil1!$H:$H)","v":0},null,{"$f":"SUMIF(Feuil2!$B:$B,Consolidation!$B280,Feuil2!$H:$H)","v":0},null,{"$f":"SUMIF(Feuil3!$B:$B,Consolidation!$B280,Feuil3!$H:$H)","v":0},null,{"$f":"SUMIF(Feuil4!$B:$B,Consolidation!$B280,Feuil4!$H:$H)","v":0},null,{"$f":"SUMIF(Feuil5!$B:$B,Consolidation!$B280,Feuil5!$H:$H)","v":0},null,{"$f":"AB280+AD280+AF280+AH280+AJ280","v":0},{"$f":"AC280+AE280+AG280+AI280+AK280","v":0},0]
["InsererLigne",6010,"Contributions des communes                                                  ",{"$f":"SUMIF(Feuil1!$B:$B,Consolidation!$B281,Feuil1!$D:$D)","v":0},null,{"$f":"SUMIF(Feuil2!$B:$B,Consolidation!$B281,Feuil2!$D:$D)","v":0},null,{"$f":"SUMIF(Feuil3!$B:$B,Consolidation!$B281,Feuil3!$D:$D)","v":0},null,{"$f":"SUMIF(Feuil4!$B:$B,Consolidation!$B281,Feuil4!$D:$D)","v":0},null,{"$f":"SUMIF(Feuil5!$B:$B,Consolidation!$B281,Feuil5!$D:$D)","v":0},null,0,0,{"$f":"SUMIF(Feuil1!$B:$B,Consolidation!$B281,Feuil1!$F:$F)","v":0},null,{"$f":"SUMIF(Feuil2!$B:$B,Consolidation!$B281,Feuil2!$F:$F)","v":0},null,{"$f":"SUMIF(Feuil3!$B:$B,Consolidation!$B281,Feuil3!$F:$F)","v":0},null,{"$f":"SUMIF(Feuil4!$B:$B,Consolidation!$B281,Feuil4!$F:$F)","v":0},null,{"$f":"SUMIF(Feuil5!$B:$B,Consolidation!$B281,Feuil5!$F:$F)","v":0},null,0,0,{"$f":"SUMIF(Feuil1!$B:$B,Consolidation!$B281,Feuil1!$H:$H)","v":0},null,{"$f":"SUMIF(Feuil2!$B:$B,Consolidation!$B281,Feuil2!$H:$H)","v":0},null,{"$f":"SUMIF(Feuil3!$B:$B,Consolidation!$B281,Feuil3!$H:$H)","v":0},null,{"$f":"SUMIF(Feuil4!$B:$B,Consolidation!$B281,Feuil4!$H:$H)","v":0},null,{"$f":"SUMIF(Feuil5!$B:$B,Consolidation!$B281,Feuil5!$H:$H)","v":0},null,0,0,0]
["InsererLigne",6020,"Contributions des répondants ou des parents, internes                                                  ",{"$f":"SUMIF(Feuil1!$B:$B,Consolidation!$B282,Feuil1!$D:$D)","v":0},null,{"$f":"SUMIF(Feuil2!$B:$B,Consolidation!$B282,Feuil2!$D:$D)","v":0},null,{"$f":"SUMIF(Feuil3!$B:$B,Consolidation!$B282,Feuil3!$D:$D)","v":0},null,{"$f":"SUMIF(Feuil4!$B:$B,Consolidation!$B282,Feuil4!$D:$D)","v":0},null,{"$f":"SUMIF(Feuil5!$B:$B,Consolidation!$B282,Feuil5!$D:$D)","v":0},null,0,0,{"$f":"SUMIF(Feuil1!$B:$B,Consolidation!$B282,Feuil1!$F:$F)","v":0},null,{"$f":"SUMIF(Feuil2!$B:$B,Consolidation!$B282,Feuil2!$F:$F)","v":0},null,{"$f":"SUMIF(Feuil3!$B:$B,Consolidation!$B282,Feuil3!$F:$F)","v":0},null,{"$f":"SUMIF(Feuil4!$B:$B,Consolidation!$B282,Feuil4!$F:$F)","v":0},null,{"$f":"SUMIF(Feuil5!$B:$B,Consolidation!$B282,Feuil5!$F:$F)","v":0},null,0,0,{"$f":"SUMIF(Feuil1!$B:$B,Consolidation!$B282,Feuil1!$H:$H)","v":0},null,{"$f":"SUMIF(Feuil2!$B:$B,Consolidation!$B282,Feuil2!$H:$H)","v":0},null,{"$f":"SUMIF(Feuil3!$B:$B,Consolidation!$B282,Feuil3!$H:$H)","v":0},null,{"$f":"SUMIF(Feuil4!$B:$B,Consolidation!$B282,Feuil4!$H:$H)","v":0},null,{"$f":"SUMIF(Feuil5!$B:$B,Consolidation!$B282,Feuil5!$H:$H)","v":0},null,0,0,0]
["InsererLigne",6021,"Contributions des répondants ou des parents, externes",{"$f":"SUMIF(Feuil1!$B:$B,Consolidation!$B283,Feuil1!$D:$D)","v":0},null,{"$f":"SUMIF(Feuil2!$B:$B,Consolidation!$B283,Feuil2!$D:$D)","v":0},null,{"$f":"SUMIF(Feuil3!$B:$B,Consolidation!$B283,Feuil3!$D:$D)","v":0},null,{"$f":"SUMIF(Feuil4!$B:$B,Consolidation!$B283,Feuil4!$D:$D)","v":0},null,{"$f":"SUMIF(Feuil5!$B:$B,Consolidation!$B283,Feuil5!$D:$D)","v":0},null,0,0,{"$f":"SUMIF(Feuil1!$B:$B,Consolidation!$B283,Feuil1!$F:$F)","v":0},null,{"$f":"SUMIF(Feuil2!$B:$B,Consolidation!$B283,Feuil2!$F:$F)","v":0},null,{"$f":"SUMIF(Feuil3!$B:$B,Consolidation!$B283,Feuil3!$F:$F)","v":0},null,{"$f":"SUMIF(Feuil4!$B:$B,Consolidation!$B283,Feuil4!$F:$F)","v":0},null,{"$f":"SUMIF(Feuil5!$B:$B,Consolidation!$B283,Feuil5!$F:$F)","v":0},null,0,0,{"$f":"SUMIF(Feuil1!$B:$B,Consolidation!$B283,Feuil1!$H:$H)","v":0},null,{"$f":"SUMIF(Feuil2!$B:$B,Consolidation!$B283,Feuil2!$H:$H)","v":0},null,{"$f":"SUMIF(Feuil3!$B:$B,Consolidation!$B283,Feuil3!$H:$H)","v":0},null,{"$f":"SUMIF(Feuil4!$B:$B,Consolidation!$B283,Feuil4!$H:$H)","v":0},null,{"$f":"SUMIF(Feuil5!$B:$B,Consolidation!$B283,Feuil5!$H:$H)","v":0},null,0,0,0]
["InsererLigne",6022,"Contributions des répondants ou des parents, repas",{"$f":"SUMIF(Feuil1!$B:$B,Consolidation!$B284,Feuil1!$D:$D)","v":0},null,{"$f":"SUMIF(Feuil2!$B:$B,Consolidation!$B284,Feuil2!$D:$D)","v":0},null,{"$f":"SUMIF(Feuil3!$B:$B,Consolidation!$B284,Feuil3!$D:$D)","v":0},null,{"$f":"SUMIF(Feuil4!$B:$B,Consolidation!$B284,Feuil4!$D:$D)","v":0},null,{"$f":"SUMIF(Feuil5!$B:$B,Consolidation!$B284,Feuil5!$D:$D)","v":0},null,0,0,{"$f":"SUMIF(Feuil1!$B:$B,Consolidation!$B284,Feuil1!$F:$F)","v":0},null,{"$f":"SUMIF(Feuil2!$B:$B,Consolidation!$B284,Feuil2!$F:$F)","v":0},null,{"$f":"SUMIF(Feuil3!$B:$B,Consolidation!$B284,Feuil3!$F:$F)","v":0},null,{"$f":"SUMIF(Feuil4!$B:$B,Consolidation!$B284,Feuil4!$F:$F)","v":0},null,{"$f":"SUMIF(Feuil5!$B:$B,Consolidation!$B284,Feuil5!$F:$F)","v":0},null,0,0,{"$f":"SUMIF(Feuil1!$B:$B,Consolidation!$B284,Feuil1!$H:$H)","v":0},null,{"$f":"SUMIF(Feuil2!$B:$B,Consolidation!$B284,Feuil2!$H:$H)","v":0},null,{"$f":"SUMIF(Feuil3!$B:$B,Consolidation!$B284,Feuil3!$H:$H)","v":0},null,{"$f":"SUMIF(Feuil4!$B:$B,Consolidation!$B284,Feuil4!$H:$H)","v":0},null,{"$f":"SUMIF(Feuil5!$B:$B,Consolidation!$B284,Feuil5!$H:$H)","v":0},null,0,0,0]
["InsererLigne",6023,"Contributions des répondants ou des parents, allocations pour impotent",{"$f":"SUMIF(Feuil1!$B:$B,Consolidation!$B285,Feuil1!$D:$D)","v":0},null,{"$f":"SUMIF(Feuil2!$B:$B,Consolidation!$B285,Feuil2!$D:$D)","v":0},null,{"$f":"SUMIF(Feuil3!$B:$B,Consolidation!$B285,Feuil3!$D:$D)","v":0},null,{"$f":"SUMIF(Feuil4!$B:$B,Consolidation!$B285,Feuil4!$D:$D)","v":0},null,{"$f":"SUMIF(Feuil5!$B:$B,Consolidation!$B285,Feuil5!$D:$D)","v":0},null,0,0,{"$f":"SUMIF(Feuil1!$B:$B,Consolidation!$B285,Feuil1!$F:$F)","v":0},null,{"$f":"SUMIF(Feuil2!$B:$B,Consolidation!$B285,Feuil2!$F:$F)","v":0},null,{"$f":"SUMIF(Feuil3!$B:$B,Consolidation!$B285,Feuil3!$F:$F)","v":0},null,{"$f":"SUMIF(Feuil4!$B:$B,Consolidation!$B285,Feuil4!$F:$F)","v":0},null,{"$f":"SUMIF(Feuil5!$B:$B,Consolidation!$B285,Feuil5!$F:$F)","v":0},null,0,0,{"$f":"SUMIF(Feuil1!$B:$B,Consolidation!$B285,Feuil1!$H:$H)","v":0},null,{"$f":"SUMIF(Feuil2!$B:$B,Consolidation!$B285,Feuil2!$H:$H)","v":0},null,{"$f":"SUMIF(Feuil3!$B:$B,Consolidation!$B285,Feuil3!$H:$H)","v":0},null,{"$f":"SUMIF(Feuil4!$B:$B,Consolidation!$B285,Feuil4!$H:$H)","v":0},null,{"$f":"SUMIF(Feuil5!$B:$B,Consolidation!$B285,Feuil5!$H:$H)","v":0},null,0,0,0]
["InsererLigne",6024,"Contributions des répondants ou des parents, secteur hôtelier",{"$f":"SUMIF(Feuil1!$B:$B,Consolidation!$B286,Feuil1!$D:$D)","v":0},null,{"$f":"SUMIF(Feuil2!$B:$B,Consolidation!$B286,Feuil2!$D:$D)","v":0},null,{"$f":"SUMIF(Feuil3!$B:$B,Consolidation!$B286,Feuil3!$D:$D)","v":0},null,{"$f":"SUMIF(Feuil4!$B:$B,Consolidation!$B286,Feuil4!$D:$D)","v":0},null,{"$f":"SUMIF(Feuil5!$B:$B,Consolidation!$B286,Feuil5!$D:$D)","v":0},null,0,0,{"$f":"SUMIF(Feuil1!$B:$B,Consolidation!$B286,Feuil1!$F:$F)","v":0},null,{"$f":"SUMIF(Feuil2!$B:$B,Consolidation!$B286,Feuil2!$F:$F)","v":0},null,{"$f":"SUMIF(Feuil3!$B:$B,Consolidation!$B286,Feuil3!$F:$F)","v":0},null,{"$f":"SUMIF(Feuil4!$B:$B,Consolidation!$B286,Feuil4!$F:$F)","v":0},null,{"$f":"SUMIF(Feuil5!$B:$B,Consolidation!$B286,Feuil5!$F:$F)","v":0},null,0,0,{"$f":"SUMIF(Feuil1!$B:$B,Consolidation!$B286,Feuil1!$H:$H)","v":0},null,{"$f":"SUMIF(Feuil2!$B:$B,Consolidation!$B286,Feuil2!$H:$H)","v":0},null,{"$f":"SUMIF(Feuil3!$B:$B,Consolidation!$B286,Feuil3!$H:$H)","v":0},null,{"$f":"SUMIF(Feuil4!$B:$B,Consolidation!$B286,Feuil4!$H:$H)","v":0},null,{"$f":"SUMIF(Feuil5!$B:$B,Consolidation!$B286,Feuil5!$H:$H)","v":0},null,0,0,0]
["InsererLigne",6025,"Contributions des répondants ou des parents, repas de l'écolier",{"$f":"SUMIF(Feuil1!$B:$B,Consolidation!$B287,Feuil1!$D:$D)","v":0},null,{"$f":"SUMIF(Feuil2!$B:$B,Consolidation!$B287,Feuil2!$D:$D)","v":0},null,{"$f":"SUMIF(Feuil3!$B:$B,Consolidation!$B287,Feuil3!$D:$D)","v":0},null,{"$f":"SUMIF(Feuil4!$B:$B,Consolidation!$B287,Feuil4!$D:$D)","v":0},null,{"$f":"SUMIF(Feuil5!$B:$B,Consolidation!$B287,Feuil5!$D:$D)","v":0},null,0,0,{"$f":"SUMIF(Feuil1!$B:$B,Consolidation!$B287,Feuil1!$F:$F)","v":0},null,{"$f":"SUMIF(Feuil2!$B:$B,Consolidation!$B287,Feuil2!$F:$F)","v":0},null,{"$f":"SUMIF(Feuil3!$B:$B,Consolidation!$B287,Feuil3!$F:$F)","v":0},null,{"$f":"SUMIF(Feuil4!$B:$B,Consolidation!$B287,Feuil4!$F:$F)","v":0},null,{"$f":"SUMIF(Feuil5!$B:$B,Consolidation!$B287,Feuil5!$F:$F)","v":0},null,0,0,{"$f":"SUMIF(Feuil1!$B:$B,Consolidation!$B287,Feuil1!$H:$H)","v":0},null,{"$f":"SUMIF(Feuil2!$B:$B,Consolidation!$B287,Feuil2!$H:$H)","v":0},null,{"$f":"SUMIF(Feuil3!$B:$B,Consolidation!$B287,Feuil3!$H:$H)","v":0},null,{"$f":"SUMIF(Feuil4!$B:$B,Consolidation!$B287,Feuil4!$H:$H)","v":0},null,{"$f":"SUMIF(Feuil5!$B:$B,Consolidation!$B287,Feuil5!$H:$H)","v":0},null,0,0,0]
["InsererLigne",6030,"Contributions des personnes accompagnées, taxe présence",{"$f":"SUMIF(Feuil1!$B:$B,Consolidation!$B288,Feuil1!$D:$D)","v":0},null,{"$f":"SUMIF(Feuil2!$B:$B,Consolidation!$B288,Feuil2!$D:$D)","v":0},null,{"$f":"SUMIF(Feuil3!$B:$B,Consolidation!$B288,Feuil3!$D:$D)","v":0},null,{"$f":"SUMIF(Feuil4!$B:$B,Consolidation!$B288,Feuil4!$D:$D)","v":0},null,{"$f":"SUMIF(Feuil5!$B:$B,Consolidation!$B288,Feuil5!$D:$D)","v":0},null,0,0,{"$f":"SUMIF(Feuil1!$B:$B,Consolidation!$B288,Feuil1!$F:$F)","v":0},null,{"$f":"SUMIF(Feuil2!$B:$B,Consolidation!$B288,Feuil2!$F:$F)","v":0},null,{"$f":"SUMIF(Feuil3!$B:$B,Consolidation!$B288,Feuil3!$F:$F)","v":0},null,{"$f":"SUMIF(Feuil4!$B:$B,Consolidation!$B288,Feuil4!$F:$F)","v":0},null,{"$f":"SUMIF(Feuil5!$B:$B,Consolidation!$B288,Feuil5!$F:$F)","v":0},null,0,0,{"$f":"SUMIF(Feuil1!$B:$B,Consolidation!$B288,Feuil1!$H:$H)","v":0},null,{"$f":"SUMIF(Feuil2!$B:$B,Consolidation!$B288,Feuil2!$H:$H)","v":0},null,{"$f":"SUMIF(Feuil3!$B:$B,Consolidation!$B288,Feuil3!$H:$H)","v":0},null,{"$f":"SUMIF(Feuil4!$B:$B,Consolidation!$B288,Feuil4!$H:$H)","v":0},null,{"$f":"SUMIF(Feuil5!$B:$B,Consolidation!$B288,Feuil5!$H:$H)","v":0},null,0,0,0]
["InsererLigne",6031,"Contributions des personnes accompagnées, taxe absence",{"$f":"SUMIF(Feuil1!$B:$B,Consolidation!$B289,Feuil1!$D:$D)","v":0},null,{"$f":"SUMIF(Feuil2!$B:$B,Consolidation!$B289,Feuil2!$D:$D)","v":0},null,{"$f":"SUMIF(Feuil3!$B:$B,Consolidation!$B289,Feuil3!$D:$D)","v":0},null,{"$f":"SUMIF(Feuil4!$B:$B,Consolidation!$B289,Feuil4!$D:$D)","v":0},null,{"$f":"SUMIF(Feuil5!$B:$B,Consolidation!$B289,Feuil5!$D:$D)","v":0},null,0,0,{"$f":"SUMIF(Feuil1!$B:$B,Consolidation!$B289,Feuil1!$F:$F)","v":0},null,{"$f":"SUMIF(Feuil2!$B:$B,Consolidation!$B289,Feuil2!$F:$F)","v":0},null,{"$f":"SUMIF(Feuil3!$B:$B,Consolidation!$B289,Feuil3!$F:$F)","v":0},null,{"$f":"SUMIF(Feuil4!$B:$B,Consolidation!$B289,Feuil4!$F:$F)","v":0},null,{"$f":"SUMIF(Feuil5!$B:$B,Consolidation!$B289,Feuil5!$F:$F)","v":0},null,0,0,{"$f":"SUMIF(Feuil1!$B:$B,Consolidation!$B289,Feuil1!$H:$H)","v":0},null,{"$f":"SUMIF(Feuil2!$B:$B,Consolidation!$B289,Feuil2!$H:$H)","v":0},null,{"$f":"SUMIF(Feuil3!$B:$B,Consolidation!$B289,Feuil3!$H:$H)","v":0},null,{"$f":"SUMIF(Feuil4!$B:$B,Consolidation!$B289,Feuil4!$H:$H)","v":0},null,{"$f":"SUMIF(Feuil5!$B:$B,Consolidation!$B289,Feuil5!$H:$H)","v":0},null,0,0,0]
["InsererLigne",6032,"Contributions des personnes accompagnées, taxe ASA",{"$f":"SUMIF(Feuil1!$B:$B,Consolidation!$B290,Feuil1!$D:$D)","v":0},null,{"$f":"SUMIF(Feuil2!$B:$B,Consolidation!$B290,Feuil2!$D:$D)","v":0},null,{"$f":"SUMIF(Feuil3!$B:$B,Consolidation!$B290,Feuil3!$D:$D)","v":0},null,{"$f":"SUMIF(Feuil4!$B:$B,Consolidation!$B290,Feuil4!$D:$D)","v":0},null,{"$f":"SUMIF(Feuil5!$B:$B,Consolidation!$B290,Feuil5!$D:$D)","v":0},null,0,0,{"$f":"SUMIF(Feuil1!$B:$B,Consolidation!$B290,Feuil1!$F:$F)","v":0},null,{"$f":"SUMIF(Feuil2!$B:$B,Consolidation!$B290,Feuil2!$F:$F)","v":0},null,{"$f":"SUMIF(Feuil3!$B:$B,Consolidation!$B290,Feuil3!$F:$F)","v":0},null,{"$f":"SUMIF(Feuil4!$B:$B,Consolidation!$B290,Feuil4!$F:$F)","v":0},null,{"$f":"SUMIF(Feuil5!$B:$B,Consolidation!$B290,Feuil5!$F:$F)","v":0},null,0,0,{"$f":"SUMIF(Feuil1!$B:$B,Consolidation!$B290,Feuil1!$H:$H)","v":0},null,{"$f":"SUMIF(Feuil2!$B:$B,Consolidation!$B290,Feuil2!$H:$H)","v":0},null,{"$f":"SUMIF(Feuil3!$B:$B,Consolidation!$B290,Feuil3!$H:$H)","v":0},null,{"$f":"SUMIF(Feuil4!$B:$B,Consolidation!$B290,Feuil4!$H:$H)","v":0},null,{"$f":"SUMIF(Feuil5!$B:$B,Consolidation!$B290,Feuil5!$H:$H)","v":0},null,0,0,0]
["InsererLigne",6033,"Contributions des personnes accompagnées, externes",{"$f":"SUMIF(Feuil1!$B:$B,Consolidation!$B291,Feuil1!$D:$D)","v":0},null,{"$f":"SUMIF(Feuil2!$B:$B,Consolidation!$B291,Feuil2!$D:$D)","v":0},null,{"$f":"SUMIF(Feuil3!$B:$B,Consolidation!$B291,Feuil3!$D:$D)","v":0},null,{"$f":"SUMIF(Feuil4!$B:$B,Consolidation!$B291,Feuil4!$D:$D)","v":0},null,{"$f":"SUMIF(Feuil5!$B:$B,Consolidation!$B291,Feuil5!$D:$D)","v":0},null,0,0,{"$f":"SUMIF(Feuil1!$B:$B,Consolidation!$B291,Feuil1!$F:$F)","v":0},null,{"$f":"SUMIF(Feuil2!$B:$B,Consolidation!$B291,Feuil2!$F:$F)","v":0},null,{"$f":"SUMIF(Feuil3!$B:$B,Consolidation!$B291,Feuil3!$F:$F)","v":0},null,{"$f":"SUMIF(Feuil4!$B:$B,Consolidation!$B291,Feuil4!$F:$F)","v":0},null,{"$f":"SUMIF(Feuil5!$B:$B,Consolidation!$B291,Feuil5!$F:$F)","v":0},null,0,0,{"$f":"SUMIF(Feuil1!$B:$B,Consolidation!$B291,Feuil1!$H:$H)","v":0},null,{"$f":"SUMIF(Feuil2!$B:$B,Consolidation!$B291,Feuil2!$H:$H)","v":0},null,{"$f":"SUMIF(Feuil3!$B:$B,Consolidation!$B291,Feuil3!$H:$H)","v":0},null,{"$f":"SUMIF(Feuil4!$B:$B,Consolidation!$B291,Feuil4!$H:$H)","v":0},null,{"$f":"SUMIF(Feuil5!$B:$B,Consolidation!$B291,Feuil5!$H:$H)","v":0},null,0,0,0]
["InsererLigne",6034,"Contributions des personnes accompagnées, repas",{"$f":"SUMIF(Feuil1!$B:$B,Consolidation!$B292,Feuil1!$D:$D)","v":0},null,{"$f":"SUMIF(Feuil2!$B:$B,Consolidation!$B292,Feuil2!$D:$D)","v":0},null,{"$f":"SUMIF(Feuil3!$B:$B,Consolidation!$B292,Feuil3!$D:$D)","v":0},null,{"$f":"SUMIF(Feuil4!$B:$B,Consolidation!$B292,Feuil4!$D:$D)","v":0},null,{"$f":"SUMIF(Feuil5!$B:$B,Consolidation!$B292,Feuil5!$D:$D)","v":0},null,0,0,{"$f":"SUMIF(Feuil1!$B:$B,Consolidation!$B292,Feuil1!$F:$F)","v":0},null,{"$f":"SUMIF(Feuil2!$B:$B,Consolidation!$B292,Feuil2!$F:$F)","v":0},null,{"$f":"SUMIF(Feuil3!$B:$B,Consolidation!$B292,Feuil3!$F:$F)","v":0},null,{"$f":"SUMIF(Feuil4!$B:$B,Consolidation!$B292,Feuil4!$F:$F)","v":0},null,{"$f":"SUMIF(Feuil5!$B:$B,Consolidation!$B292,Feuil5!$F:$F)","v":0},null,0,0,{"$f":"SUMIF(Feuil1!$B:$B,Consolidation!$B292,Feuil1!$H:$H)","v":0},null,{"$f":"SUMIF(Feuil2!$B:$B,Consolidation!$B292,Feuil2!$H:$H)","v":0},null,{"$f":"SUMIF(Feuil3!$B:$B,Consolidation!$B292,Feuil3!$H:$H)","v":0},null,{"$f":"SUMIF(Feuil4!$B:$B,Consolidation!$B292,Feuil4!$H:$H)","v":0},null,{"$f":"SUMIF(Feuil5!$B:$B,Consolidation!$B292,Feuil5!$H:$H)","v":0},null,0,0,0]
["InsererLigne",6035,"Contributions des personnes accompagnées, années antérieures",{"$f":"SUMIF(Feuil1!$B:$B,Consolidation!$B293,Feuil1!$D:$D)","v":0},null,{"$f":"SUMIF(Feuil2!$B:$B,Consolidation!$B293,Feuil2!$D:$D)","v":0},null,{"$f":"SUMIF(Feuil3!$B:$B,Consolidation!$B293,Feuil3!$D:$D)","v":0},null,{"$f":"SUMIF(Feuil4!$B:$B,Consolidation!$B293,Feuil4!$D:$D)","v":0},null,{"$f":"SUMIF(Feuil5!$B:$B,Consolidation!$B293,Feuil5!$D:$D)","v":0},null,0,0,{"$f":"SUMIF(Feuil1!$B:$B,Consolidation!$B293,Feuil1!$F:$F)","v":0},null,{"$f":"SUMIF(Feuil2!$B:$B,Consolidation!$B293,Feuil2!$F:$F)","v":0},null,{"$f":"SUMIF(Feuil3!$B:$B,Consolidation!$B293,Feuil3!$F:$F)","v":0},null,{"$f":"SUMIF(Feuil4!$B:$B,Consolidation!$B293,Feuil4!$F:$F)","v":0},null,{"$f":"SUMIF(Feuil5!$B:$B,Consolidation!$B293,Feuil5!$F:$F)","v":0},null,0,0,{"$f":"SUMIF(Feuil1!$B:$B,Consolidation!$B293,Feuil1!$H:$H)","v":0},null,{"$f":"SUMIF(Feuil2!$B:$B,Consolidation!$B293,Feuil2!$H:$H)","v":0},null,{"$f":"SUMIF(Feuil3!$B:$B,Consolidation!$B293,Feuil3!$H:$H)","v":0},null,{"$f":"SUMIF(Feuil4!$B:$B,Consolidation!$B293,Feuil4!$H:$H)","v":0},null,{"$f":"SUMIF(Feuil5!$B:$B,Consolidation!$B293,Feuil5!$H:$H)","v":0},null,0,0,0]
["InsererLigne",6040,"Contributions des personnes accompagnées, allocation pour impotent",{"$f":"SUMIF(Feuil1!$B:$B,Consolidation!$B294,Feuil1!$D:$D)","v":0},null,{"$f":"SUMIF(Feuil2!$B:$B,Consolidation!$B294,Feuil2!$D:$D)","v":0},null,{"$f":"SUMIF(Feuil3!$B:$B,Consolidation!$B294,Feuil3!$D:$D)","v":0},null,{"$f":"SUMIF(Feuil4!$B:$B,Consolidation!$B294,Feuil4!$D:$D)","v":0},null,{"$f":"SUMIF(Feuil5!$B:$B,Consolidation!$B294,Feuil5!$D:$D)","v":0},null,0,0,{"$f":"SUMIF(Feuil1!$B:$B,Consolidation!$B294,Feuil1!$F:$F)","v":0},null,{"$f":"SUMIF(Feuil2!$B:$B,Consolidation!$B294,Feuil2!$F:$F)","v":0},null,{"$f":"SUMIF(Feuil3!$B:$B,Consolidation!$B294,Feuil3!$F:$F)","v":0},null,{"$f":"SUMIF(Feuil4!$B:$B,Consolidation!$B294,Feuil4!$F:$F)","v":0},null,{"$f":"SUMIF(Feuil5!$B:$B,Consolidation!$B294,Feuil5!$F:$F)","v":0},null,0,0,{"$f":"SUMIF(Feuil1!$B:$B,Consolidation!$B294,Feuil1!$H:$H)","v":0},null,{"$f":"SUMIF(Feuil2!$B:$B,Consolidation!$B294,Feuil2!$H:$H)","v":0},null,{"$f":"SUMIF(Feuil3!$B:$B,Consolidation!$B294,Feuil3!$H:$H)","v":0},null,{"$f":"SUMIF(Feuil4!$B:$B,Consolidation!$B294,Feuil4!$H:$H)","v":0},null,{"$f":"SUMIF(Feuil5!$B:$B,Consolidation!$B294,Feuil5!$H:$H)","v":0},null,0,0,0]
["InsererLigne",6050,"Autres contributions                                                  ",{"$f":"SUMIF(Feuil1!$B:$B,Consolidation!$B295,Feuil1!$D:$D)","v":0},null,{"$f":"SUMIF(Feuil2!$B:$B,Consolidation!$B295,Feuil2!$D:$D)","v":0},null,{"$f":"SUMIF(Feuil3!$B:$B,Consolidation!$B295,Feuil3!$D:$D)","v":0},null,{"$f":"SUMIF(Feuil4!$B:$B,Consolidation!$B295,Feuil4!$D:$D)","v":0},null,{"$f":"SUMIF(Feuil5!$B:$B,Consolidation!$B295,Feuil5!$D:$D)","v":0},null,0,0,{"$f":"SUMIF(Feuil1!$B:$B,Consolidation!$B295,Feuil1!$F:$F)","v":0},null,{"$f":"SUMIF(Feuil2!$B:$B,Consolidation!$B295,Feuil2!$F:$F)","v":0},null,{"$f":"SUMIF(Feuil3!$B:$B,Consolidation!$B295,Feuil3!$F:$F)","v":0},null,{"$f":"SUMIF(Feuil4!$B:$B,Consolidation!$B295,Feuil4!$F:$F)","v":0},null,{"$f":"SUMIF(Feuil5!$B:$B,Consolidation!$B295,Feuil5!$F:$F)","v":0},null,0,0,{"$f":"SUMIF(Feuil1!$B:$B,Consolidation!$B295,Feuil1!$H:$H)","v":0},null,{"$f":"SUMIF(Feuil2!$B:$B,Consolidation!$B295,Feuil2!$H:$H)","v":0},null,{"$f":"SUMIF(Feuil3!$B:$B,Consolidation!$B295,Feuil3!$H:$H)","v":0},null,{"$f":"SUMIF(Feuil4!$B:$B,Consolidation!$B295,Feuil4!$H:$H)","v":0},null,{"$f":"SUMIF(Feuil5!$B:$B,Consolidation!$B295,Feuil5!$H:$H)","v":0},null,0,0,0]
["InsererLigne",null,null,null,null,null,null,null,null,null,null,null,null,null,null,null,null,null,null,null,null,null,null,null,null,null,null,null,null,null,null,null,null,null,null,null,null,null,null,0]
[null,61,"Revenus provenant de la compensation des coûts extracantonale",{"$f":"SUBTOTAL(9,D298:D313)","v":0},{"$f":"IF($E$5>0,D297/$E$5,0)","v":0},{"$f":"SUBTOTAL(9,F298:F313)","v":0},{"$f":"IF($G$5>0,F297/$G$5,0)","v":0},{"$f":"SUBTOTAL(9,H298:H313)","v":0},{"$f":"IF($I$5>0,H297/$I$5,0)","v":0},{"$f":"SUBTOTAL(9,J298:J313)","v":0},{"$f":"IF($K$5>0,J297/$K$5,0)","v":0},{"$f":"SUBTOTAL(9,L298:L313)","v":0},{"$f":"IF($M$5>0,L297/$M$5,0)","v":0},{"$f":"D297+F297+H297+J297+L297","v":0},{"$f":"E297+G297+I297+K297+M297","v":0},{"$f":"SUBTOTAL(9,P298:P313)","v":0},{"$f":"IF($Q$5>0,P297/$Q$5,0)","v":0},{"$f":"SUBTOTAL(9,R298:R313)","v":0},{"$f":"IF($S$5>0,R297/$S$5,0)","v":0},{"$f":"SUBTOTAL(9,T298:T313)","v":0},{"$f":"IF($U$5>0,T297/$U$5,0)","v":0},{"$f":"SUBTOTAL(9,V298:V313)","v":0},{"$f":"IF($W$5>0,V297/$W$5,0)","v":0},{"$f":"SUBTOTAL(9,X298:X313)","v":0},{"$f":"IF($Y$5>0,X297/$Y$5,0)","v":0},{"$f":"P297+R297+T297+V297+X297","v":0},{"$f":"Q297+S297+U297+W297+Y297","v":0},{"$f":"SUBTOTAL(9,AB298:AB313)","v":0},{"$f":"IF($AC$5>0,AB297/$AC$5,0)","v":0},{"$f":"SUBTOTAL(9,AD298:AD313)","v":0},{"$f":"IF($AE$5>0,AD297/$AE$5,0)","v":0},{"$f":"SUBTOTAL(9,AF298:AF313)","v":0},{"$f":"IF($AG$5>0,AF297/$AG$5,0)","v":0},{"$f":"SUBTOTAL(9,AH298:AH313)","v":0},{"$f":"IF($AI$5>0,AH297/$AI$5,0)","v":0},{"$f":"SUBTOTAL(9,AJ298:AJ313)","v":0},{"$f":"IF($AK$5>0,AJ297/$AK$5,0)","v":0},{"$f":"AB297+AD297+AF297+AH297+AJ297","v":0},{"$f":"AC297+AE297+AG297+AI297+AK297","v":0},0]
[null,6100,"Contributions du canton de domicile                                                  ",{"$f":"SUMIF(Feuil1!$B:$B,Consolidation!$B298,Feuil1!$D:$D)","v":0},null,{"$f":"SUMIF(Feuil2!$B:$B,Consolidation!$B298,Feuil2!$D:$D)","v":0},null,{"$f":"SUMIF(Feuil3!$B:$B,Consolidation!$B298,Feuil3!$D:$D)","v":0},null,{"$f":"SUMIF(Feuil4!$B:$B,Consolidation!$B298,Feuil4!$D:$D)","v":0},null,{"$f":"SUMIF(Feuil5!$B:$B,Consolidation!$B298,Feuil5!$D:$D)","v":0},null,{"$f":"D298+F298+H298+J298+L298","v":0},{"$f":"E298+G298+I298+K298+M298","v":0},{"$f":"SUMIF(Feuil1!$B:$B,Consolidation!$B298,Feuil1!$F:$F)","v":0},null,{"$f":"SUMIF(Feuil2!$B:$B,Consolidation!$B298,Feuil2!$F:$F)","v":0},null,{"$f":"SUMIF(Feuil3!$B:$B,Consolidation!$B298,Feuil3!$F:$F)","v":0},null,{"$f":"SUMIF(Feuil4!$B:$B,Consolidation!$B298,Feuil4!$F:$F)","v":0},null,{"$f":"SUMIF(Feuil5!$B:$B,Consolidation!$B298,Feuil5!$F:$F)","v":0},null,{"$f":"P298+R298+T298+V298+X298","v":0},{"$f":"Q298+S298+U298+W298+Y298","v":0},{"$f":"SUMIF(Feuil1!$B:$B,Consolidation!$B298,Feuil1!$H:$H)","v":0},null,{"$f":"SUMIF(Feuil2!$B:$B,Consolidation!$B298,Feuil2!$H:$H)","v":0},null,{"$f":"SUMIF(Feuil3!$B:$B,Consolidation!$B298,Feuil3!$H:$H)","v":0},null,{"$f":"SUMIF(Feuil4!$B:$B,Consolidation!$B298,Feuil4!$H:$H)","v":0},null,{"$f":"SUMIF(Feuil5!$B:$B,Consolidation!$B298,Feuil5!$H:$H)","v":0},null,{"$f":"AB298+AD298+AF298+AH298+AJ298","v":0},{"$f":"AC298+AE298+AG298+AI298+AK298","v":0},0]
["InsererLigne",6110,"Contribution des communes                                                  ",{"$f":"SUMIF(Feuil1!$B:$B,Consolidation!$B299,Feuil1!$D:$D)","v":0},null,{"$f":"SUMIF(Feuil2!$B:$B,Consolidation!$B299,Feuil2!$D:$D)","v":0},null,{"$f":"SUMIF(Feuil3!$B:$B,Consolidation!$B299,Feuil3!$D:$D)","v":0},null,{"$f":"SUMIF(Feuil4!$B:$B,Consolidation!$B299,Feuil4!$D:$D)","v":0},null,{"$f":"SUMIF(Feuil5!$B:$B,Consolidation!$B299,Feuil5!$D:$D)","v":0},null,0,0,{"$f":"SUMIF(Feuil1!$B:$B,Consolidation!$B299,Feuil1!$F:$F)","v":0},null,{"$f":"SUMIF(Feuil2!$B:$B,Consolidation!$B299,Feuil2!$F:$F)","v":0},null,{"$f":"SUMIF(Feuil3!$B:$B,Consolidation!$B299,Feuil3!$F:$F)","v":0},null,{"$f":"SUMIF(Feuil4!$B:$B,Consolidation!$B299,Feuil4!$F:$F)","v":0},null,{"$f":"SUMIF(Feuil5!$B:$B,Consolidation!$B299,Feuil5!$F:$F)","v":0},null,0,0,{"$f":"SUMIF(Feuil1!$B:$B,Consolidation!$B299,Feuil1!$H:$H)","v":0},null,{"$f":"SUMIF(Feuil2!$B:$B,Consolidation!$B299,Feuil2!$H:$H)","v":0},null,{"$f":"SUMIF(Feuil3!$B:$B,Consolidation!$B299,Feuil3!$H:$H)","v":0},null,{"$f":"SUMIF(Feuil4!$B:$B,Consolidation!$B299,Feuil4!$H:$H)","v":0},null,{"$f":"SUMIF(Feuil5!$B:$B,Consolidation!$B299,Feuil5!$H:$H)","v":0},null,0,0,0]
["InsererLigne",6120,"Contributions des répondants ou des parents, internes                                                  ",{"$f":"SUMIF(Feuil1!$B:$B,Consolidation!$B300,Feuil1!$D:$D)","v":0},null,{"$f":"SUMIF(Feuil2!$B:$B,Consolidation!$B300,Feuil2!$D:$D)","v":0},null,{"$f":"SUMIF(Feuil3!$B:$B,Consolidation!$B300,Feuil3!$D:$D)","v":0},null,{"$f":"SUMIF(Feuil4!$B:$B,Consolidation!$B300,Feuil4!$D:$D)","v":0},null,{"$f":"SUMIF(Feuil5!$B:$B,Consolidation!$B300,Feuil5!$D:$D)","v":0},null,0,0,{"$f":"SUMIF(Feuil1!$B:$B,Consolidation!$B300,Feuil1!$F:$F)","v":0},null,{"$f":"SUMIF(Feuil2!$B:$B,Consolidation!$B300,Feuil2!$F:$F)","v":0},null,{"$f":"SUMIF(Feuil3!$B:$B,Consolidation!$B300,Feuil3!$F:$F)","v":0},null,{"$f":"SUMIF(Feuil4!$B:$B,Consolidation!$B300,Feuil4!$F:$F)","v":0},null,{"$f":"SUMIF(Feuil5!$B:$B,Consolidation!$B300,Feuil5!$F:$F)","v":0},null,0,0,{"$f":"SUMIF(Feuil1!$B:$B,Consolidation!$B300,Feuil1!$H:$H)","v":0},null,{"$f":"SUMIF(Feuil2!$B:$B,Consolidation!$B300,Feuil2!$H:$H)","v":0},null,{"$f":"SUMIF(Feuil3!$B:$B,Consolidation!$B300,Feuil3!$H:$H)","v":0},null,{"$f":"SUMIF(Feuil4!$B:$B,Consolidation!$B300,Feuil4!$H:$H)","v":0},null,{"$f":"SUMIF(Feuil5!$B:$B,Consolidation!$B300,Feuil5!$H:$H)","v":0},null,0,0,0]
["InsererLigne",6121,"Contributions des répondants ou des parents, externes",{"$f":"SUMIF(Feuil1!$B:$B,Consolidation!$B301,Feuil1!$D:$D)","v":0},null,{"$f":"SUMIF(Feuil2!$B:$B,Consolidation!$B301,Feuil2!$D:$D)","v":0},null,{"$f":"SUMIF(Feuil3!$B:$B,Consolidation!$B301,Feuil3!$D:$D)","v":0},null,{"$f":"SUMIF(Feuil4!$B:$B,Consolidation!$B301,Feuil4!$D:$D)","v":0},null,{"$f":"SUMIF(Feuil5!$B:$B,Consolidation!$B301,Feuil5!$D:$D)","v":0},null,0,0,{"$f":"SUMIF(Feuil1!$B:$B,Consolidation!$B301,Feuil1!$F:$F)","v":0},null,{"$f":"SUMIF(Feuil2!$B:$B,Consolidation!$B301,Feuil2!$F:$F)","v":0},null,{"$f":"SUMIF(Feuil3!$B:$B,Consolidation!$B301,Feuil3!$F:$F)","v":0},null,{"$f":"SUMIF(Feuil4!$B:$B,Consolidation!$B301,Feuil4!$F:$F)","v":0},null,{"$f":"SUMIF(Feuil5!$B:$B,Consolidation!$B301,Feuil5!$F:$F)","v":0},null,0,0,{"$f":"SUMIF(Feuil1!$B:$B,Consolidation!$B301,Feuil1!$H:$H)","v":0},null,{"$f":"SUMIF(Feuil2!$B:$B,Consolidation!$B301,Feuil2!$H:$H)","v":0},null,{"$f":"SUMIF(Feuil3!$B:$B,Consolidation!$B301,Feuil3!$H:$H)","v":0},null,{"$f":"SUMIF(Feuil4!$B:$B,Consolidation!$B301,Feuil4!$H:$H)","v":0},null,{"$f":"SUMIF(Feuil5!$B:$B,Consolidation!$B301,Feuil5!$H:$H)","v":0},null,0,0,0]
["InsererLigne",6122,"Contributions des répondants ou des parents, repas",{"$f":"SUMIF(Feuil1!$B:$B,Consolidation!$B302,Feuil1!$D:$D)","v":0},null,{"$f":"SUMIF(Feuil2!$B:$B,Consolidation!$B302,Feuil2!$D:$D)","v":0},null,{"$f":"SUMIF(Feuil3!$B:$B,Consolidation!$B302,Feuil3!$D:$D)","v":0},null,{"$f":"SUMIF(Feuil4!$B:$B,Consolidation!$B302,Feuil4!$D:$D)","v":0},null,{"$f":"SUMIF(Feuil5!$B:$B,Consolidation!$B302,Feuil5!$D:$D)","v":0},null,0,0,{"$f":"SUMIF(Feuil1!$B:$B,Consolidation!$B302,Feuil1!$F:$F)","v":0},null,{"$f":"SUMIF(Feuil2!$B:$B,Consolidation!$B302,Feuil2!$F:$F)","v":0},null,{"$f":"SUMIF(Feuil3!$B:$B,Consolidation!$B302,Feuil3!$F:$F)","v":0},null,{"$f":"SUMIF(Feuil4!$B:$B,Consolidation!$B302,Feuil4!$F:$F)","v":0},null,{"$f":"SUMIF(Feuil5!$B:$B,Consolidation!$B302,Feuil5!$F:$F)","v":0},null,0,0,{"$f":"SUMIF(Feuil1!$B:$B,Consolidation!$B302,Feuil1!$H:$H)","v":0},null,{"$f":"SUMIF(Feuil2!$B:$B,Consolidation!$B302,Feuil2!$H:$H)","v":0},null,{"$f":"SUMIF(Feuil3!$B:$B,Consolidation!$B302,Feuil3!$H:$H)","v":0},null,{"$f":"SUMIF(Feuil4!$B:$B,Consolidation!$B302,Feuil4!$H:$H)","v":0},null,{"$f":"SUMIF(Feuil5!$B:$B,Consolidation!$B302,Feuil5!$H:$H)","v":0},null,0,0,0]
["InsererLigne",6123,"Contributions des répondants ou des parents, allocations pour impotent",{"$f":"SUMIF(Feuil1!$B:$B,Consolidation!$B303,Feuil1!$D:$D)","v":0},null,{"$f":"SUMIF(Feuil2!$B:$B,Consolidation!$B303,Feuil2!$D:$D)","v":0},null,{"$f":"SUMIF(Feuil3!$B:$B,Consolidation!$B303,Feuil3!$D:$D)","v":0},null,{"$f":"SUMIF(Feuil4!$B:$B,Consolidation!$B303,Feuil4!$D:$D)","v":0},null,{"$f":"SUMIF(Feuil5!$B:$B,Consolidation!$B303,Feuil5!$D:$D)","v":0},null,0,0,{"$f":"SUMIF(Feuil1!$B:$B,Consolidation!$B303,Feuil1!$F:$F)","v":0},null,{"$f":"SUMIF(Feuil2!$B:$B,Consolidation!$B303,Feuil2!$F:$F)","v":0},null,{"$f":"SUMIF(Feuil3!$B:$B,Consolidation!$B303,Feuil3!$F:$F)","v":0},null,{"$f":"SUMIF(Feuil4!$B:$B,Consolidation!$B303,Feuil4!$F:$F)","v":0},null,{"$f":"SUMIF(Feuil5!$B:$B,Consolidation!$B303,Feuil5!$F:$F)","v":0},null,0,0,{"$f":"SUMIF(Feuil1!$B:$B,Consolidation!$B303,Feuil1!$H:$H)","v":0},null,{"$f":"SUMIF(Feuil2!$B:$B,Consolidation!$B303,Feuil2!$H:$H)","v":0},null,{"$f":"SUMIF(Feuil3!$B:$B,Consolidation!$B303,Feuil3!$H:$H)","v":0},null,{"$f":"SUMIF(Feuil4!$B:$B,Consolidation!$B303,Feuil4!$H:$H)","v":0},null,{"$f":"SUMIF(Feuil5!$B:$B,Consolidation!$B303,Feuil5!$H:$H)","v":0},null,0,0,0]
["InsererLigne",6124,"Contributions des répondants ou des parents, secteur hôtelier",{"$f":"SUMIF(Feuil1!$B:$B,Consolidation!$B304,Feuil1!$D:$D)","v":0},null,{"$f":"SUMIF(Feuil2!$B:$B,Consolidation!$B304,Feuil2!$D:$D)","v":0},null,{"$f":"SUMIF(Feuil3!$B:$B,Consolidation!$B304,Feuil3!$D:$D)","v":0},null,{"$f":"SUMIF(Feuil4!$B:$B,Consolidation!$B304,Feuil4!$D:$D)","v":0},null,{"$f":"SUMIF(Feuil5!$B:$B,Consolidation!$B304,Feuil5!$D:$D)","v":0},null,0,0,{"$f":"SUMIF(Feuil1!$B:$B,Consolidation!$B304,Feuil1!$F:$F)","v":0},null,{"$f":"SUMIF(Feuil2!$B:$B,Consolidation!$B304,Feuil2!$F:$F)","v":0},null,{"$f":"SUMIF(Feuil3!$B:$B,Consolidation!$B304,Feuil3!$F:$F)","v":0},null,{"$f":"SUMIF(Feuil4!$B:$B,Consolidation!$B304,Feuil4!$F:$F)","v":0},null,{"$f":"SUMIF(Feuil5!$B:$B,Consolidation!$B304,Feuil5!$F:$F)","v":0},null,0,0,{"$f":"SUMIF(Feuil1!$B:$B,Consolidation!$B304,Feuil1!$H:$H)","v":0},null,{"$f":"SUMIF(Feuil2!$B:$B,Consolidation!$B304,Feuil2!$H:$H)","v":0},null,{"$f":"SUMIF(Feuil3!$B:$B,Consolidation!$B304,Feuil3!$H:$H)","v":0},null,{"$f":"SUMIF(Feuil4!$B:$B,Consolidation!$B304,Feuil4!$H:$H)","v":0},null,{"$f":"SUMIF(Feuil5!$B:$B,Consolidation!$B304,Feuil5!$H:$H)","v":0},null,0,0,0]
["InsererLigne",6130,"Contributions des personnes accompagnées, taxe présence",{"$f":"SUMIF(Feuil1!$B:$B,Consolidation!$B305,Feuil1!$D:$D)","v":0},null,{"$f":"SUMIF(Feuil2!$B:$B,Consolidation!$B305,Feuil2!$D:$D)","v":0},null,{"$f":"SUMIF(Feuil3!$B:$B,Consolidation!$B305,Feuil3!$D:$D)","v":0},null,{"$f":"SUMIF(Feuil4!$B:$B,Consolidation!$B305,Feuil4!$D:$D)","v":0},null,{"$f":"SUMIF(Feuil5!$B:$B,Consolidation!$B305,Feuil5!$D:$D)","v":0},null,0,0,{"$f":"SUMIF(Feuil1!$B:$B,Consolidation!$B305,Feuil1!$F:$F)","v":0},null,{"$f":"SUMIF(Feuil2!$B:$B,Consolidation!$B305,Feuil2!$F:$F)","v":0},null,{"$f":"SUMIF(Feuil3!$B:$B,Consolidation!$B305,Feuil3!$F:$F)","v":0},null,{"$f":"SUMIF(Feuil4!$B:$B,Consolidation!$B305,Feuil4!$F:$F)","v":0},null,{"$f":"SUMIF(Feuil5!$B:$B,Consolidation!$B305,Feuil5!$F:$F)","v":0},null,0,0,{"$f":"SUMIF(Feuil1!$B:$B,Consolidation!$B305,Feuil1!$H:$H)","v":0},null,{"$f":"SUMIF(Feuil2!$B:$B,Consolidation!$B305,Feuil2!$H:$H)","v":0},null,{"$f":"SUMIF(Feuil3!$B:$B,Consolidation!$B305,Feuil3!$H:$H)","v":0},null,{"$f":"SUMIF(Feuil4!$B:$B,Consolidation!$B305,Feuil4!$H:$H)","v":0},null,{"$f":"SUMIF(Feuil5!$B:$B,Consolidation!$B305,Feuil5!$H:$H)","v":0},null,0,0,0]
["InsererLigne",6131,"Contributions des personnes accompagnées, taxe absence",{"$f":"SUMIF(Feuil1!$B:$B,Consolidation!$B306,Feuil1!$D:$D)","v":0},null,{"$f":"SUMIF(Feuil2!$B:$B,Consolidation!$B306,Feuil2!$D:$D)","v":0},null,{"$f":"SUMIF(Feuil3!$B:$B,Consolidation!$B306,Feuil3!$D:$D)","v":0},null,{"$f":"SUMIF(Feuil4!$B:$B,Consolidation!$B306,Feuil4!$D:$D)","v":0},null,{"$f":"SUMIF(Feuil5!$B:$B,Consolidation!$B306,Feuil5!$D:$D)","v":0},null,0,0,{"$f":"SUMIF(Feuil1!$B:$B,Consolidation!$B306,Feuil1!$F:$F)","v":0},null,{"$f":"SUMIF(Feuil2!$B:$B,Consolidation!$B306,Feuil2!$F:$F)","v":0},null,{"$f":"SUMIF(Feuil3!$B:$B,Consolidation!$B306,Feuil3!$F:$F)","v":0},null,{"$f":"SUMIF(Feuil4!$B:$B,Consolidation!$B306,Feuil4!$F:$F)","v":0},null,{"$f":"SUMIF(Feuil5!$B:$B,Consolidation!$B306,Feuil5!$F:$F)","v":0},null,0,0,{"$f":"SUMIF(Feuil1!$B:$B,Consolidation!$B306,Feuil1!$H:$H)","v":0},null,{"$f":"SUMIF(Feuil2!$B:$B,Consolidation!$B306,Feuil2!$H:$H)","v":0},null,{"$f":"SUMIF(Feuil3!$B:$B,Consolidation!$B306,Feuil3!$H:$H)","v":0},null,{"$f":"SUMIF(Feuil4!$B:$B,Consolidation!$B306,Feuil4!$H:$H)","v":0},null,{"$f":"SUMIF(Feuil5!$B:$B,Consolidation!$B306,Feuil5!$H:$H)","v":0},null,0,0,0]
["InsererLigne",6133,"Contributions des personnes accompagnées, externes",{"$f":"SUMIF(Feuil1!$B:$B,Consolidation!$B307,Feuil1!$D:$D)","v":0},null,{"$f":"SUMIF(Feuil2!$B:$B,Consolidation!$B307,Feuil2!$D:$D)","v":0},null,{"$f":"SUMIF(Feuil3!$B:$B,Consolidation!$B307,Feuil3!$D:$D)","v":0},null,{"$f":"SUMIF(Feuil4!$B:$B,Consolidation!$B307,Feuil4!$D:$D)","v":0},null,{"$f":"SUMIF(Feuil5!$B:$B,Consolidation!$B307,Feuil5!$D:$D)","v":0},null,0,0,{"$f":"SUMIF(Feuil1!$B:$B,Consolidation!$B307,Feuil1!$F:$F)","v":0},null,{"$f":"SUMIF(Feuil2!$B:$B,Consolidation!$B307,Feuil2!$F:$F)","v":0},null,{"$f":"SUMIF(Feuil3!$B:$B,Consolidation!$B307,Feuil3!$F:$F)","v":0},null,{"$f":"SUMIF(Feuil4!$B:$B,Consolidation!$B307,Feuil4!$F:$F)","v":0},null,{"$f":"SUMIF(Feuil5!$B:$B,Consolidation!$B307,Feuil5!$F:$F)","v":0},null,0,0,{"$f":"SUMIF(Feuil1!$B:$B,Consolidation!$B307,Feuil1!$H:$H)","v":0},null,{"$f":"SUMIF(Feuil2!$B:$B,Consolidation!$B307,Feuil2!$H:$H)","v":0},null,{"$f":"SUMIF(Feuil3!$B:$B,Consolidation!$B307,Feuil3!$H:$H)","v":0},null,{"$f":"SUMIF(Feuil4!$B:$B,Consolidation!$B307,Feuil4!$H:$H)","v":0},null,{"$f":"SUMIF(Feuil5!$B:$B,Consolidation!$B307,Feuil5!$H:$H)","v":0},null,0,0,0]
["InsererLigne",6134,"Contributions des personnes accompagnées, repas",{"$f":"SUMIF(Feuil1!$B:$B,Consolidation!$B308,Feuil1!$D:$D)","v":0},null,{"$f":"SUMIF(Feuil2!$B:$B,Consolidation!$B308,Feuil2!$D:$D)","v":0},null,{"$f":"SUMIF(Feuil3!$B:$B,Consolidation!$B308,Feuil3!$D:$D)","v":0},null,{"$f":"SUMIF(Feuil4!$B:$B,Consolidation!$B308,Feuil4!$D:$D)","v":0},null,{"$f":"SUMIF(Feuil5!$B:$B,Consolidation!$B308,Feuil5!$D:$D)","v":0},null,0,0,{"$f":"SUMIF(Feuil1!$B:$B,Consolidation!$B308,Feuil1!$F:$F)","v":0},null,{"$f":"SUMIF(Feuil2!$B:$B,Consolidation!$B308,Feuil2!$F:$F)","v":0},null,{"$f":"SUMIF(Feuil3!$B:$B,Consolidation!$B308,Feuil3!$F:$F)","v":0},null,{"$f":"SUMIF(Feuil4!$B:$B,Consolidation!$B308,Feuil4!$F:$F)","v":0},null,{"$f":"SUMIF(Feuil5!$B:$B,Consolidation!$B308,Feuil5!$F:$F)","v":0},null,0,0,{"$f":"SUMIF(Feuil1!$B:$B,Consolidation!$B308,Feuil1!$H:$H)","v":0},null,{"$f":"SUMIF(Feuil2!$B:$B,Consolidation!$B308,Feuil2!$H:$H)","v":0},null,{"$f":"SUMIF(Feuil3!$B:$B,Consolidation!$B308,Feuil3!$H:$H)","v":0},null,{"$f":"SUMIF(Feuil4!$B:$B,Consolidation!$B308,Feuil4!$H:$H)","v":0},null,{"$f":"SUMIF(Feuil5!$B:$B,Consolidation!$B308,Feuil5!$H:$H)","v":0},null,0,0,0]
["InsererLigne",6135,"Contributions des personnes accompagnées, années antérieures",{"$f":"SUMIF(Feuil1!$B:$B,Consolidation!$B309,Feuil1!$D:$D)","v":0},null,{"$f":"SUMIF(Feuil2!$B:$B,Consolidation!$B309,Feuil2!$D:$D)","v":0},null,{"$f":"SUMIF(Feuil3!$B:$B,Consolidation!$B309,Feuil3!$D:$D)","v":0},null,{"$f":"SUMIF(Feuil4!$B:$B,Consolidation!$B309,Feuil4!$D:$D)","v":0},null,{"$f":"SUMIF(Feuil5!$B:$B,Consolidation!$B309,Feuil5!$D:$D)","v":0},null,0,0,{"$f":"SUMIF(Feuil1!$B:$B,Consolidation!$B309,Feuil1!$F:$F)","v":0},null,{"$f":"SUMIF(Feuil2!$B:$B,Consolidation!$B309,Feuil2!$F:$F)","v":0},null,{"$f":"SUMIF(Feuil3!$B:$B,Consolidation!$B309,Feuil3!$F:$F)","v":0},null,{"$f":"SUMIF(Feuil4!$B:$B,Consolidation!$B309,Feuil4!$F:$F)","v":0},null,{"$f":"SUMIF(Feuil5!$B:$B,Consolidation!$B309,Feuil5!$F:$F)","v":0},null,0,0,{"$f":"SUMIF(Feuil1!$B:$B,Consolidation!$B309,Feuil1!$H:$H)","v":0},null,{"$f":"SUMIF(Feuil2!$B:$B,Consolidation!$B309,Feuil2!$H:$H)","v":0},null,{"$f":"SUMIF(Feuil3!$B:$B,Consolidation!$B309,Feuil3!$H:$H)","v":0},null,{"$f":"SUMIF(Feuil4!$B:$B,Consolidation!$B309,Feuil4!$H:$H)","v":0},null,{"$f":"SUMIF(Feuil5!$B:$B,Consolidation!$B309,Feuil5!$H:$H)","v":0},null,0,0,0]
["InsererLigne",6140,"Contributions des personnes accompagnées, allocation pour impotent",{"$f":"SUMIF(Feuil1!$B:$B,Consolidation!$B310,Feuil1!$D:$D)","v":0},null,{"$f":"SUMIF(Feuil2!$B:$B,Consolidation!$B310,Feuil2!$D:$D)","v":0},null,{"$f":"SUMIF(Feuil3!$B:$B,Consolidation!$B310,Feuil3!$D:$D)","v":0},null,{"$f":"SUMIF(Feuil4!$B:$B,Consolidation!$B310,Feuil4!$D:$D)","v":0},null,{"$f":"SUMIF(Feuil5!$B:$B,Consolidation!$B310,Feuil5!$D:$D)","v":0},null,0,0,{"$f":"SUMIF(Feuil1!$B:$B,Consolidation!$B310,Feuil1!$F:$F)","v":0},null,{"$f":"SUMIF(Feuil2!$B:$B,Consolidation!$B310,Feuil2!$F:$F)","v":0},null,{"$f":"SUMIF(Feuil3!$B:$B,Consolidation!$B310,Feuil3!$F:$F)","v":0},null,{"$f":"SUMIF(Feuil4!$B:$B,Consolidation!$B310,Feuil4!$F:$F)","v":0},null,{"$f":"SUMIF(Feuil5!$B:$B,Consolidation!$B310,Feuil5!$F:$F)","v":0},null,0,0,{"$f":"SUMIF(Feuil1!$B:$B,Consolidation!$B310,Feuil1!$H:$H)","v":0},null,{"$f":"SUMIF(Feuil2!$B:$B,Consolidation!$B310,Feuil2!$H:$H)","v":0},null,{"$f":"SUMIF(Feuil3!$B:$B,Consolidation!$B310,Feuil3!$H:$H)","v":0},null,{"$f":"SUMIF(Feuil4!$B:$B,Consolidation!$B310,Feuil4!$H:$H)","v":0},null,{"$f":"SUMIF(Feuil5!$B:$B,Consolidation!$B310,Feuil5!$H:$H)","v":0},null,0,0,0]
["InsererLigne",6150,"Autres contributions                                                  ",{"$f":"SUMIF(Feuil1!$B:$B,Consolidation!$B311,Feuil1!$D:$D)","v":0},null,{"$f":"SUMIF(Feuil2!$B:$B,Consolidation!$B311,Feuil2!$D:$D)","v":0},null,{"$f":"SUMIF(Feuil3!$B:$B,Consolidation!$B311,Feuil3!$D:$D)","v":0},null,{"$f":"SUMIF(Feuil4!$B:$B,Consolidation!$B311,Feuil4!$D:$D)","v":0},null,{"$f":"SUMIF(Feuil5!$B:$B,Consolidation!$B311,Feuil5!$D:$D)","v":0},null,0,0,{"$f":"SUMIF(Feuil1!$B:$B,Consolidation!$B311,Feuil1!$F:$F)","v":0},null,{"$f":"SUMIF(Feuil2!$B:$B,Consolidation!$B311,Feuil2!$F:$F)","v":0},null,{"$f":"SUMIF(Feuil3!$B:$B,Consolidation!$B311,Feuil3!$F:$F)","v":0},null,{"$f":"SUMIF(Feuil4!$B:$B,Consolidation!$B311,Feuil4!$F:$F)","v":0},null,{"$f":"SUMIF(Feuil5!$B:$B,Consolidation!$B311,Feuil5!$F:$F)","v":0},null,0,0,{"$f":"SUMIF(Feuil1!$B:$B,Consolidation!$B311,Feuil1!$H:$H)","v":0},null,{"$f":"SUMIF(Feuil2!$B:$B,Consolidation!$B311,Feuil2!$H:$H)","v":0},null,{"$f":"SUMIF(Feuil3!$B:$B,Consolidation!$B311,Feuil3!$H:$H)","v":0},null,{"$f":"SUMIF(Feuil4!$B:$B,Consolidation!$B311,Feuil4!$H:$H)","v":0},null,{"$f":"SUMIF(Feuil5!$B:$B,Consolidation!$B311,Feuil5!$H:$H)","v":0},null,0,0,0]
["InsererLigne",6190,"Revenus provenant de compléments d'investissements",{"$f":"SUMIF(Feuil1!$B:$B,Consolidation!$B312,Feuil1!$D:$D)","v":0},null,{"$f":"SUMIF(Feuil2!$B:$B,Consolidation!$B312,Feuil2!$D:$D)","v":0},null,{"$f":"SUMIF(Feuil3!$B:$B,Consolidation!$B312,Feuil3!$D:$D)","v":0},null,{"$f":"SUMIF(Feuil4!$B:$B,Consolidation!$B312,Feuil4!$D:$D)","v":0},null,{"$f":"SUMIF(Feuil5!$B:$B,Consolidation!$B312,Feuil5!$D:$D)","v":0},null,0,0,{"$f":"SUMIF(Feuil1!$B:$B,Consolidation!$B312,Feuil1!$F:$F)","v":0},null,{"$f":"SUMIF(Feuil2!$B:$B,Consolidation!$B312,Feuil2!$F:$F)","v":0},null,{"$f":"SUMIF(Feuil3!$B:$B,Consolidation!$B312,Feuil3!$F:$F)","v":0},null,{"$f":"SUMIF(Feuil4!$B:$B,Consolidation!$B312,Feuil4!$F:$F)","v":0},null,{"$f":"SUMIF(Feuil5!$B:$B,Consolidation!$B312,Feuil5!$F:$F)","v":0},null,0,0,{"$f":"SUMIF(Feuil1!$B:$B,Consolidation!$B312,Feuil1!$H:$H)","v":0},null,{"$f":"SUMIF(Feuil2!$B:$B,Consolidation!$B312,Feuil2!$H:$H)","v":0},null,{"$f":"SUMIF(Feuil3!$B:$B,Consolidation!$B312,Feuil3!$H:$H)","v":0},null,{"$f":"SUMIF(Feuil4!$B:$B,Consolidation!$B312,Feuil4!$H:$H)","v":0},null,{"$f":"SUMIF(Feuil5!$B:$B,Consolidation!$B312,Feuil5!$H:$H)","v":0},null,0,0,0]
["InsererLigne",null,null,null,null,null,null,null,null,null,null,null,null,null,null,null,null,null,null,null,null,null,null,null,null,null,null,null,null,null,null,null,null,null,null,null,null,null,null,0]
[null,62,"Revenus découlant d'autres prestations",{"$f":"SUBTOTAL(9,D315:D339)","v":0},{"$f":"IF($E$5>0,D314/$E$5,0)","v":0},{"$f":"SUBTOTAL(9,F315:F339)","v":0},{"$f":"IF($G$5>0,F314/$G$5,0)","v":0},{"$f":"SUBTOTAL(9,H315:H339)","v":0},{"$f":"IF($I$5>0,H314/$I$5,0)","v":0},{"$f":"SUBTOTAL(9,J315:J339)","v":0},{"$f":"IF($K$5>0,J314/$K$5,0)","v":0},{"$f":"SUBTOTAL(9,L315:L339)","v":0},{"$f":"IF($M$5>0,L314/$M$5,0)","v":0},{"$f":"D314+F314+H314+J314+L314","v":0},{"$f":"E314+G314+I314+K314+M314","v":0},{"$f":"SUBTOTAL(9,P315:P339)","v":0},{"$f":"IF($Q$5>0,P314/$Q$5,0)","v":0},{"$f":"SUBTOTAL(9,R315:R339)","v":0},{"$f":"IF($S$5>0,R314/$S$5,0)","v":0},{"$f":"SUBTOTAL(9,T315:T339)","v":0},{"$f":"IF($U$5>0,T314/$U$5,0)","v":0},{"$f":"SUBTOTAL(9,V315:V339)","v":0},{"$f":"IF($W$5>0,V314/$W$5,0)","v":0},{"$f":"SUBTOTAL(9,X315:X339)","v":0},{"$f":"IF($Y$5>0,X314/$Y$5,0)","v":0},{"$f":"P314+R314+T314+V314+X314","v":0},{"$f":"Q314+S314+U314+W314+Y314","v":0},{"$f":"SUBTOTAL(9,AB315:AB339)","v":0},{"$f":"IF($AC$5>0,AB314/$AC$5,0)","v":0},{"$f":"SUBTOTAL(9,AD315:AD339)","v":0},{"$f":"IF($AE$5>0,AD314/$AE$5,0)","v":0},{"$f":"SUBTOTAL(9,AF315:AF339)","v":0},{"$f":"IF($AG$5>0,AF314/$AG$5,0)","v":0},{"$f":"SUBTOTAL(9,AH315:AH339)","v":0},{"$f":"IF($AI$5>0,AH314/$AI$5,0)","v":0},{"$f":"SUBTOTAL(9,AJ315:AJ339)","v":0},{"$f":"IF($AK$5>0,AJ314/$AK$5,0)","v":0},{"$f":"AB314+AD314+AF314+AH314+AJ314","v":0},{"$f":"AC314+AE314+AG314+AI314+AK314","v":0},0]
[null,null,null,null,null,null,null,null,null,null,null,null,null,null,null,null,null,null,null,null,null,null,null,null,null,null,null,null,null,null,null,null,null,null,null,null,null,null,null,0]
[null,620,"Compensation des coûts pour nesures professionnelles",{"$f":"SUBTOTAL(9,D317:D320)","v":0},{"$f":"IF($E$5>0,D316/$E$5,0)","v":0},{"$f":"SUBTOTAL(9,F317:F320)","v":0},{"$f":"IF($G$5>0,F316/$G$5,0)","v":0},{"$f":"SUBTOTAL(9,H317:H320)","v":0},{"$f":"IF($I$5>0,H316/$I$5,0)","v":0},{"$f":"SUBTOTAL(9,J317:J320)","v":0},{"$f":"IF($K$5>0,J316/$K$5,0)","v":0},{"$f":"SUBTOTAL(9,L317:L320)","v":0},{"$f":"IF($M$5>0,L316/$M$5,0)","v":0},{"$f":"D316+F316+H316+J316+L316","v":0},{"$f":"E316+G316+I316+K316+M316","v":0},{"$f":"SUBTOTAL(9,P317:P320)","v":0},{"$f":"IF($Q$5>0,P316/$Q$5,0)","v":0},{"$f":"SUBTOTAL(9,R317:R320)","v":0},{"$f":"IF($S$5>0,R316/$S$5,0)","v":0},{"$f":"SUBTOTAL(9,T317:T320)","v":0},{"$f":"IF($U$5>0,T316/$U$5,0)","v":0},{"$f":"SUBTOTAL(9,V317:V320)","v":0},{"$f":"IF($W$5>0,V316/$W$5,0)","v":0},{"$f":"SUBTOTAL(9,X317:X320)","v":0},{"$f":"IF($Y$5>0,X316/$Y$5,0)","v":0},{"$f":"P316+R316+T316+V316+X316","v":0},{"$f":"Q316+S316+U316+W316+Y316","v":0},{"$f":"SUBTOTAL(9,AB317:AB320)","v":0},{"$f":"IF($AC$5>0,AB316/$AC$5,0)","v":0},{"$f":"SUBTOTAL(9,AD317:AD320)","v":0},{"$f":"IF($AE$5>0,AD316/$AE$5,0)","v":0},{"$f":"SUBTOTAL(9,AF317:AF320)","v":0},{"$f":"IF($AG$5>0,AF316/$AG$5,0)","v":0},{"$f":"SUBTOTAL(9,AH317:AH320)","v":0},{"$f":"IF($AI$5>0,AH316/$AI$5,0)","v":0},{"$f":"SUBTOTAL(9,AJ317:AJ320)","v":0},{"$f":"IF($AK$5>0,AJ316/$AK$5,0)","v":0},{"$f":"AB316+AD316+AF316+AH316+AJ316","v":0},{"$f":"AC316+AE316+AG316+AI316+AK316","v":0},0]
[null,6200,"Contributions à la formation                                                  ",{"$f":"SUMIF(Feuil1!$B:$B,Consolidation!$B317,Feuil1!$D:$D)","v":0},null,{"$f":"SUMIF(Feuil2!$B:$B,Consolidation!$B317,Feuil2!$D:$D)","v":0},null,{"$f":"SUMIF(Feuil3!$B:$B,Consolidation!$B317,Feuil3!$D:$D)","v":0},null,{"$f":"SUMIF(Feuil4!$B:$B,Consolidation!$B317,Feuil4!$D:$D)","v":0},null,{"$f":"SUMIF(Feuil5!$B:$B,Consolidation!$B317,Feuil5!$D:$D)","v":0},null,{"$f":"D317+F317+H317+J317+L317","v":0},{"$f":"E317+G317+I317+K317+M317","v":0},{"$f":"SUMIF(Feuil1!$B:$B,Consolidation!$B317,Feuil1!$F:$F)","v":0},null,{"$f":"SUMIF(Feuil2!$B:$B,Consolidation!$B317,Feuil2!$F:$F)","v":0},null,{"$f":"SUMIF(Feuil3!$B:$B,Consolidation!$B317,Feuil3!$F:$F)","v":0},null,{"$f":"SUMIF(Feuil4!$B:$B,Consolidation!$B317,Feuil4!$F:$F)","v":0},null,{"$f":"SUMIF(Feuil5!$B:$B,Consolidation!$B317,Feuil5!$F:$F)","v":0},null,{"$f":"P317+R317+T317+V317+X317","v":0},{"$f":"Q317+S317+U317+W317+Y317","v":0},{"$f":"SUMIF(Feuil1!$B:$B,Consolidation!$B317,Feuil1!$H:$H)","v":0},null,{"$f":"SUMIF(Feuil2!$B:$B,Consolidation!$B317,Feuil2!$H:$H)","v":0},null,{"$f":"SUMIF(Feuil3!$B:$B,Consolidation!$B317,Feuil3!$H:$H)","v":0},null,{"$f":"SUMIF(Feuil4!$B:$B,Consolidation!$B317,Feuil4!$H:$H)","v":0},null,{"$f":"SUMIF(Feuil5!$B:$B,Consolidation!$B317,Feuil5!$H:$H)","v":0},null,{"$f":"AB317+AD317+AF317+AH317+AJ317","v":0},{"$f":"AC317+AE317+AG317+AI317+AK317","v":0},0]
["InsererLigne",6201,"Contributions aux frais de pension                                                  ",{"$f":"SUMIF(Feuil1!$B:$B,Consolidation!$B318,Feuil1!$D:$D)","v":0},null,{"$f":"SUMIF(Feuil2!$B:$B,Consolidation!$B318,Feuil2!$D:$D)","v":0},null,{"$f":"SUMIF(Feuil3!$B:$B,Consolidation!$B318,Feuil3!$D:$D)","v":0},null,{"$f":"SUMIF(Feuil4!$B:$B,Consolidation!$B318,Feuil4!$D:$D)","v":0},null,{"$f":"SUMIF(Feuil5!$B:$B,Consolidation!$B318,Feuil5!$D:$D)","v":0},null,0,0,{"$f":"SUMIF(Feuil1!$B:$B,Consolidation!$B318,Feuil1!$F:$F)","v":0},null,{"$f":"SUMIF(Feuil2!$B:$B,Consolidation!$B318,Feuil2!$F:$F)","v":0},null,{"$f":"SUMIF(Feuil3!$B:$B,Consolidation!$B318,Feuil3!$F:$F)","v":0},null,{"$f":"SUMIF(Feuil4!$B:$B,Consolidation!$B318,Feuil4!$F:$F)","v":0},null,{"$f":"SUMIF(Feuil5!$B:$B,Consolidation!$B318,Feuil5!$F:$F)","v":0},null,0,0,{"$f":"SUMIF(Feuil1!$B:$B,Consolidation!$B318,Feuil1!$H:$H)","v":0},null,{"$f":"SUMIF(Feuil2!$B:$B,Consolidation!$B318,Feuil2!$H:$H)","v":0},null,{"$f":"SUMIF(Feuil3!$B:$B,Consolidation!$B318,Feuil3!$H:$H)","v":0},null,{"$f":"SUMIF(Feuil4!$B:$B,Consolidation!$B318,Feuil4!$H:$H)","v":0},null,{"$f":"SUMIF(Feuil5!$B:$B,Consolidation!$B318,Feuil5!$H:$H)","v":0},null,0,0,0]
["InsererLigne",6202,"Contributions aux frais de repas",{"$f":"SUMIF(Feuil1!$B:$B,Consolidation!$B319,Feuil1!$D:$D)","v":0},null,{"$f":"SUMIF(Feuil2!$B:$B,Consolidation!$B319,Feuil2!$D:$D)","v":0},null,{"$f":"SUMIF(Feuil3!$B:$B,Consolidation!$B319,Feuil3!$D:$D)","v":0},null,{"$f":"SUMIF(Feuil4!$B:$B,Consolidation!$B319,Feuil4!$D:$D)","v":0},null,{"$f":"SUMIF(Feuil5!$B:$B,Consolidation!$B319,Feuil5!$D:$D)","v":0},null,0,0,{"$f":"SUMIF(Feuil1!$B:$B,Consolidation!$B319,Feuil1!$F:$F)","v":0},null,{"$f":"SUMIF(Feuil2!$B:$B,Consolidation!$B319,Feuil2!$F:$F)","v":0},null,{"$f":"SUMIF(Feuil3!$B:$B,Consolidation!$B319,Feuil3!$F:$F)","v":0},null,{"$f":"SUMIF(Feuil4!$B:$B,Consolidation!$B319,Feuil4!$F:$F)","v":0},null,{"$f":"SUMIF(Feuil5!$B:$B,Consolidation!$B319,Feuil5!$F:$F)","v":0},null,0,0,{"$f":"SUMIF(Feuil1!$B:$B,Consolidation!$B319,Feuil1!$H:$H)","v":0},null,{"$f":"SUMIF(Feuil2!$B:$B,Consolidation!$B319,Feuil2!$H:$H)","v":0},null,{"$f":"SUMIF(Feuil3!$B:$B,Consolidation!$B319,Feuil3!$H:$H)","v":0},null,{"$f":"SUMIF(Feuil4!$B:$B,Consolidation!$B319,Feuil4!$H:$H)","v":0},null,{"$f":"SUMIF(Feuil5!$B:$B,Consolidation!$B319,Feuil5!$H:$H)","v":0},null,0,0,0]
["InsererLigne",null,null,null,null,null,null,null,null,null,null,null,null,null,null,null,null,null,null,null,null,null,null,null,null,null,null,null,null,null,null,null,null,null,null,null,null,null,null,0]
[null,621,"Compensation des coûts pour les services ambulatoires",{"$f":"SUBTOTAL(9,D322:D326)","v":0},{"$f":"IF($E$5>0,D321/$E$5,0)","v":0},{"$f":"SUBTOTAL(9,F322:F326)","v":0},{"$f":"IF($G$5>0,F321/$G$5,0)","v":0},{"$f":"SUBTOTAL(9,H322:H326)","v":0},{"$f":"IF($I$5>0,H321/$I$5,0)","v":0},{"$f":"SUBTOTAL(9,J322:J326)","v":0},{"$f":"IF($K$5>0,J321/$K$5,0)","v":0},{"$f":"SUBTOTAL(9,L322:L326)","v":0},{"$f":"IF($M$5>0,L321/$M$5,0)","v":0},{"$f":"D321+F321+H321+J321+L321","v":0},{"$f":"E321+G321+I321+K321+M321","v":0},{"$f":"SUBTOTAL(9,P322:P326)","v":0},{"$f":"IF($Q$5>0,P321/$Q$5,0)","v":0},{"$f":"SUBTOTAL(9,R322:R326)","v":0},{"$f":"IF($S$5>0,R321/$S$5,0)","v":0},{"$f":"SUBTOTAL(9,T322:T326)","v":0},{"$f":"IF($U$5>0,T321/$U$5,0)","v":0},{"$f":"SUBTOTAL(9,V322:V326)","v":0},{"$f":"IF($W$5>0,V321/$W$5,0)","v":0},{"$f":"SUBTOTAL(9,X322:X326)","v":0},{"$f":"IF($Y$5>0,X321/$Y$5,0)","v":0},{"$f":"P321+R321+T321+V321+X321","v":0},{"$f":"Q321+S321+U321+W321+Y321","v":0},{"$f":"SUBTOTAL(9,AB322:AB326)","v":0},{"$f":"IF($AC$5>0,AB321/$AC$5,0)","v":0},{"$f":"SUBTOTAL(9,AD322:AD326)","v":0},{"$f":"IF($AE$5>0,AD321/$AE$5,0)","v":0},{"$f":"SUBTOTAL(9,AF322:AF326)","v":0},{"$f":"IF($AG$5>0,AF321/$AG$5,0)","v":0},{"$f":"SUBTOTAL(9,AH322:AH326)","v":0},{"$f":"IF($AI$5>0,AH321/$AI$5,0)","v":0},{"$f":"SUBTOTAL(9,AJ322:AJ326)","v":0},{"$f":"IF($AK$5>0,AJ321/$AK$5,0)","v":0},{"$f":"AB321+AD321+AF321+AH321+AJ321","v":0},{"$f":"AC321+AE321+AG321+AI321+AK321","v":0},0]
["InsererLigne",6211,"Contributions aux  services d'éducation précoce                                                  ",{"$f":"SUMIF(Feuil1!$B:$B,Consolidation!$B322,Feuil1!$D:$D)","v":0},null,{"$f":"SUMIF(Feuil2!$B:$B,Consolidation!$B322,Feuil2!$D:$D)","v":0},null,{"$f":"SUMIF(Feuil3!$B:$B,Consolidation!$B322,Feuil3!$D:$D)","v":0},null,{"$f":"SUMIF(Feuil4!$B:$B,Consolidation!$B322,Feuil4!$D:$D)","v":0},null,{"$f":"SUMIF(Feuil5!$B:$B,Consolidation!$B322,Feuil5!$D:$D)","v":0},null,{"$f":"D322+F322+H322+J322+L322","v":0},{"$f":"E322+G322+I322+K322+M322","v":0},{"$f":"SUMIF(Feuil1!$B:$B,Consolidation!$B322,Feuil1!$F:$F)","v":0},null,{"$f":"SUMIF(Feuil2!$B:$B,Consolidation!$B322,Feuil2!$F:$F)","v":0},null,{"$f":"SUMIF(Feuil3!$B:$B,Consolidation!$B322,Feuil3!$F:$F)","v":0},null,{"$f":"SUMIF(Feuil4!$B:$B,Consolidation!$B322,Feuil4!$F:$F)","v":0},null,{"$f":"SUMIF(Feuil5!$B:$B,Consolidation!$B322,Feuil5!$F:$F)","v":0},null,{"$f":"P322+R322+T322+V322+X322","v":0},{"$f":"Q322+S322+U322+W322+Y322","v":0},{"$f":"SUMIF(Feuil1!$B:$B,Consolidation!$B322,Feuil1!$H:$H)","v":0},null,{"$f":"SUMIF(Feuil2!$B:$B,Consolidation!$B322,Feuil2!$H:$H)","v":0},null,{"$f":"SUMIF(Feuil3!$B:$B,Consolidation!$B322,Feuil3!$H:$H)","v":0},null,{"$f":"SUMIF(Feuil4!$B:$B,Consolidation!$B322,Feuil4!$H:$H)","v":0},null,{"$f":"SUMIF(Feuil5!$B:$B,Consolidation!$B322,Feuil5!$H:$H)","v":0},null,{"$f":"AB322+AD322+AF322+AH322+AJ322","v":0},{"$f":"AC322+AE322+AG322+AI322+AK322","v":0},0]
["InsererLigne",6212,"Contributions pour école intégrative                                                  ",{"$f":"SUMIF(Feuil1!$B:$B,Consolidation!$B323,Feuil1!$D:$D)","v":0},null,{"$f":"SUMIF(Feuil2!$B:$B,Consolidation!$B323,Feuil2!$D:$D)","v":0},null,{"$f":"SUMIF(Feuil3!$B:$B,Consolidation!$B323,Feuil3!$D:$D)","v":0},null,{"$f":"SUMIF(Feuil4!$B:$B,Consolidation!$B323,Feuil4!$D:$D)","v":0},null,{"$f":"SUMIF(Feuil5!$B:$B,Consolidation!$B323,Feuil5!$D:$D)","v":0},null,0,0,{"$f":"SUMIF(Feuil1!$B:$B,Consolidation!$B323,Feuil1!$F:$F)","v":0},null,{"$f":"SUMIF(Feuil2!$B:$B,Consolidation!$B323,Feuil2!$F:$F)","v":0},null,{"$f":"SUMIF(Feuil3!$B:$B,Consolidation!$B323,Feuil3!$F:$F)","v":0},null,{"$f":"SUMIF(Feuil4!$B:$B,Consolidation!$B323,Feuil4!$F:$F)","v":0},null,{"$f":"SUMIF(Feuil5!$B:$B,Consolidation!$B323,Feuil5!$F:$F)","v":0},null,0,0,{"$f":"SUMIF(Feuil1!$B:$B,Consolidation!$B323,Feuil1!$H:$H)","v":0},null,{"$f":"SUMIF(Feuil2!$B:$B,Consolidation!$B323,Feuil2!$H:$H)","v":0},null,{"$f":"SUMIF(Feuil3!$B:$B,Consolidation!$B323,Feuil3!$H:$H)","v":0},null,{"$f":"SUMIF(Feuil4!$B:$B,Consolidation!$B323,Feuil4!$H:$H)","v":0},null,{"$f":"SUMIF(Feuil5!$B:$B,Consolidation!$B323,Feuil5!$H:$H)","v":0},null,0,0,0]
["InsererLigne",6213,"Contributions aux services pédago-thérapeutiques (CNPea)                                           ",{"$f":"SUMIF(Feuil1!$B:$B,Consolidation!$B324,Feuil1!$D:$D)","v":0},null,{"$f":"SUMIF(Feuil2!$B:$B,Consolidation!$B324,Feuil2!$D:$D)","v":0},null,{"$f":"SUMIF(Feuil3!$B:$B,Consolidation!$B324,Feuil3!$D:$D)","v":0},null,{"$f":"SUMIF(Feuil4!$B:$B,Consolidation!$B324,Feuil4!$D:$D)","v":0},null,{"$f":"SUMIF(Feuil5!$B:$B,Consolidation!$B324,Feuil5!$D:$D)","v":0},null,0,0,{"$f":"SUMIF(Feuil1!$B:$B,Consolidation!$B324,Feuil1!$F:$F)","v":0},null,{"$f":"SUMIF(Feuil2!$B:$B,Consolidation!$B324,Feuil2!$F:$F)","v":0},null,{"$f":"SUMIF(Feuil3!$B:$B,Consolidation!$B324,Feuil3!$F:$F)","v":0},null,{"$f":"SUMIF(Feuil4!$B:$B,Consolidation!$B324,Feuil4!$F:$F)","v":0},null,{"$f":"SUMIF(Feuil5!$B:$B,Consolidation!$B324,Feuil5!$F:$F)","v":0},null,0,0,{"$f":"SUMIF(Feuil1!$B:$B,Consolidation!$B324,Feuil1!$H:$H)","v":0},null,{"$f":"SUMIF(Feuil2!$B:$B,Consolidation!$B324,Feuil2!$H:$H)","v":0},null,{"$f":"SUMIF(Feuil3!$B:$B,Consolidation!$B324,Feuil3!$H:$H)","v":0},null,{"$f":"SUMIF(Feuil4!$B:$B,Consolidation!$B324,Feuil4!$H:$H)","v":0},null,{"$f":"SUMIF(Feuil5!$B:$B,Consolidation!$B324,Feuil5!$H:$H)","v":0},null,0,0,0]
["InsererLigne",6214,"Rbt des caisses-maladies",{"$f":"SUMIF(Feuil1!$B:$B,Consolidation!$B325,Feuil1!$D:$D)","v":0},null,{"$f":"SUMIF(Feuil2!$B:$B,Consolidation!$B325,Feuil2!$D:$D)","v":0},null,{"$f":"SUMIF(Feuil3!$B:$B,Consolidation!$B325,Feuil3!$D:$D)","v":0},null,{"$f":"SUMIF(Feuil4!$B:$B,Consolidation!$B325,Feuil4!$D:$D)","v":0},null,{"$f":"SUMIF(Feuil5!$B:$B,Consolidation!$B325,Feuil5!$D:$D)","v":0},null,0,0,{"$f":"SUMIF(Feuil1!$B:$B,Consolidation!$B325,Feuil1!$F:$F)","v":0},null,{"$f":"SUMIF(Feuil2!$B:$B,Consolidation!$B325,Feuil2!$F:$F)","v":0},null,{"$f":"SUMIF(Feuil3!$B:$B,Consolidation!$B325,Feuil3!$F:$F)","v":0},null,{"$f":"SUMIF(Feuil4!$B:$B,Consolidation!$B325,Feuil4!$F:$F)","v":0},null,{"$f":"SUMIF(Feuil5!$B:$B,Consolidation!$B325,Feuil5!$F:$F)","v":0},null,0,0,{"$f":"SUMIF(Feuil1!$B:$B,Consolidation!$B325,Feuil1!$H:$H)","v":0},null,{"$f":"SUMIF(Feuil2!$B:$B,Consolidation!$B325,Feuil2!$H:$H)","v":0},null,{"$f":"SUMIF(Feuil3!$B:$B,Consolidation!$B325,Feuil3!$H:$H)","v":0},null,{"$f":"SUMIF(Feuil4!$B:$B,Consolidation!$B325,Feuil4!$H:$H)","v":0},null,{"$f":"SUMIF(Feuil5!$B:$B,Consolidation!$B325,Feuil5!$H:$H)","v":0},null,0,0,0]
["InsererLigne",null,null,null,null,null,null,null,null,null,null,null,null,null,null,null,null,null,null,null,null,null,null,null,null,null,null,null,null,null,null,null,null,null,null,null,null,null,null,0]
[null,622,"Compensation des coûts pour autres mesures",{"$f":"SUBTOTAL(9,D328:D329)","v":0},{"$f":"IF($E$5>0,D327/$E$5,0)","v":0},{"$f":"SUBTOTAL(9,F328:F329)","v":0},{"$f":"IF($G$5>0,F327/$G$5,0)","v":0},{"$f":"SUBTOTAL(9,H328:H329)","v":0},{"$f":"IF($I$5>0,H327/$I$5,0)","v":0},{"$f":"SUBTOTAL(9,J328:J329)","v":0},{"$f":"IF($K$5>0,J327/$K$5,0)","v":0},{"$f":"SUBTOTAL(9,L328:L329)","v":0},{"$f":"IF($M$5>0,L327/$M$5,0)","v":0},{"$f":"D327+F327+H327+J327+L327","v":0},{"$f":"E327+G327+I327+K327+M327","v":0},{"$f":"SUBTOTAL(9,P328:P329)","v":0},{"$f":"IF($Q$5>0,P327/$Q$5,0)","v":0},{"$f":"SUBTOTAL(9,R328:R329)","v":0},{"$f":"IF($S$5>0,R327/$S$5,0)","v":0},{"$f":"SUBTOTAL(9,T328:T329)","v":0},{"$f":"IF($U$5>0,T327/$U$5,0)","v":0},{"$f":"SUBTOTAL(9,V328:V329)","v":0},{"$f":"IF($W$5>0,V327/$W$5,0)","v":0},{"$f":"SUBTOTAL(9,X328:X329)","v":0},{"$f":"IF($Y$5>0,X327/$Y$5,0)","v":0},{"$f":"P327+R327+T327+V327+X327","v":0},{"$f":"Q327+S327+U327+W327+Y327","v":0},{"$f":"SUBTOTAL(9,AB328:AB329)","v":0},{"$f":"IF($AC$5>0,AB327/$AC$5,0)","v":0},{"$f":"SUBTOTAL(9,AD328:AD329)","v":0},{"$f":"IF($AE$5>0,AD327/$AE$5,0)","v":0},{"$f":"SUBTOTAL(9,AF328:AF329)","v":0},{"$f":"IF($AG$5>0,AF327/$AG$5,0)","v":0},{"$f":"SUBTOTAL(9,AH328:AH329)","v":0},{"$f":"IF($AI$5>0,AH327/$AI$5,0)","v":0},{"$f":"SUBTOTAL(9,AJ328:AJ329)","v":0},{"$f":"IF($AK$5>0,AJ327/$AK$5,0)","v":0},{"$f":"AB327+AD327+AF327+AH327+AJ327","v":0},{"$f":"AC327+AE327+AG327+AI327+AK327","v":0},{"$f":"SUM(D327:AM327)","v":0}]
["InsererLigne",6221,"Contributions aux mesures médico-thérapeutiques                                                  ",{"$f":"SUMIF(Feuil1!$B:$B,Consolidation!$B328,Feuil1!$D:$D)","v":0},null,{"$f":"SUMIF(Feuil2!$B:$B,Consolidation!$B328,Feuil2!$D:$D)","v":0},null,{"$f":"SUMIF(Feuil3!$B:$B,Consolidation!$B328,Feuil3!$D:$D)","v":0},null,{"$f":"SUMIF(Feuil4!$B:$B,Consolidation!$B328,Feuil4!$D:$D)","v":0},null,{"$f":"SUMIF(Feuil5!$B:$B,Consolidation!$B328,Feuil5!$D:$D)","v":0},null,{"$f":"D328+F328+H328+J328+L328","v":0},{"$f":"E328+G328+I328+K328+M328","v":0},{"$f":"SUMIF(Feuil1!$B:$B,Consolidation!$B328,Feuil1!$F:$F)","v":0},null,{"$f":"SUMIF(Feuil2!$B:$B,Consolidation!$B328,Feuil2!$F:$F)","v":0},null,{"$f":"SUMIF(Feuil3!$B:$B,Consolidation!$B328,Feuil3!$F:$F)","v":0},null,{"$f":"SUMIF(Feuil4!$B:$B,Consolidation!$B328,Feuil4!$F:$F)","v":0},null,{"$f":"SUMIF(Feuil5!$B:$B,Consolidation!$B328,Feuil5!$F:$F)","v":0},null,{"$f":"P328+R328+T328+V328+X328","v":0},{"$f":"Q328+S328+U328+W328+Y328","v":0},{"$f":"SUMIF(Feuil1!$B:$B,Consolidation!$B328,Feuil1!$H:$H)","v":0},null,{"$f":"SUMIF(Feuil2!$B:$B,Consolidation!$B328,Feuil2!$H:$H)","v":0},null,{"$f":"SUMIF(Feuil3!$B:$B,Consolidation!$B328,Feuil3!$H:$H)","v":0},null,{"$f":"SUMIF(Feuil4!$B:$B,Consolidation!$B328,Feuil4!$H:$H)","v":0},null,{"$f":"SUMIF(Feuil5!$B:$B,Consolidation!$B328,Feuil5!$H:$H)","v":0},null,{"$f":"AB328+AD328+AF328+AH328+AJ328","v":0},{"$f":"AC328+AE328+AG328+AI328+AK328","v":0},0]
["InsererLigne",null,null,null,null,null,null,null,null,null,null,null,null,null,null,null,null,null,null,null,null,null,null,null,null,null,null,null,null,null,null,null,null,null,null,null,null,null,null,0]
[null,623,"Autres prestations médicales et infirmières                                                  ",{"$f":"SUBTOTAL(9,D331:D332)","v":0},{"$f":"IF($E$5>0,D330/$E$5,0)","v":0},{"$f":"SUBTOTAL(9,F331:F332)","v":0},{"$f":"IF($G$5>0,F330/$G$5,0)","v":0},{"$f":"SUBTOTAL(9,H331:H332)","v":0},{"$f":"IF($I$5>0,H330/$I$5,0)","v":0},{"$f":"SUBTOTAL(9,J331:J332)","v":0},{"$f":"IF($K$5>0,J330/$K$5,0)","v":0},{"$f":"SUBTOTAL(9,L331:L332)","v":0},{"$f":"IF($M$5>0,L330/$M$5,0)","v":0},{"$f":"D330+F330+H330+J330+L330","v":0},{"$f":"E330+G330+I330+K330+M330","v":0},{"$f":"SUBTOTAL(9,P331:P332)","v":0},{"$f":"IF($Q$5>0,P330/$Q$5,0)","v":0},{"$f":"SUBTOTAL(9,R331:R332)","v":0},{"$f":"IF($S$5>0,R330/$S$5,0)","v":0},{"$f":"SUBTOTAL(9,T331:T332)","v":0},{"$f":"IF($U$5>0,T330/$U$5,0)","v":0},{"$f":"SUBTOTAL(9,V331:V332)","v":0},{"$f":"IF($W$5>0,V330/$W$5,0)","v":0},{"$f":"SUBTOTAL(9,X331:X332)","v":0},{"$f":"IF($Y$5>0,X330/$Y$5,0)","v":0},{"$f":"P330+R330+T330+V330+X330","v":0},{"$f":"Q330+S330+U330+W330+Y330","v":0},{"$f":"SUBTOTAL(9,AB331:AB332)","v":0},{"$f":"IF($AC$5>0,AB330/$AC$5,0)","v":0},{"$f":"SUBTOTAL(9,AD331:AD332)","v":0},{"$f":"IF($AE$5>0,AD330/$AE$5,0)","v":0},{"$f":"SUBTOTAL(9,AF331:AF332)","v":0},{"$f":"IF($AG$5>0,AF330/$AG$5,0)","v":0},{"$f":"SUBTOTAL(9,AH331:AH332)","v":0},{"$f":"IF($AI$5>0,AH330/$AI$5,0)","v":0},{"$f":"SUBTOTAL(9,AJ331:AJ332)","v":0},{"$f":"IF($AK$5>0,AJ330/$AK$5,0)","v":0},{"$f":"AB330+AD330+AF330+AH330+AJ330","v":0},{"$f":"AC330+AE330+AG330+AI330+AK330","v":0},0]
[null,6230,"Autres prestations médicales et infirmières                                                  ",{"$f":"SUMIF(Feuil1!$B:$B,Consolidation!$B331,Feuil1!$D:$D)","v":0},null,{"$f":"SUMIF(Feuil2!$B:$B,Consolidation!$B331,Feuil2!$D:$D)","v":0},null,{"$f":"SUMIF(Feuil3!$B:$B,Consolidation!$B331,Feuil3!$D:$D)","v":0},null,{"$f":"SUMIF(Feuil4!$B:$B,Consolidation!$B331,Feuil4!$D:$D)","v":0},null,{"$f":"SUMIF(Feuil5!$B:$B,Consolidation!$B331,Feuil5!$D:$D)","v":0},null,{"$f":"D331+F331+H331+J331+L331","v":0},{"$f":"E331+G331+I331+K331+M331","v":0},{"$f":"SUMIF(Feuil1!$B:$B,Consolidation!$B331,Feuil1!$F:$F)","v":0},null,{"$f":"SUMIF(Feuil2!$B:$B,Consolidation!$B331,Feuil2!$F:$F)","v":0},null,{"$f":"SUMIF(Feuil3!$B:$B,Consolidation!$B331,Feuil3!$F:$F)","v":0},null,{"$f":"SUMIF(Feuil4!$B:$B,Consolidation!$B331,Feuil4!$F:$F)","v":0},null,{"$f":"SUMIF(Feuil5!$B:$B,Consolidation!$B331,Feuil5!$F:$F)","v":0},null,{"$f":"P331+R331+T331+V331+X331","v":0},{"$f":"Q331+S331+U331+W331+Y331","v":0},{"$f":"SUMIF(Feuil1!$B:$B,Consolidation!$B331,Feuil1!$H:$H)","v":0},null,{"$f":"SUMIF(Feuil2!$B:$B,Consolidation!$B331,Feuil2!$H:$H)","v":0},null,{"$f":"SUMIF(Feuil3!$B:$B,Consolidation!$B331,Feuil3!$H:$H)","v":0},null,{"$f":"SUMIF(Feuil4!$B:$B,Consolidation!$B331,Feuil4!$H:$H)","v":0},null,{"$f":"SUMIF(Feuil5!$B:$B,Consolidation!$B331,Feuil5!$H:$H)","v":0},null,{"$f":"AB331+AD331+AF331+AH331+AJ331","v":0},{"$f":"AC331+AE331+AG331+AI331+AK331","v":0},0]
["InsererLigne",null,null,null,null,null,null,null,null,null,null,null,null,0,0,null,null,null,null,null,null,null,null,null,null,0,0,null,null,null,null,null,null,null,null,null,null,0,0,0]
[null,624,"Forfaits journaliers caisse maladie",{"$f":"SUBTOTAL(9,D334:D335)","v":0},{"$f":"IF($E$5>0,D333/$E$5,0)","v":0},{"$f":"SUBTOTAL(9,F334:F335)","v":0},{"$f":"IF($G$5>0,F333/$G$5,0)","v":0},{"$f":"SUBTOTAL(9,H334:H335)","v":0},{"$f":"IF($I$5>0,H333/$I$5,0)","v":0},{"$f":"SUBTOTAL(9,J334:J335)","v":0},{"$f":"IF($K$5>0,J333/$K$5,0)","v":0},{"$f":"SUBTOTAL(9,L334:L335)","v":0},{"$f":"IF($M$5>0,L333/$M$5,0)","v":0},{"$f":"D333+F333+H333+J333+L333","v":0},{"$f":"E333+G333+I333+K333+M333","v":0},{"$f":"SUBTOTAL(9,P334:P335)","v":0},{"$f":"IF($Q$5>0,P333/$Q$5,0)","v":0},{"$f":"SUBTOTAL(9,R334:R335)","v":0},{"$f":"IF($S$5>0,R333/$S$5,0)","v":0},{"$f":"SUBTOTAL(9,T334:T335)","v":0},{"$f":"IF($U$5>0,T333/$U$5,0)","v":0},{"$f":"SUBTOTAL(9,V334:V335)","v":0},{"$f":"IF($W$5>0,V333/$W$5,0)","v":0},{"$f":"SUBTOTAL(9,X334:X335)","v":0},{"$f":"IF($Y$5>0,X333/$Y$5,0)","v":0},{"$f":"P333+R333+T333+V333+X333","v":0},{"$f":"Q333+S333+U333+W333+Y333","v":0},{"$f":"SUBTOTAL(9,AB334:AB335)","v":0},{"$f":"IF($AC$5>0,AB333/$AC$5,0)","v":0},{"$f":"SUBTOTAL(9,AD334:AD335)","v":0},{"$f":"IF($AE$5>0,AD333/$AE$5,0)","v":0},{"$f":"SUBTOTAL(9,AF334:AF335)","v":0},{"$f":"IF($AG$5>0,AF333/$AG$5,0)","v":0},{"$f":"SUBTOTAL(9,AH334:AH335)","v":0},{"$f":"IF($AI$5>0,AH333/$AI$5,0)","v":0},{"$f":"SUBTOTAL(9,AJ334:AJ335)","v":0},{"$f":"IF($AK$5>0,AJ333/$AK$5,0)","v":0},{"$f":"AB333+AD333+AF333+AH333+AJ333","v":0},{"$f":"AC333+AE333+AG333+AI333+AK333","v":0},0]
[null,6240,"Forfaits journaliers caisse maladie",{"$f":"SUMIF(Feuil1!$B:$B,Consolidation!$B334,Feuil1!$D:$D)","v":0},null,{"$f":"SUMIF(Feuil2!$B:$B,Consolidation!$B334,Feuil2!$D:$D)","v":0},null,{"$f":"SUMIF(Feuil3!$B:$B,Consolidation!$B334,Feuil3!$D:$D)","v":0},null,{"$f":"SUMIF(Feuil4!$B:$B,Consolidation!$B334,Feuil4!$D:$D)","v":0},null,{"$f":"SUMIF(Feuil5!$B:$B,Consolidation!$B334,Feuil5!$D:$D)","v":0},null,{"$f":"D334+F334+H334+J334+L334","v":0},{"$f":"E334+G334+I334+K334+M334","v":0},{"$f":"SUMIF(Feuil1!$B:$B,Consolidation!$B334,Feuil1!$F:$F)","v":0},null,{"$f":"SUMIF(Feuil2!$B:$B,Consolidation!$B334,Feuil2!$F:$F)","v":0},null,{"$f":"SUMIF(Feuil3!$B:$B,Consolidation!$B334,Feuil3!$F:$F)","v":0},null,{"$f":"SUMIF(Feuil4!$B:$B,Consolidation!$B334,Feuil4!$F:$F)","v":0},null,{"$f":"SUMIF(Feuil5!$B:$B,Consolidation!$B334,Feuil5!$F:$F)","v":0},null,{"$f":"P334+R334+T334+V334+X334","v":0},{"$f":"Q334+S334+U334+W334+Y334","v":0},{"$f":"SUMIF(Feuil1!$B:$B,Consolidation!$B334,Feuil1!$H:$H)","v":0},null,{"$f":"SUMIF(Feuil2!$B:$B,Consolidation!$B334,Feuil2!$H:$H)","v":0},null,{"$f":"SUMIF(Feuil3!$B:$B,Consolidation!$B334,Feuil3!$H:$H)","v":0},null,{"$f":"SUMIF(Feuil4!$B:$B,Consolidation!$B334,Feuil4!$H:$H)","v":0},null,{"$f":"SUMIF(Feuil5!$B:$B,Consolidation!$B334,Feuil5!$H:$H)","v":0},null,{"$f":"AB334+AD334+AF334+AH334+AJ334","v":0},{"$f":"AC334+AE334+AG334+AI334+AK334","v":0},0]
["InsererLigne",null,null,null,null,null,null,null,null,null,null,null,null,0,0,null,null,null,null,null,null,null,null,null,null,0,0,null,null,null,null,null,null,null,null,null,null,0,0,0]
[null,625,"Revenus de prestations pour transports d'élèves",{"$f":"SUBTOTAL(9,D337:D339)","v":0},{"$f":"IF($E$5>0,D336/$E$5,0)","v":0},{"$f":"SUBTOTAL(9,F337:F339)","v":0},{"$f":"IF($G$5>0,F336/$G$5,0)","v":0},{"$f":"SUBTOTAL(9,H337:H339)","v":0},{"$f":"IF($I$5>0,H336/$I$5,0)","v":0},{"$f":"SUBTOTAL(9,J337:J339)","v":0},{"$f":"IF($K$5>0,J336/$K$5,0)","v":0},{"$f":"SUBTOTAL(9,L337:L339)","v":0},{"$f":"IF($M$5>0,L336/$M$5,0)","v":0},{"$f":"D336+F336+H336+J336+L336","v":0},{"$f":"E336+G336+I336+K336+M336","v":0},{"$f":"SUBTOTAL(9,P337:P339)","v":0},{"$f":"IF($Q$5>0,P336/$Q$5,0)","v":0},{"$f":"SUBTOTAL(9,R337:R339)","v":0},{"$f":"IF($S$5>0,R336/$S$5,0)","v":0},{"$f":"SUBTOTAL(9,T337:T339)","v":0},{"$f":"IF($U$5>0,T336/$U$5,0)","v":0},{"$f":"SUBTOTAL(9,V337:V339)","v":0},{"$f":"IF($W$5>0,V336/$W$5,0)","v":0},{"$f":"SUBTOTAL(9,X337:X339)","v":0},{"$f":"IF($Y$5>0,X336/$Y$5,0)","v":0},{"$f":"P336+R336+T336+V336+X336","v":0},{"$f":"Q336+S336+U336+W336+Y336","v":0},{"$f":"SUBTOTAL(9,AB337:AB339)","v":0},{"$f":"IF($AC$5>0,AB336/$AC$5,0)","v":0},{"$f":"SUBTOTAL(9,AD337:AD339)","v":0},{"$f":"IF($AE$5>0,AD336/$AE$5,0)","v":0},{"$f":"SUBTOTAL(9,AF337:AF339)","v":0},{"$f":"IF($AG$5>0,AF336/$AG$5,0)","v":0},{"$f":"SUBTOTAL(9,AH337:AH339)","v":0},{"$f":"IF($AI$5>0,AH336/$AI$5,0)","v":0},{"$f":"SUBTOTAL(9,AJ337:AJ339)","v":0},{"$f":"IF($AK$5>0,AJ336/$AK$5,0)","v":0},{"$f":"AB336+AD336+AF336+AH336+AJ336","v":0},{"$f":"AC336+AE336+AG336+AI336+AK336","v":0},0]
["InsererLigne",6251,"Contributions pour transport d'élèves intracantonal",{"$f":"SUMIF(Feuil1!$B:$B,Consolidation!$B337,Feuil1!$D:$D)","v":0},null,{"$f":"SUMIF(Feuil2!$B:$B,Consolidation!$B337,Feuil2!$D:$D)","v":0},null,{"$f":"SUMIF(Feuil3!$B:$B,Consolidation!$B337,Feuil3!$D:$D)","v":0},null,{"$f":"SUMIF(Feuil4!$B:$B,Consolidation!$B337,Feuil4!$D:$D)","v":0},null,{"$f":"SUMIF(Feuil5!$B:$B,Consolidation!$B337,Feuil5!$D:$D)","v":0},null,{"$f":"D337+F337+H337+J337+L337","v":0},{"$f":"E337+G337+I337+K337+M337","v":0},{"$f":"SUMIF(Feuil1!$B:$B,Consolidation!$B337,Feuil1!$F:$F)","v":0},null,{"$f":"SUMIF(Feuil2!$B:$B,Consolidation!$B337,Feuil2!$F:$F)","v":0},null,{"$f":"SUMIF(Feuil3!$B:$B,Consolidation!$B337,Feuil3!$F:$F)","v":0},null,{"$f":"SUMIF(Feuil4!$B:$B,Consolidation!$B337,Feuil4!$F:$F)","v":0},null,{"$f":"SUMIF(Feuil5!$B:$B,Consolidation!$B337,Feuil5!$F:$F)","v":0},null,{"$f":"P337+R337+T337+V337+X337","v":0},{"$f":"Q337+S337+U337+W337+Y337","v":0},{"$f":"SUMIF(Feuil1!$B:$B,Consolidation!$B337,Feuil1!$H:$H)","v":0},null,{"$f":"SUMIF(Feuil2!$B:$B,Consolidation!$B337,Feuil2!$H:$H)","v":0},null,{"$f":"SUMIF(Feuil3!$B:$B,Consolidation!$B337,Feuil3!$H:$H)","v":0},null,{"$f":"SUMIF(Feuil4!$B:$B,Consolidation!$B337,Feuil4!$H:$H)","v":0},null,{"$f":"SUMIF(Feuil5!$B:$B,Consolidation!$B337,Feuil5!$H:$H)","v":0},null,{"$f":"AB337+AD337+AF337+AH337+AJ337","v":0},{"$f":"AC337+AE337+AG337+AI337+AK337","v":0},0]
["InsererLigne",6252,"Contributions pour transport d'élèves extracantonal",{"$f":"SUMIF(Feuil1!$B:$B,Consolidation!$B338,Feuil1!$D:$D)","v":0},null,{"$f":"SUMIF(Feuil2!$B:$B,Consolidation!$B338,Feuil2!$D:$D)","v":0},null,{"$f":"SUMIF(Feuil3!$B:$B,Consolidation!$B338,Feuil3!$D:$D)","v":0},null,{"$f":"SUMIF(Feuil4!$B:$B,Consolidation!$B338,Feuil4!$D:$D)","v":0},null,{"$f":"SUMIF(Feuil5!$B:$B,Consolidation!$B338,Feuil5!$D:$D)","v":0},null,0,0,{"$f":"SUMIF(Feuil1!$B:$B,Consolidation!$B338,Feuil1!$F:$F)","v":0},null,{"$f":"SUMIF(Feuil2!$B:$B,Consolidation!$B338,Feuil2!$F:$F)","v":0},null,{"$f":"SUMIF(Feuil3!$B:$B,Consolidation!$B338,Feuil3!$F:$F)","v":0},null,{"$f":"SUMIF(Feuil4!$B:$B,Consolidation!$B338,Feuil4!$F:$F)","v":0},null,{"$f":"SUMIF(Feuil5!$B:$B,Consolidation!$B338,Feuil5!$F:$F)","v":0},null,0,0,{"$f":"SUMIF(Feuil1!$B:$B,Consolidation!$B338,Feuil1!$H:$H)","v":0},null,{"$f":"SUMIF(Feuil2!$B:$B,Consolidation!$B338,Feuil2!$H:$H)","v":0},null,{"$f":"SUMIF(Feuil3!$B:$B,Consolidation!$B338,Feuil3!$H:$H)","v":0},null,{"$f":"SUMIF(Feuil4!$B:$B,Consolidation!$B338,Feuil4!$H:$H)","v":0},null,{"$f":"SUMIF(Feuil5!$B:$B,Consolidation!$B338,Feuil5!$H:$H)","v":0},null,0,0,0]
["InsererLigne",null,null,null,null,null,null,null,null,null,null,null,null,null,null,null,null,null,null,null,null,null,null,null,null,null,null,null,null,null,null,null,null,null,null,null,null,null,null,0]
[null,63,"Revenus provenant de prestations de services, commerce et production",{"$f":"SUBTOTAL(9,D341:D348)","v":0},{"$f":"IF($E$5>0,D340/$E$5,0)","v":0},{"$f":"SUBTOTAL(9,F341:F348)","v":0},{"$f":"IF($G$5>0,F340/$G$5,0)","v":0},{"$f":"SUBTOTAL(9,H341:H348)","v":0},{"$f":"IF($I$5>0,H340/$I$5,0)","v":0},{"$f":"SUBTOTAL(9,J341:J348)","v":0},{"$f":"IF($K$5>0,J340/$K$5,0)","v":0},{"$f":"SUBTOTAL(9,L341:L348)","v":0},{"$f":"IF($M$5>0,L340/$M$5,0)","v":0},{"$f":"D340+F340+H340+J340+L340","v":0},{"$f":"E340+G340+I340+K340+M340","v":0},{"$f":"SUBTOTAL(9,P341:P348)","v":0},{"$f":"IF($Q$5>0,P340/$Q$5,0)","v":0},{"$f":"SUBTOTAL(9,R341:R348)","v":0},{"$f":"IF($S$5>0,R340/$S$5,0)","v":0},{"$f":"SUBTOTAL(9,T341:T348)","v":0},{"$f":"IF($U$5>0,T340/$U$5,0)","v":0},{"$f":"SUBTOTAL(9,V341:V348)","v":0},{"$f":"IF($W$5>0,V340/$W$5,0)","v":0},{"$f":"SUBTOTAL(9,X341:X348)","v":0},{"$f":"IF($Y$5>0,X340/$Y$5,0)","v":0},{"$f":"P340+R340+T340+V340+X340","v":0},{"$f":"Q340+S340+U340+W340+Y340","v":0},{"$f":"SUBTOTAL(9,AB341:AB348)","v":0},{"$f":"IF($AC$5>0,AB340/$AC$5,0)","v":0},{"$f":"SUBTOTAL(9,AD341:AD348)","v":0},{"$f":"IF($AE$5>0,AD340/$AE$5,0)","v":0},{"$f":"SUBTOTAL(9,AF341:AF348)","v":0},{"$f":"IF($AG$5>0,AF340/$AG$5,0)","v":0},{"$f":"SUBTOTAL(9,AH341:AH348)","v":0},{"$f":"IF($AI$5>0,AH340/$AI$5,0)","v":0},{"$f":"SUBTOTAL(9,AJ341:AJ348)","v":0},{"$f":"IF($AK$5>0,AJ340/$AK$5,0)","v":0},{"$f":"AB340+AD340+AF340+AH340+AJ340","v":0},{"$f":"AC340+AE340+AG340+AI340+AK340","v":0},0]
[null,6300,"Vente de produits finis                                                  ",{"$f":"SUMIF(Feuil1!$B:$B,Consolidation!$B341,Feuil1!$D:$D)","v":0},null,{"$f":"SUMIF(Feuil2!$B:$B,Consolidation!$B341,Feuil2!$D:$D)","v":0},null,{"$f":"SUMIF(Feuil3!$B:$B,Consolidation!$B341,Feuil3!$D:$D)","v":0},null,{"$f":"SUMIF(Feuil4!$B:$B,Consolidation!$B341,Feuil4!$D:$D)","v":0},null,{"$f":"SUMIF(Feuil5!$B:$B,Consolidation!$B341,Feuil5!$D:$D)","v":0},null,{"$f":"D341+F341+H341+J341+L341","v":0},{"$f":"E341+G341+I341+K341+M341","v":0},{"$f":"SUMIF(Feuil1!$B:$B,Consolidation!$B341,Feuil1!$F:$F)","v":0},null,{"$f":"SUMIF(Feuil2!$B:$B,Consolidation!$B341,Feuil2!$F:$F)","v":0},null,{"$f":"SUMIF(Feuil3!$B:$B,Consolidation!$B341,Feuil3!$F:$F)","v":0},null,{"$f":"SUMIF(Feuil4!$B:$B,Consolidation!$B341,Feuil4!$F:$F)","v":0},null,{"$f":"SUMIF(Feuil5!$B:$B,Consolidation!$B341,Feuil5!$F:$F)","v":0},null,{"$f":"P341+R341+T341+V341+X341","v":0},{"$f":"Q341+S341+U341+W341+Y341","v":0},{"$f":"SUMIF(Feuil1!$B:$B,Consolidation!$B341,Feuil1!$H:$H)","v":0},null,{"$f":"SUMIF(Feuil2!$B:$B,Consolidation!$B341,Feuil2!$H:$H)","v":0},null,{"$f":"SUMIF(Feuil3!$B:$B,Consolidation!$B341,Feuil3!$H:$H)","v":0},null,{"$f":"SUMIF(Feuil4!$B:$B,Consolidation!$B341,Feuil4!$H:$H)","v":0},null,{"$f":"SUMIF(Feuil5!$B:$B,Consolidation!$B341,Feuil5!$H:$H)","v":0},null,{"$f":"AB341+AD341+AF341+AH341+AJ341","v":0},{"$f":"AC341+AE341+AG341+AI341+AK341","v":0},0]
["InsererLigne",6310,"Revenus de production                                                  ",{"$f":"SUMIF(Feuil1!$B:$B,Consolidation!$B342,Feuil1!$D:$D)","v":0},null,{"$f":"SUMIF(Feuil2!$B:$B,Consolidation!$B342,Feuil2!$D:$D)","v":0},null,{"$f":"SUMIF(Feuil3!$B:$B,Consolidation!$B342,Feuil3!$D:$D)","v":0},null,{"$f":"SUMIF(Feuil4!$B:$B,Consolidation!$B342,Feuil4!$D:$D)","v":0},null,{"$f":"SUMIF(Feuil5!$B:$B,Consolidation!$B342,Feuil5!$D:$D)","v":0},null,0,0,{"$f":"SUMIF(Feuil1!$B:$B,Consolidation!$B342,Feuil1!$F:$F)","v":0},null,{"$f":"SUMIF(Feuil2!$B:$B,Consolidation!$B342,Feuil2!$F:$F)","v":0},null,{"$f":"SUMIF(Feuil3!$B:$B,Consolidation!$B342,Feuil3!$F:$F)","v":0},null,{"$f":"SUMIF(Feuil4!$B:$B,Consolidation!$B342,Feuil4!$F:$F)","v":0},null,{"$f":"SUMIF(Feuil5!$B:$B,Consolidation!$B342,Feuil5!$F:$F)","v":0},null,0,0,{"$f":"SUMIF(Feuil1!$B:$B,Consolidation!$B342,Feuil1!$H:$H)","v":0},null,{"$f":"SUMIF(Feuil2!$B:$B,Consolidation!$B342,Feuil2!$H:$H)","v":0},null,{"$f":"SUMIF(Feuil3!$B:$B,Consolidation!$B342,Feuil3!$H:$H)","v":0},null,{"$f":"SUMIF(Feuil4!$B:$B,Consolidation!$B342,Feuil4!$H:$H)","v":0},null,{"$f":"SUMIF(Feuil5!$B:$B,Consolidation!$B342,Feuil5!$H:$H)","v":0},null,0,0,0]
["InsererLigne",6311,"Produits de sous-traitance",{"$f":"SUMIF(Feuil1!$B:$B,Consolidation!$B343,Feuil1!$D:$D)","v":0},null,{"$f":"SUMIF(Feuil2!$B:$B,Consolidation!$B343,Feuil2!$D:$D)","v":0},null,{"$f":"SUMIF(Feuil3!$B:$B,Consolidation!$B343,Feuil3!$D:$D)","v":0},null,{"$f":"SUMIF(Feuil4!$B:$B,Consolidation!$B343,Feuil4!$D:$D)","v":0},null,{"$f":"SUMIF(Feuil5!$B:$B,Consolidation!$B343,Feuil5!$D:$D)","v":0},null,0,0,{"$f":"SUMIF(Feuil1!$B:$B,Consolidation!$B343,Feuil1!$F:$F)","v":0},null,{"$f":"SUMIF(Feuil2!$B:$B,Consolidation!$B343,Feuil2!$F:$F)","v":0},null,{"$f":"SUMIF(Feuil3!$B:$B,Consolidation!$B343,Feuil3!$F:$F)","v":0},null,{"$f":"SUMIF(Feuil4!$B:$B,Consolidation!$B343,Feuil4!$F:$F)","v":0},null,{"$f":"SUMIF(Feuil5!$B:$B,Consolidation!$B343,Feuil5!$F:$F)","v":0},null,0,0,{"$f":"SUMIF(Feuil1!$B:$B,Consolidation!$B343,Feuil1!$H:$H)","v":0},null,{"$f":"SUMIF(Feuil2!$B:$B,Consolidation!$B343,Feuil2!$H:$H)","v":0},null,{"$f":"SUMIF(Feuil3!$B:$B,Consolidation!$B343,Feuil3!$H:$H)","v":0},null,{"$f":"SUMIF(Feuil4!$B:$B,Consolidation!$B343,Feuil4!$H:$H)","v":0},null,{"$f":"SUMIF(Feuil5!$B:$B,Consolidation!$B343,Feuil5!$H:$H)","v":0},null,0,0,0]
["InsererLigne",6313,"Revenus de prestations propres                                                  ",{"$f":"SUMIF(Feuil1!$B:$B,Consolidation!$B344,Feuil1!$D:$D)","v":0},null,{"$f":"SUMIF(Feuil2!$B:$B,Consolidation!$B344,Feuil2!$D:$D)","v":0},null,{"$f":"SUMIF(Feuil3!$B:$B,Consolidation!$B344,Feuil3!$D:$D)","v":0},null,{"$f":"SUMIF(Feuil4!$B:$B,Consolidation!$B344,Feuil4!$D:$D)","v":0},null,{"$f":"SUMIF(Feuil5!$B:$B,Consolidation!$B344,Feuil5!$D:$D)","v":0},null,0,0,{"$f":"SUMIF(Feuil1!$B:$B,Consolidation!$B344,Feuil1!$F:$F)","v":0},null,{"$f":"SUMIF(Feuil2!$B:$B,Consolidation!$B344,Feuil2!$F:$F)","v":0},null,{"$f":"SUMIF(Feuil3!$B:$B,Consolidation!$B344,Feuil3!$F:$F)","v":0},null,{"$f":"SUMIF(Feuil4!$B:$B,Consolidation!$B344,Feuil4!$F:$F)","v":0},null,{"$f":"SUMIF(Feuil5!$B:$B,Consolidation!$B344,Feuil5!$F:$F)","v":0},null,0,0,{"$f":"SUMIF(Feuil1!$B:$B,Consolidation!$B344,Feuil1!$H:$H)","v":0},null,{"$f":"SUMIF(Feuil2!$B:$B,Consolidation!$B344,Feuil2!$H:$H)","v":0},null,{"$f":"SUMIF(Feuil3!$B:$B,Consolidation!$B344,Feuil3!$H:$H)","v":0},null,{"$f":"SUMIF(Feuil4!$B:$B,Consolidation!$B344,Feuil4!$H:$H)","v":0},null,{"$f":"SUMIF(Feuil5!$B:$B,Consolidation!$B344,Feuil5!$H:$H)","v":0},null,0,0,0]
["InsererLigne",6320,"Revenus de prestations de services                                                  ",{"$f":"SUMIF(Feuil1!$B:$B,Consolidation!$B345,Feuil1!$D:$D)","v":0},null,{"$f":"SUMIF(Feuil2!$B:$B,Consolidation!$B345,Feuil2!$D:$D)","v":0},null,{"$f":"SUMIF(Feuil3!$B:$B,Consolidation!$B345,Feuil3!$D:$D)","v":0},null,{"$f":"SUMIF(Feuil4!$B:$B,Consolidation!$B345,Feuil4!$D:$D)","v":0},null,{"$f":"SUMIF(Feuil5!$B:$B,Consolidation!$B345,Feuil5!$D:$D)","v":0},null,0,0,{"$f":"SUMIF(Feuil1!$B:$B,Consolidation!$B345,Feuil1!$F:$F)","v":0},null,{"$f":"SUMIF(Feuil2!$B:$B,Consolidation!$B345,Feuil2!$F:$F)","v":0},null,{"$f":"SUMIF(Feuil3!$B:$B,Consolidation!$B345,Feuil3!$F:$F)","v":0},null,{"$f":"SUMIF(Feuil4!$B:$B,Consolidation!$B345,Feuil4!$F:$F)","v":0},null,{"$f":"SUMIF(Feuil5!$B:$B,Consolidation!$B345,Feuil5!$F:$F)","v":0},null,0,0,{"$f":"SUMIF(Feuil1!$B:$B,Consolidation!$B345,Feuil1!$H:$H)","v":0},null,{"$f":"SUMIF(Feuil2!$B:$B,Consolidation!$B345,Feuil2!$H:$H)","v":0},null,{"$f":"SUMIF(Feuil3!$B:$B,Consolidation!$B345,Feuil3!$H:$H)","v":0},null,{"$f":"SUMIF(Feuil4!$B:$B,Consolidation!$B345,Feuil4!$H:$H)","v":0},null,{"$f":"SUMIF(Feuil5!$B:$B,Consolidation!$B345,Feuil5!$H:$H)","v":0},null,0,0,0]
["InsererLigne",6360,"Escomptes",{"$f":"SUMIF(Feuil1!$B:$B,Consolidation!$B346,Feuil1!$D:$D)","v":0},null,{"$f":"SUMIF(Feuil2!$B:$B,Consolidation!$B346,Feuil2!$D:$D)","v":0},null,{"$f":"SUMIF(Feuil3!$B:$B,Consolidation!$B346,Feuil3!$D:$D)","v":0},null,{"$f":"SUMIF(Feuil4!$B:$B,Consolidation!$B346,Feuil4!$D:$D)","v":0},null,{"$f":"SUMIF(Feuil5!$B:$B,Consolidation!$B346,Feuil5!$D:$D)","v":0},null,0,0,{"$f":"SUMIF(Feuil1!$B:$B,Consolidation!$B346,Feuil1!$F:$F)","v":0},null,{"$f":"SUMIF(Feuil2!$B:$B,Consolidation!$B346,Feuil2!$F:$F)","v":0},null,{"$f":"SUMIF(Feuil3!$B:$B,Consolidation!$B346,Feuil3!$F:$F)","v":0},null,{"$f":"SUMIF(Feuil4!$B:$B,Consolidation!$B346,Feuil4!$F:$F)","v":0},null,{"$f":"SUMIF(Feuil5!$B:$B,Consolidation!$B346,Feuil5!$F:$F)","v":0},null,0,0,{"$f":"SUMIF(Feuil1!$B:$B,Consolidation!$B346,Feuil1!$H:$H)","v":0},null,{"$f":"SUMIF(Feuil2!$B:$B,Consolidation!$B346,Feuil2!$H:$H)","v":0},null,{"$f":"SUMIF(Feuil3!$B:$B,Consolidation!$B346,Feuil3!$H:$H)","v":0},null,{"$f":"SUMIF(Feuil4!$B:$B,Consolidation!$B346,Feuil4!$H:$H)","v":0},null,{"$f":"SUMIF(Feuil5!$B:$B,Consolidation!$B346,Feuil5!$H:$H)","v":0},null,0,0,0]
["InsererLigne",6370,"TVA",{"$f":"SUMIF(Feuil1!$B:$B,Consolidation!$B347,Feuil1!$D:$D)","v":0},null,{"$f":"SUMIF(Feuil2!$B:$B,Consolidation!$B347,Feuil2!$D:$D)","v":0},null,{"$f":"SUMIF(Feuil3!$B:$B,Consolidation!$B347,Feuil3!$D:$D)","v":0},null,{"$f":"SUMIF(Feuil4!$B:$B,Consolidation!$B347,Feuil4!$D:$D)","v":0},null,{"$f":"SUMIF(Feuil5!$B:$B,Consolidation!$B347,Feuil5!$D:$D)","v":0},null,0,0,{"$f":"SUMIF(Feuil1!$B:$B,Consolidation!$B347,Feuil1!$F:$F)","v":0},null,{"$f":"SUMIF(Feuil2!$B:$B,Consolidation!$B347,Feuil2!$F:$F)","v":0},null,{"$f":"SUMIF(Feuil3!$B:$B,Consolidation!$B347,Feuil3!$F:$F)","v":0},null,{"$f":"SUMIF(Feuil4!$B:$B,Consolidation!$B347,Feuil4!$F:$F)","v":0},null,{"$f":"SUMIF(Feuil5!$B:$B,Consolidation!$B347,Feuil5!$F:$F)","v":0},null,0,0,{"$f":"SUMIF(Feuil1!$B:$B,Consolidation!$B347,Feuil1!$H:$H)","v":0},null,{"$f":"SUMIF(Feuil2!$B:$B,Consolidation!$B347,Feuil2!$H:$H)","v":0},null,{"$f":"SUMIF(Feuil3!$B:$B,Consolidation!$B347,Feuil3!$H:$H)","v":0},null,{"$f":"SUMIF(Feuil4!$B:$B,Consolidation!$B347,Feuil4!$H:$H)","v":0},null,{"$f":"SUMIF(Feuil5!$B:$B,Consolidation!$B347,Feuil5!$H:$H)","v":0},null,0,0,0]
["InsererLigne",null,null,null,null,null,null,null,null,null,null,null,null,null,null,null,null,null,null,null,null,null,null,null,null,null,null,null,null,null,null,null,null,null,null,null,null,null,null,0]
[null,65,"Revenu provenant d'autres prestations de service aux personnes accompagnées",{"$f":"SUBTOTAL(9,D350:D360)","v":0},{"$f":"IF($E$5>0,D349/$E$5,0)","v":0},{"$f":"SUBTOTAL(9,F350:F360)","v":0},{"$f":"IF($G$5>0,F349/$G$5,0)","v":0},{"$f":"SUBTOTAL(9,H350:H360)","v":0},{"$f":"IF($I$5>0,H349/$I$5,0)","v":0},{"$f":"SUBTOTAL(9,J350:J360)","v":0},{"$f":"IF($K$5>0,J349/$K$5,0)","v":0},{"$f":"SUBTOTAL(9,L350:L360)","v":0},{"$f":"IF($M$5>0,L349/$M$5,0)","v":0},{"$f":"D349+F349+H349+J349+L349","v":0},{"$f":"E349+G349+I349+K349+M349","v":0},{"$f":"SUBTOTAL(9,P350:P360)","v":0},{"$f":"IF($Q$5>0,P349/$Q$5,0)","v":0},{"$f":"SUBTOTAL(9,R350:R360)","v":0},{"$f":"IF($S$5>0,R349/$S$5,0)","v":0},{"$f":"SUBTOTAL(9,T350:T360)","v":0},{"$f":"IF($U$5>0,T349/$U$5,0)","v":0},{"$f":"SUBTOTAL(9,V350:V360)","v":0},{"$f":"IF($W$5>0,V349/$W$5,0)","v":0},{"$f":"SUBTOTAL(9,X350:X360)","v":0},{"$f":"IF($Y$5>0,X349/$Y$5,0)","v":0},{"$f":"P349+R349+T349+V349+X349","v":0},{"$f":"Q349+S349+U349+W349+Y349","v":0},{"$f":"SUBTOTAL(9,AB350:AB360)","v":0},{"$f":"IF($AC$5>0,AB349/$AC$5,0)","v":0},{"$f":"SUBTOTAL(9,AD350:AD360)","v":0},{"$f":"IF($AE$5>0,AD349/$AE$5,0)","v":0},{"$f":"SUBTOTAL(9,AF350:AF360)","v":0},{"$f":"IF($AG$5>0,AF349/$AG$5,0)","v":0},{"$f":"SUBTOTAL(9,AH350:AH360)","v":0},{"$f":"IF($AI$5>0,AH349/$AI$5,0)","v":0},{"$f":"SUBTOTAL(9,AJ350:AJ360)","v":0},{"$f":"IF($AK$5>0,AJ349/$AK$5,0)","v":0},{"$f":"AB349+AD349+AF349+AH349+AJ349","v":0},{"$f":"AC349+AE349+AG349+AI349+AK349","v":0},0]
[null,6500,"Médicaments                                                  ",{"$f":"SUMIF(Feuil1!$B:$B,Consolidation!$B350,Feuil1!$D:$D)","v":0},null,{"$f":"SUMIF(Feuil2!$B:$B,Consolidation!$B350,Feuil2!$D:$D)","v":0},null,{"$f":"SUMIF(Feuil3!$B:$B,Consolidation!$B350,Feuil3!$D:$D)","v":0},null,{"$f":"SUMIF(Feuil4!$B:$B,Consolidation!$B350,Feuil4!$D:$D)","v":0},null,{"$f":"SUMIF(Feuil5!$B:$B,Consolidation!$B350,Feuil5!$D:$D)","v":0},null,{"$f":"D350+F350+H350+J350+L350","v":0},{"$f":"E350+G350+I350+K350+M350","v":0},{"$f":"SUMIF(Feuil1!$B:$B,Consolidation!$B350,Feuil1!$F:$F)","v":0},null,{"$f":"SUMIF(Feuil2!$B:$B,Consolidation!$B350,Feuil2!$F:$F)","v":0},null,{"$f":"SUMIF(Feuil3!$B:$B,Consolidation!$B350,Feuil3!$F:$F)","v":0},null,{"$f":"SUMIF(Feuil4!$B:$B,Consolidation!$B350,Feuil4!$F:$F)","v":0},null,{"$f":"SUMIF(Feuil5!$B:$B,Consolidation!$B350,Feuil5!$F:$F)","v":0},null,{"$f":"P350+R350+T350+V350+X350","v":0},{"$f":"Q350+S350+U350+W350+Y350","v":0},{"$f":"SUMIF(Feuil1!$B:$B,Consolidation!$B350,Feuil1!$H:$H)","v":0},null,{"$f":"SUMIF(Feuil2!$B:$B,Consolidation!$B350,Feuil2!$H:$H)","v":0},null,{"$f":"SUMIF(Feuil3!$B:$B,Consolidation!$B350,Feuil3!$H:$H)","v":0},null,{"$f":"SUMIF(Feuil4!$B:$B,Consolidation!$B350,Feuil4!$H:$H)","v":0},null,{"$f":"SUMIF(Feuil5!$B:$B,Consolidation!$B350,Feuil5!$H:$H)","v":0},null,{"$f":"AB350+AD350+AF350+AH350+AJ350","v":0},{"$f":"AC350+AE350+AG350+AI350+AK350","v":0},0]
["InsererLigne",6510,"Matériel et pose de pansements                                                  ",{"$f":"SUMIF(Feuil1!$B:$B,Consolidation!$B351,Feuil1!$D:$D)","v":0},null,{"$f":"SUMIF(Feuil2!$B:$B,Consolidation!$B351,Feuil2!$D:$D)","v":0},null,{"$f":"SUMIF(Feuil3!$B:$B,Consolidation!$B351,Feuil3!$D:$D)","v":0},null,{"$f":"SUMIF(Feuil4!$B:$B,Consolidation!$B351,Feuil4!$D:$D)","v":0},null,{"$f":"SUMIF(Feuil5!$B:$B,Consolidation!$B351,Feuil5!$D:$D)","v":0},null,0,0,{"$f":"SUMIF(Feuil1!$B:$B,Consolidation!$B351,Feuil1!$F:$F)","v":0},null,{"$f":"SUMIF(Feuil2!$B:$B,Consolidation!$B351,Feuil2!$F:$F)","v":0},null,{"$f":"SUMIF(Feuil3!$B:$B,Consolidation!$B351,Feuil3!$F:$F)","v":0},null,{"$f":"SUMIF(Feuil4!$B:$B,Consolidation!$B351,Feuil4!$F:$F)","v":0},null,{"$f":"SUMIF(Feuil5!$B:$B,Consolidation!$B351,Feuil5!$F:$F)","v":0},null,0,0,{"$f":"SUMIF(Feuil1!$B:$B,Consolidation!$B351,Feuil1!$H:$H)","v":0},null,{"$f":"SUMIF(Feuil2!$B:$B,Consolidation!$B351,Feuil2!$H:$H)","v":0},null,{"$f":"SUMIF(Feuil3!$B:$B,Consolidation!$B351,Feuil3!$H:$H)","v":0},null,{"$f":"SUMIF(Feuil4!$B:$B,Consolidation!$B351,Feuil4!$H:$H)","v":0},null,{"$f":"SUMIF(Feuil5!$B:$B,Consolidation!$B351,Feuil5!$H:$H)","v":0},null,0,0,0]
["InsererLigne",6520,"Habits de travail",{"$f":"SUMIF(Feuil1!$B:$B,Consolidation!$B352,Feuil1!$D:$D)","v":0},null,{"$f":"SUMIF(Feuil2!$B:$B,Consolidation!$B352,Feuil2!$D:$D)","v":0},null,{"$f":"SUMIF(Feuil3!$B:$B,Consolidation!$B352,Feuil3!$D:$D)","v":0},null,{"$f":"SUMIF(Feuil4!$B:$B,Consolidation!$B352,Feuil4!$D:$D)","v":0},null,{"$f":"SUMIF(Feuil5!$B:$B,Consolidation!$B352,Feuil5!$D:$D)","v":0},null,0,0,{"$f":"SUMIF(Feuil1!$B:$B,Consolidation!$B352,Feuil1!$F:$F)","v":0},null,{"$f":"SUMIF(Feuil2!$B:$B,Consolidation!$B352,Feuil2!$F:$F)","v":0},null,{"$f":"SUMIF(Feuil3!$B:$B,Consolidation!$B352,Feuil3!$F:$F)","v":0},null,{"$f":"SUMIF(Feuil4!$B:$B,Consolidation!$B352,Feuil4!$F:$F)","v":0},null,{"$f":"SUMIF(Feuil5!$B:$B,Consolidation!$B352,Feuil5!$F:$F)","v":0},null,0,0,{"$f":"SUMIF(Feuil1!$B:$B,Consolidation!$B352,Feuil1!$H:$H)","v":0},null,{"$f":"SUMIF(Feuil2!$B:$B,Consolidation!$B352,Feuil2!$H:$H)","v":0},null,{"$f":"SUMIF(Feuil3!$B:$B,Consolidation!$B352,Feuil3!$H:$H)","v":0},null,{"$f":"SUMIF(Feuil4!$B:$B,Consolidation!$B352,Feuil4!$H:$H)","v":0},null,{"$f":"SUMIF(Feuil5!$B:$B,Consolidation!$B352,Feuil5!$H:$H)","v":0},null,0,0,0]
["InsererLigne",6540,"Produits de la lingerie                                                  ",{"$f":"SUMIF(Feuil1!$B:$B,Consolidation!$B353,Feuil1!$D:$D)","v":0},null,{"$f":"SUMIF(Feuil2!$B:$B,Consolidation!$B353,Feuil2!$D:$D)","v":0},null,{"$f":"SUMIF(Feuil3!$B:$B,Consolidation!$B353,Feuil3!$D:$D)","v":0},null,{"$f":"SUMIF(Feuil4!$B:$B,Consolidation!$B353,Feuil4!$D:$D)","v":0},null,{"$f":"SUMIF(Feuil5!$B:$B,Consolidation!$B353,Feuil5!$D:$D)","v":0},null,0,0,{"$f":"SUMIF(Feuil1!$B:$B,Consolidation!$B353,Feuil1!$F:$F)","v":0},null,{"$f":"SUMIF(Feuil2!$B:$B,Consolidation!$B353,Feuil2!$F:$F)","v":0},null,{"$f":"SUMIF(Feuil3!$B:$B,Consolidation!$B353,Feuil3!$F:$F)","v":0},null,{"$f":"SUMIF(Feuil4!$B:$B,Consolidation!$B353,Feuil4!$F:$F)","v":0},null,{"$f":"SUMIF(Feuil5!$B:$B,Consolidation!$B353,Feuil5!$F:$F)","v":0},null,0,0,{"$f":"SUMIF(Feuil1!$B:$B,Consolidation!$B353,Feuil1!$H:$H)","v":0},null,{"$f":"SUMIF(Feuil2!$B:$B,Consolidation!$B353,Feuil2!$H:$H)","v":0},null,{"$f":"SUMIF(Feuil3!$B:$B,Consolidation!$B353,Feuil3!$H:$H)","v":0},null,{"$f":"SUMIF(Feuil4!$B:$B,Consolidation!$B353,Feuil4!$H:$H)","v":0},null,{"$f":"SUMIF(Feuil5!$B:$B,Consolidation!$B353,Feuil5!$H:$H)","v":0},null,0,0,0]
["InsererLigne",6550,"Services spécialisés                                                  ",{"$f":"SUMIF(Feuil1!$B:$B,Consolidation!$B354,Feuil1!$D:$D)","v":0},null,{"$f":"SUMIF(Feuil2!$B:$B,Consolidation!$B354,Feuil2!$D:$D)","v":0},null,{"$f":"SUMIF(Feuil3!$B:$B,Consolidation!$B354,Feuil3!$D:$D)","v":0},null,{"$f":"SUMIF(Feuil4!$B:$B,Consolidation!$B354,Feuil4!$D:$D)","v":0},null,{"$f":"SUMIF(Feuil5!$B:$B,Consolidation!$B354,Feuil5!$D:$D)","v":0},null,0,0,{"$f":"SUMIF(Feuil1!$B:$B,Consolidation!$B354,Feuil1!$F:$F)","v":0},null,{"$f":"SUMIF(Feuil2!$B:$B,Consolidation!$B354,Feuil2!$F:$F)","v":0},null,{"$f":"SUMIF(Feuil3!$B:$B,Consolidation!$B354,Feuil3!$F:$F)","v":0},null,{"$f":"SUMIF(Feuil4!$B:$B,Consolidation!$B354,Feuil4!$F:$F)","v":0},null,{"$f":"SUMIF(Feuil5!$B:$B,Consolidation!$B354,Feuil5!$F:$F)","v":0},null,0,0,{"$f":"SUMIF(Feuil1!$B:$B,Consolidation!$B354,Feuil1!$H:$H)","v":0},null,{"$f":"SUMIF(Feuil2!$B:$B,Consolidation!$B354,Feuil2!$H:$H)","v":0},null,{"$f":"SUMIF(Feuil3!$B:$B,Consolidation!$B354,Feuil3!$H:$H)","v":0},null,{"$f":"SUMIF(Feuil4!$B:$B,Consolidation!$B354,Feuil4!$H:$H)","v":0},null,{"$f":"SUMIF(Feuil5!$B:$B,Consolidation!$B354,Feuil5!$H:$H)","v":0},null,0,0,0]
["InsererLigne",6552,"Transport d'usagers",{"$f":"SUMIF(Feuil1!$B:$B,Consolidation!$B355,Feuil1!$D:$D)","v":0},null,{"$f":"SUMIF(Feuil2!$B:$B,Consolidation!$B355,Feuil2!$D:$D)","v":0},null,{"$f":"SUMIF(Feuil3!$B:$B,Consolidation!$B355,Feuil3!$D:$D)","v":0},null,{"$f":"SUMIF(Feuil4!$B:$B,Consolidation!$B355,Feuil4!$D:$D)","v":0},null,{"$f":"SUMIF(Feuil5!$B:$B,Consolidation!$B355,Feuil5!$D:$D)","v":0},null,0,0,{"$f":"SUMIF(Feuil1!$B:$B,Consolidation!$B355,Feuil1!$F:$F)","v":0},null,{"$f":"SUMIF(Feuil2!$B:$B,Consolidation!$B355,Feuil2!$F:$F)","v":0},null,{"$f":"SUMIF(Feuil3!$B:$B,Consolidation!$B355,Feuil3!$F:$F)","v":0},null,{"$f":"SUMIF(Feuil4!$B:$B,Consolidation!$B355,Feuil4!$F:$F)","v":0},null,{"$f":"SUMIF(Feuil5!$B:$B,Consolidation!$B355,Feuil5!$F:$F)","v":0},null,0,0,{"$f":"SUMIF(Feuil1!$B:$B,Consolidation!$B355,Feuil1!$H:$H)","v":0},null,{"$f":"SUMIF(Feuil2!$B:$B,Consolidation!$B355,Feuil2!$H:$H)","v":0},null,{"$f":"SUMIF(Feuil3!$B:$B,Consolidation!$B355,Feuil3!$H:$H)","v":0},null,{"$f":"SUMIF(Feuil4!$B:$B,Consolidation!$B355,Feuil4!$H:$H)","v":0},null,{"$f":"SUMIF(Feuil5!$B:$B,Consolidation!$B355,Feuil5!$H:$H)","v":0},null,0,0,0]
["InsererLigne",6553,"Communications (téléphones, Internet)",{"$f":"SUMIF(Feuil1!$B:$B,Consolidation!$B356,Feuil1!$D:$D)","v":0},null,{"$f":"SUMIF(Feuil2!$B:$B,Consolidation!$B356,Feuil2!$D:$D)","v":0},null,{"$f":"SUMIF(Feuil3!$B:$B,Consolidation!$B356,Feuil3!$D:$D)","v":0},null,{"$f":"SUMIF(Feuil4!$B:$B,Consolidation!$B356,Feuil4!$D:$D)","v":0},null,{"$f":"SUMIF(Feuil5!$B:$B,Consolidation!$B356,Feuil5!$D:$D)","v":0},null,0,0,{"$f":"SUMIF(Feuil1!$B:$B,Consolidation!$B356,Feuil1!$F:$F)","v":0},null,{"$f":"SUMIF(Feuil2!$B:$B,Consolidation!$B356,Feuil2!$F:$F)","v":0},null,{"$f":"SUMIF(Feuil3!$B:$B,Consolidation!$B356,Feuil3!$F:$F)","v":0},null,{"$f":"SUMIF(Feuil4!$B:$B,Consolidation!$B356,Feuil4!$F:$F)","v":0},null,{"$f":"SUMIF(Feuil5!$B:$B,Consolidation!$B356,Feuil5!$F:$F)","v":0},null,0,0,{"$f":"SUMIF(Feuil1!$B:$B,Consolidation!$B356,Feuil1!$H:$H)","v":0},null,{"$f":"SUMIF(Feuil2!$B:$B,Consolidation!$B356,Feuil2!$H:$H)","v":0},null,{"$f":"SUMIF(Feuil3!$B:$B,Consolidation!$B356,Feuil3!$H:$H)","v":0},null,{"$f":"SUMIF(Feuil4!$B:$B,Consolidation!$B356,Feuil4!$H:$H)","v":0},null,{"$f":"SUMIF(Feuil5!$B:$B,Consolidation!$B356,Feuil5!$H:$H)","v":0},null,0,0,0]
["InsererLigne",6554,"Autres prestations aux pensionnaires                                                  ",{"$f":"SUMIF(Feuil1!$B:$B,Consolidation!$B357,Feuil1!$D:$D)","v":0},null,{"$f":"SUMIF(Feuil2!$B:$B,Consolidation!$B357,Feuil2!$D:$D)","v":0},null,{"$f":"SUMIF(Feuil3!$B:$B,Consolidation!$B357,Feuil3!$D:$D)","v":0},null,{"$f":"SUMIF(Feuil4!$B:$B,Consolidation!$B357,Feuil4!$D:$D)","v":0},null,{"$f":"SUMIF(Feuil5!$B:$B,Consolidation!$B357,Feuil5!$D:$D)","v":0},null,0,0,{"$f":"SUMIF(Feuil1!$B:$B,Consolidation!$B357,Feuil1!$F:$F)","v":0},null,{"$f":"SUMIF(Feuil2!$B:$B,Consolidation!$B357,Feuil2!$F:$F)","v":0},null,{"$f":"SUMIF(Feuil3!$B:$B,Consolidation!$B357,Feuil3!$F:$F)","v":0},null,{"$f":"SUMIF(Feuil4!$B:$B,Consolidation!$B357,Feuil4!$F:$F)","v":0},null,{"$f":"SUMIF(Feuil5!$B:$B,Consolidation!$B357,Feuil5!$F:$F)","v":0},null,0,0,{"$f":"SUMIF(Feuil1!$B:$B,Consolidation!$B357,Feuil1!$H:$H)","v":0},null,{"$f":"SUMIF(Feuil2!$B:$B,Consolidation!$B357,Feuil2!$H:$H)","v":0},null,{"$f":"SUMIF(Feuil3!$B:$B,Consolidation!$B357,Feuil3!$H:$H)","v":0},null,{"$f":"SUMIF(Feuil4!$B:$B,Consolidation!$B357,Feuil4!$H:$H)","v":0},null,{"$f":"SUMIF(Feuil5!$B:$B,Consolidation!$B357,Feuil5!$H:$H)","v":0},null,0,0,0]
["InsererLigne",6555,"Repas à la carte des résidants",{"$f":"SUMIF(Feuil1!$B:$B,Consolidation!$B358,Feuil1!$D:$D)","v":0},null,{"$f":"SUMIF(Feuil2!$B:$B,Consolidation!$B358,Feuil2!$D:$D)","v":0},null,{"$f":"SUMIF(Feuil3!$B:$B,Consolidation!$B358,Feuil3!$D:$D)","v":0},null,{"$f":"SUMIF(Feuil4!$B:$B,Consolidation!$B358,Feuil4!$D:$D)","v":0},null,{"$f":"SUMIF(Feuil5!$B:$B,Consolidation!$B358,Feuil5!$D:$D)","v":0},null,0,0,{"$f":"SUMIF(Feuil1!$B:$B,Consolidation!$B358,Feuil1!$F:$F)","v":0},null,{"$f":"SUMIF(Feuil2!$B:$B,Consolidation!$B358,Feuil2!$F:$F)","v":0},null,{"$f":"SUMIF(Feuil3!$B:$B,Consolidation!$B358,Feuil3!$F:$F)","v":0},null,{"$f":"SUMIF(Feuil4!$B:$B,Consolidation!$B358,Feuil4!$F:$F)","v":0},null,{"$f":"SUMIF(Feuil5!$B:$B,Consolidation!$B358,Feuil5!$F:$F)","v":0},null,0,0,{"$f":"SUMIF(Feuil1!$B:$B,Consolidation!$B358,Feuil1!$H:$H)","v":0},null,{"$f":"SUMIF(Feuil2!$B:$B,Consolidation!$B358,Feuil2!$H:$H)","v":0},null,{"$f":"SUMIF(Feuil3!$B:$B,Consolidation!$B358,Feuil3!$H:$H)","v":0},null,{"$f":"SUMIF(Feuil4!$B:$B,Consolidation!$B358,Feuil4!$H:$H)","v":0},null,{"$f":"SUMIF(Feuil5!$B:$B,Consolidation!$B358,Feuil5!$H:$H)","v":0},null,0,0,0]
["InsererLigne",6560,"Participation des usagers aux animations",{"$f":"SUMIF(Feuil1!$B:$B,Consolidation!$B359,Feuil1!$D:$D)","v":0},null,{"$f":"SUMIF(Feuil2!$B:$B,Consolidation!$B359,Feuil2!$D:$D)","v":0},null,{"$f":"SUMIF(Feuil3!$B:$B,Consolidation!$B359,Feuil3!$D:$D)","v":0},null,{"$f":"SUMIF(Feuil4!$B:$B,Consolidation!$B359,Feuil4!$D:$D)","v":0},null,{"$f":"SUMIF(Feuil5!$B:$B,Consolidation!$B359,Feuil5!$D:$D)","v":0},null,0,0,{"$f":"SUMIF(Feuil1!$B:$B,Consolidation!$B359,Feuil1!$F:$F)","v":0},null,{"$f":"SUMIF(Feuil2!$B:$B,Consolidation!$B359,Feuil2!$F:$F)","v":0},null,{"$f":"SUMIF(Feuil3!$B:$B,Consolidation!$B359,Feuil3!$F:$F)","v":0},null,{"$f":"SUMIF(Feuil4!$B:$B,Consolidation!$B359,Feuil4!$F:$F)","v":0},null,{"$f":"SUMIF(Feuil5!$B:$B,Consolidation!$B359,Feuil5!$F:$F)","v":0},null,0,0,{"$f":"SUMIF(Feuil1!$B:$B,Consolidation!$B359,Feuil1!$H:$H)","v":0},null,{"$f":"SUMIF(Feuil2!$B:$B,Consolidation!$B359,Feuil2!$H:$H)","v":0},null,{"$f":"SUMIF(Feuil3!$B:$B,Consolidation!$B359,Feuil3!$H:$H)","v":0},null,{"$f":"SUMIF(Feuil4!$B:$B,Consolidation!$B359,Feuil4!$H:$H)","v":0},null,{"$f":"SUMIF(Feuil5!$B:$B,Consolidation!$B359,Feuil5!$H:$H)","v":0},null,0,0,0]
["InsererLigne",null,null,null,null,null,null,null,null,null,null,null,null,null,null,null,null,null,null,null,null,null,null,null,null,null,null,null,null,null,null,null,null,null,null,null,null,null,null,0]
[null,66,"Revenus des loyers et intérêts du capital",{"$f":"SUBTOTAL(9,D362:D371)","v":0},{"$f":"IF($E$5>0,D361/$E$5,0)","v":0},{"$f":"SUBTOTAL(9,F362:F371)","v":0},{"$f":"IF($G$5>0,F361/$G$5,0)","v":0},{"$f":"SUBTOTAL(9,H362:H371)","v":0},{"$f":"IF($I$5>0,H361/$I$5,0)","v":0},{"$f":"SUBTOTAL(9,J362:J371)","v":0},{"$f":"IF($K$5>0,J361/$K$5,0)","v":0},{"$f":"SUBTOTAL(9,L362:L371)","v":0},{"$f":"IF($M$5>0,L361/$M$5,0)","v":0},{"$f":"D361+F361+H361+J361+L361","v":0},{"$f":"E361+G361+I361+K361+M361","v":0},{"$f":"SUBTOTAL(9,P362:P371)","v":0},{"$f":"IF($Q$5>0,P361/$Q$5,0)","v":0},{"$f":"SUBTOTAL(9,R362:R371)","v":0},{"$f":"IF($S$5>0,R361/$S$5,0)","v":0},{"$f":"SUBTOTAL(9,T362:T371)","v":0},{"$f":"IF($U$5>0,T361/$U$5,0)","v":0},{"$f":"SUBTOTAL(9,V362:V371)","v":0},{"$f":"IF($W$5>0,V361/$W$5,0)","v":0},{"$f":"SUBTOTAL(9,X362:X371)","v":0},{"$f":"IF($Y$5>0,X361/$Y$5,0)","v":0},{"$f":"P361+R361+T361+V361+X361","v":0},{"$f":"Q361+S361+U361+W361+Y361","v":0},{"$f":"SUBTOTAL(9,AB362:AB371)","v":0},{"$f":"IF($AC$5>0,AB361/$AC$5,0)","v":0},{"$f":"SUBTOTAL(9,AD362:AD371)","v":0},{"$f":"IF($AE$5>0,AD361/$AE$5,0)","v":0},{"$f":"SUBTOTAL(9,AF362:AF371)","v":0},{"$f":"IF($AG$5>0,AF361/$AG$5,0)","v":0},{"$f":"SUBTOTAL(9,AH362:AH371)","v":0},{"$f":"IF($AI$5>0,AH361/$AI$5,0)","v":0},{"$f":"SUBTOTAL(9,AJ362:AJ371)","v":0},{"$f":"IF($AK$5>0,AJ361/$AK$5,0)","v":0},{"$f":"AB361+AD361+AF361+AH361+AJ361","v":0},{"$f":"AC361+AE361+AG361+AI361+AK361","v":0},0]
[null,6600,"Revenus locatifs                                                  ",{"$f":"SUMIF(Feuil1!$B:$B,Consolidation!$B362,Feuil1!$D:$D)","v":0},null,{"$f":"SUMIF(Feuil2!$B:$B,Consolidation!$B362,Feuil2!$D:$D)","v":0},null,{"$f":"SUMIF(Feuil3!$B:$B,Consolidation!$B362,Feuil3!$D:$D)","v":0},null,{"$f":"SUMIF(Feuil4!$B:$B,Consolidation!$B362,Feuil4!$D:$D)","v":0},null,{"$f":"SUMIF(Feuil5!$B:$B,Consolidation!$B362,Feuil5!$D:$D)","v":0},null,{"$f":"D362+F362+H362+J362+L362","v":0},{"$f":"E362+G362+I362+K362+M362","v":0},{"$f":"SUMIF(Feuil1!$B:$B,Consolidation!$B362,Feuil1!$F:$F)","v":0},null,{"$f":"SUMIF(Feuil2!$B:$B,Consolidation!$B362,Feuil2!$F:$F)","v":0},null,{"$f":"SUMIF(Feuil3!$B:$B,Consolidation!$B362,Feuil3!$F:$F)","v":0},null,{"$f":"SUMIF(Feuil4!$B:$B,Consolidation!$B362,Feuil4!$F:$F)","v":0},null,{"$f":"SUMIF(Feuil5!$B:$B,Consolidation!$B362,Feuil5!$F:$F)","v":0},null,{"$f":"P362+R362+T362+V362+X362","v":0},{"$f":"Q362+S362+U362+W362+Y362","v":0},{"$f":"SUMIF(Feuil1!$B:$B,Consolidation!$B362,Feuil1!$H:$H)","v":0},null,{"$f":"SUMIF(Feuil2!$B:$B,Consolidation!$B362,Feuil2!$H:$H)","v":0},null,{"$f":"SUMIF(Feuil3!$B:$B,Consolidation!$B362,Feuil3!$H:$H)","v":0},null,{"$f":"SUMIF(Feuil4!$B:$B,Consolidation!$B362,Feuil4!$H:$H)","v":0},null,{"$f":"SUMIF(Feuil5!$B:$B,Consolidation!$B362,Feuil5!$H:$H)","v":0},null,{"$f":"AB362+AD362+AF362+AH362+AJ362","v":0},{"$f":"AC362+AE362+AG362+AI362+AK362","v":0},0]
["InsererLigne",6601,"Revenus locatifs garages",{"$f":"SUMIF(Feuil1!$B:$B,Consolidation!$B363,Feuil1!$D:$D)","v":0},null,{"$f":"SUMIF(Feuil2!$B:$B,Consolidation!$B363,Feuil2!$D:$D)","v":0},null,{"$f":"SUMIF(Feuil3!$B:$B,Consolidation!$B363,Feuil3!$D:$D)","v":0},null,{"$f":"SUMIF(Feuil4!$B:$B,Consolidation!$B363,Feuil4!$D:$D)","v":0},null,{"$f":"SUMIF(Feuil5!$B:$B,Consolidation!$B363,Feuil5!$D:$D)","v":0},null,0,0,{"$f":"SUMIF(Feuil1!$B:$B,Consolidation!$B363,Feuil1!$F:$F)","v":0},null,{"$f":"SUMIF(Feuil2!$B:$B,Consolidation!$B363,Feuil2!$F:$F)","v":0},null,{"$f":"SUMIF(Feuil3!$B:$B,Consolidation!$B363,Feuil3!$F:$F)","v":0},null,{"$f":"SUMIF(Feuil4!$B:$B,Consolidation!$B363,Feuil4!$F:$F)","v":0},null,{"$f":"SUMIF(Feuil5!$B:$B,Consolidation!$B363,Feuil5!$F:$F)","v":0},null,0,0,{"$f":"SUMIF(Feuil1!$B:$B,Consolidation!$B363,Feuil1!$H:$H)","v":0},null,{"$f":"SUMIF(Feuil2!$B:$B,Consolidation!$B363,Feuil2!$H:$H)","v":0},null,{"$f":"SUMIF(Feuil3!$B:$B,Consolidation!$B363,Feuil3!$H:$H)","v":0},null,{"$f":"SUMIF(Feuil4!$B:$B,Consolidation!$B363,Feuil4!$H:$H)","v":0},null,{"$f":"SUMIF(Feuil5!$B:$B,Consolidation!$B363,Feuil5!$H:$H)","v":0},null,0,0,0]
["InsererLigne",6602,"Acomptes de charges PPE",{"$f":"SUMIF(Feuil1!$B:$B,Consolidation!$B364,Feuil1!$D:$D)","v":0},null,{"$f":"SUMIF(Feuil2!$B:$B,Consolidation!$B364,Feuil2!$D:$D)","v":0},null,{"$f":"SUMIF(Feuil3!$B:$B,Consolidation!$B364,Feuil3!$D:$D)","v":0},null,{"$f":"SUMIF(Feuil4!$B:$B,Consolidation!$B364,Feuil4!$D:$D)","v":0},null,{"$f":"SUMIF(Feuil5!$B:$B,Consolidation!$B364,Feuil5!$D:$D)","v":0},null,0,0,{"$f":"SUMIF(Feuil1!$B:$B,Consolidation!$B364,Feuil1!$F:$F)","v":0},null,{"$f":"SUMIF(Feuil2!$B:$B,Consolidation!$B364,Feuil2!$F:$F)","v":0},null,{"$f":"SUMIF(Feuil3!$B:$B,Consolidation!$B364,Feuil3!$F:$F)","v":0},null,{"$f":"SUMIF(Feuil4!$B:$B,Consolidation!$B364,Feuil4!$F:$F)","v":0},null,{"$f":"SUMIF(Feuil5!$B:$B,Consolidation!$B364,Feuil5!$F:$F)","v":0},null,0,0,{"$f":"SUMIF(Feuil1!$B:$B,Consolidation!$B364,Feuil1!$H:$H)","v":0},null,{"$f":"SUMIF(Feuil2!$B:$B,Consolidation!$B364,Feuil2!$H:$H)","v":0},null,{"$f":"SUMIF(Feuil3!$B:$B,Consolidation!$B364,Feuil3!$H:$H)","v":0},null,{"$f":"SUMIF(Feuil4!$B:$B,Consolidation!$B364,Feuil4!$H:$H)","v":0},null,{"$f":"SUMIF(Feuil5!$B:$B,Consolidation!$B364,Feuil5!$H:$H)","v":0},null,0,0,0]
["InsererLigne",6610,"Produits des fermages                                                  ",{"$f":"SUMIF(Feuil1!$B:$B,Consolidation!$B365,Feuil1!$D:$D)","v":0},null,{"$f":"SUMIF(Feuil2!$B:$B,Consolidation!$B365,Feuil2!$D:$D)","v":0},null,{"$f":"SUMIF(Feuil3!$B:$B,Consolidation!$B365,Feuil3!$D:$D)","v":0},null,{"$f":"SUMIF(Feuil4!$B:$B,Consolidation!$B365,Feuil4!$D:$D)","v":0},null,{"$f":"SUMIF(Feuil5!$B:$B,Consolidation!$B365,Feuil5!$D:$D)","v":0},null,0,0,{"$f":"SUMIF(Feuil1!$B:$B,Consolidation!$B365,Feuil1!$F:$F)","v":0},null,{"$f":"SUMIF(Feuil2!$B:$B,Consolidation!$B365,Feuil2!$F:$F)","v":0},null,{"$f":"SUMIF(Feuil3!$B:$B,Consolidation!$B365,Feuil3!$F:$F)","v":0},null,{"$f":"SUMIF(Feuil4!$B:$B,Consolidation!$B365,Feuil4!$F:$F)","v":0},null,{"$f":"SUMIF(Feuil5!$B:$B,Consolidation!$B365,Feuil5!$F:$F)","v":0},null,0,0,{"$f":"SUMIF(Feuil1!$B:$B,Consolidation!$B365,Feuil1!$H:$H)","v":0},null,{"$f":"SUMIF(Feuil2!$B:$B,Consolidation!$B365,Feuil2!$H:$H)","v":0},null,{"$f":"SUMIF(Feuil3!$B:$B,Consolidation!$B365,Feuil3!$H:$H)","v":0},null,{"$f":"SUMIF(Feuil4!$B:$B,Consolidation!$B365,Feuil4!$H:$H)","v":0},null,{"$f":"SUMIF(Feuil5!$B:$B,Consolidation!$B365,Feuil5!$H:$H)","v":0},null,0,0,0]
["InsererLigne",6620,"Produits des forêts                                                  ",{"$f":"SUMIF(Feuil1!$B:$B,Consolidation!$B366,Feuil1!$D:$D)","v":0},null,{"$f":"SUMIF(Feuil2!$B:$B,Consolidation!$B366,Feuil2!$D:$D)","v":0},null,{"$f":"SUMIF(Feuil3!$B:$B,Consolidation!$B366,Feuil3!$D:$D)","v":0},null,{"$f":"SUMIF(Feuil4!$B:$B,Consolidation!$B366,Feuil4!$D:$D)","v":0},null,{"$f":"SUMIF(Feuil5!$B:$B,Consolidation!$B366,Feuil5!$D:$D)","v":0},null,0,0,{"$f":"SUMIF(Feuil1!$B:$B,Consolidation!$B366,Feuil1!$F:$F)","v":0},null,{"$f":"SUMIF(Feuil2!$B:$B,Consolidation!$B366,Feuil2!$F:$F)","v":0},null,{"$f":"SUMIF(Feuil3!$B:$B,Consolidation!$B366,Feuil3!$F:$F)","v":0},null,{"$f":"SUMIF(Feuil4!$B:$B,Consolidation!$B366,Feuil4!$F:$F)","v":0},null,{"$f":"SUMIF(Feuil5!$B:$B,Consolidation!$B366,Feuil5!$F:$F)","v":0},null,0,0,{"$f":"SUMIF(Feuil1!$B:$B,Consolidation!$B366,Feuil1!$H:$H)","v":0},null,{"$f":"SUMIF(Feuil2!$B:$B,Consolidation!$B366,Feuil2!$H:$H)","v":0},null,{"$f":"SUMIF(Feuil3!$B:$B,Consolidation!$B366,Feuil3!$H:$H)","v":0},null,{"$f":"SUMIF(Feuil4!$B:$B,Consolidation!$B366,Feuil4!$H:$H)","v":0},null,{"$f":"SUMIF(Feuil5!$B:$B,Consolidation!$B366,Feuil5!$H:$H)","v":0},null,0,0,0]
["InsererLigne",6630,"Produits des véhicules                                                  ",{"$f":"SUMIF(Feuil1!$B:$B,Consolidation!$B367,Feuil1!$D:$D)","v":0},null,{"$f":"SUMIF(Feuil2!$B:$B,Consolidation!$B367,Feuil2!$D:$D)","v":0},null,{"$f":"SUMIF(Feuil3!$B:$B,Consolidation!$B367,Feuil3!$D:$D)","v":0},null,{"$f":"SUMIF(Feuil4!$B:$B,Consolidation!$B367,Feuil4!$D:$D)","v":0},null,{"$f":"SUMIF(Feuil5!$B:$B,Consolidation!$B367,Feuil5!$D:$D)","v":0},null,0,0,{"$f":"SUMIF(Feuil1!$B:$B,Consolidation!$B367,Feuil1!$F:$F)","v":0},null,{"$f":"SUMIF(Feuil2!$B:$B,Consolidation!$B367,Feuil2!$F:$F)","v":0},null,{"$f":"SUMIF(Feuil3!$B:$B,Consolidation!$B367,Feuil3!$F:$F)","v":0},null,{"$f":"SUMIF(Feuil4!$B:$B,Consolidation!$B367,Feuil4!$F:$F)","v":0},null,{"$f":"SUMIF(Feuil5!$B:$B,Consolidation!$B367,Feuil5!$F:$F)","v":0},null,0,0,{"$f":"SUMIF(Feuil1!$B:$B,Consolidation!$B367,Feuil1!$H:$H)","v":0},null,{"$f":"SUMIF(Feuil2!$B:$B,Consolidation!$B367,Feuil2!$H:$H)","v":0},null,{"$f":"SUMIF(Feuil3!$B:$B,Consolidation!$B367,Feuil3!$H:$H)","v":0},null,{"$f":"SUMIF(Feuil4!$B:$B,Consolidation!$B367,Feuil4!$H:$H)","v":0},null,{"$f":"SUMIF(Feuil5!$B:$B,Consolidation!$B367,Feuil5!$H:$H)","v":0},null,0,0,0]
["InsererLigne",6650,"Revenus des intérêts du capital                                                  ",{"$f":"SUMIF(Feuil1!$B:$B,Consolidation!$B368,Feuil1!$D:$D)","v":0},null,{"$f":"SUMIF(Feuil2!$B:$B,Consolidation!$B368,Feuil2!$D:$D)","v":0},null,{"$f":"SUMIF(Feuil3!$B:$B,Consolidation!$B368,Feuil3!$D:$D)","v":0},null,{"$f":"SUMIF(Feuil4!$B:$B,Consolidation!$B368,Feuil4!$D:$D)","v":0},null,{"$f":"SUMIF(Feuil5!$B:$B,Consolidation!$B368,Feuil5!$D:$D)","v":0},null,0,0,{"$f":"SUMIF(Feuil1!$B:$B,Consolidation!$B368,Feuil1!$F:$F)","v":0},null,{"$f":"SUMIF(Feuil2!$B:$B,Consolidation!$B368,Feuil2!$F:$F)","v":0},null,{"$f":"SUMIF(Feuil3!$B:$B,Consolidation!$B368,Feuil3!$F:$F)","v":0},null,{"$f":"SUMIF(Feuil4!$B:$B,Consolidation!$B368,Feuil4!$F:$F)","v":0},null,{"$f":"SUMIF(Feuil5!$B:$B,Consolidation!$B368,Feuil5!$F:$F)","v":0},null,0,0,{"$f":"SUMIF(Feuil1!$B:$B,Consolidation!$B368,Feuil1!$H:$H)","v":0},null,{"$f":"SUMIF(Feuil2!$B:$B,Consolidation!$B368,Feuil2!$H:$H)","v":0},null,{"$f":"SUMIF(Feuil3!$B:$B,Consolidation!$B368,Feuil3!$H:$H)","v":0},null,{"$f":"SUMIF(Feuil4!$B:$B,Consolidation!$B368,Feuil4!$H:$H)","v":0},null,{"$f":"SUMIF(Feuil5!$B:$B,Consolidation!$B368,Feuil5!$H:$H)","v":0},null,0,0,0]
["InsererLigne",6651,"Revenus des titres",{"$f":"SUMIF(Feuil1!$B:$B,Consolidation!$B369,Feuil1!$D:$D)","v":0},null,{"$f":"SUMIF(Feuil2!$B:$B,Consolidation!$B369,Feuil2!$D:$D)","v":0},null,{"$f":"SUMIF(Feuil3!$B:$B,Consolidation!$B369,Feuil3!$D:$D)","v":0},null,{"$f":"SUMIF(Feuil4!$B:$B,Consolidation!$B369,Feuil4!$D:$D)","v":0},null,{"$f":"SUMIF(Feuil5!$B:$B,Consolidation!$B369,Feuil5!$D:$D)","v":0},null,0,0,{"$f":"SUMIF(Feuil1!$B:$B,Consolidation!$B369,Feuil1!$F:$F)","v":0},null,{"$f":"SUMIF(Feuil2!$B:$B,Consolidation!$B369,Feuil2!$F:$F)","v":0},null,{"$f":"SUMIF(Feuil3!$B:$B,Consolidation!$B369,Feuil3!$F:$F)","v":0},null,{"$f":"SUMIF(Feuil4!$B:$B,Consolidation!$B369,Feuil4!$F:$F)","v":0},null,{"$f":"SUMIF(Feuil5!$B:$B,Consolidation!$B369,Feuil5!$F:$F)","v":0},null,0,0,{"$f":"SUMIF(Feuil1!$B:$B,Consolidation!$B369,Feuil1!$H:$H)","v":0},null,{"$f":"SUMIF(Feuil2!$B:$B,Consolidation!$B369,Feuil2!$H:$H)","v":0},null,{"$f":"SUMIF(Feuil3!$B:$B,Consolidation!$B369,Feuil3!$H:$H)","v":0},null,{"$f":"SUMIF(Feuil4!$B:$B,Consolidation!$B369,Feuil4!$H:$H)","v":0},null,{"$f":"SUMIF(Feuil5!$B:$B,Consolidation!$B369,Feuil5!$H:$H)","v":0},null,0,0,0]
["InsererLigne",6652,"Intérêts moratoires",{"$f":"SUMIF(Feuil1!$B:$B,Consolidation!$B370,Feuil1!$D:$D)","v":0},null,{"$f":"SUMIF(Feuil2!$B:$B,Consolidation!$B370,Feuil2!$D:$D)","v":0},null,{"$f":"SUMIF(Feuil3!$B:$B,Consolidation!$B370,Feuil3!$D:$D)","v":0},null,{"$f":"SUMIF(Feuil4!$B:$B,Consolidation!$B370,Feuil4!$D:$D)","v":0},null,{"$f":"SUMIF(Feuil5!$B:$B,Consolidation!$B370,Feuil5!$D:$D)","v":0},null,0,0,{"$f":"SUMIF(Feuil1!$B:$B,Consolidation!$B370,Feuil1!$F:$F)","v":0},null,{"$f":"SUMIF(Feuil2!$B:$B,Consolidation!$B370,Feuil2!$F:$F)","v":0},null,{"$f":"SUMIF(Feuil3!$B:$B,Consolidation!$B370,Feuil3!$F:$F)","v":0},null,{"$f":"SUMIF(Feuil4!$B:$B,Consolidation!$B370,Feuil4!$F:$F)","v":0},null,{"$f":"SUMIF(Feuil5!$B:$B,Consolidation!$B370,Feuil5!$F:$F)","v":0},null,0,0,{"$f":"SUMIF(Feuil1!$B:$B,Consolidation!$B370,Feuil1!$H:$H)","v":0},null,{"$f":"SUMIF(Feuil2!$B:$B,Consolidation!$B370,Feuil2!$H:$H)","v":0},null,{"$f":"SUMIF(Feuil3!$B:$B,Consolidation!$B370,Feuil3!$H:$H)","v":0},null,{"$f":"SUMIF(Feuil4!$B:$B,Consolidation!$B370,Feuil4!$H:$H)","v":0},null,{"$f":"SUMIF(Feuil5!$B:$B,Consolidation!$B370,Feuil5!$H:$H)","v":0},null,0,0,0]
["InsererLigne",null,null,null,null,null,null,null,null,null,null,null,null,null,null,null,null,null,null,null,null,null,null,null,null,null,null,null,null,null,null,null,null,null,null,null,null,null,null,0]
[null,67,"Revenus d'exploitations annexes",{"$f":"SUBTOTAL(9,D373:D378)","v":0},{"$f":"IF($E$5>0,D372/$E$5,0)","v":0},{"$f":"SUBTOTAL(9,F373:F378)","v":0},{"$f":"IF($G$5>0,F372/$G$5,0)","v":0},{"$f":"SUBTOTAL(9,H373:H378)","v":0},{"$f":"IF($I$5>0,H372/$I$5,0)","v":0},{"$f":"SUBTOTAL(9,J373:J378)","v":0},{"$f":"IF($K$5>0,J372/$K$5,0)","v":0},{"$f":"SUBTOTAL(9,L373:L378)","v":0},{"$f":"IF($M$5>0,L372/$M$5,0)","v":0},{"$f":"D372+F372+H372+J372+L372","v":0},{"$f":"E372+G372+I372+K372+M372","v":0},{"$f":"SUBTOTAL(9,P373:P378)","v":0},{"$f":"IF($Q$5>0,P372/$Q$5,0)","v":0},{"$f":"SUBTOTAL(9,R373:R378)","v":0},{"$f":"IF($S$5>0,R372/$S$5,0)","v":0},{"$f":"SUBTOTAL(9,T373:T378)","v":0},{"$f":"IF($U$5>0,T372/$U$5,0)","v":0},{"$f":"SUBTOTAL(9,V373:V378)","v":0},{"$f":"IF($W$5>0,V372/$W$5,0)","v":0},{"$f":"SUBTOTAL(9,X373:X378)","v":0},{"$f":"IF($Y$5>0,X372/$Y$5,0)","v":0},{"$f":"P372+R372+T372+V372+X372","v":0},{"$f":"Q372+S372+U372+W372+Y372","v":0},{"$f":"SUBTOTAL(9,AB373:AB378)","v":0},{"$f":"IF($AC$5>0,AB372/$AC$5,0)","v":0},{"$f":"SUBTOTAL(9,AD373:AD378)","v":0},{"$f":"IF($AE$5>0,AD372/$AE$5,0)","v":0},{"$f":"SUBTOTAL(9,AF373:AF378)","v":0},{"$f":"IF($AG$5>0,AF372/$AG$5,0)","v":0},{"$f":"SUBTOTAL(9,AH373:AH378)","v":0},{"$f":"IF($AI$5>0,AH372/$AI$5,0)","v":0},{"$f":"SUBTOTAL(9,AJ373:AJ378)","v":0},{"$f":"IF($AK$5>0,AJ372/$AK$5,0)","v":0},{"$f":"AB372+AD372+AF372+AH372+AJ372","v":0},{"$f":"AC372+AE372+AG372+AI372+AK372","v":0},0]
["InsererLigne",6700,"Revenus locatifs restaurant",{"$f":"SUMIF(Feuil1!$B:$B,Consolidation!$B373,Feuil1!$D:$D)","v":0},null,{"$f":"SUMIF(Feuil2!$B:$B,Consolidation!$B373,Feuil2!$D:$D)","v":0},null,{"$f":"SUMIF(Feuil3!$B:$B,Consolidation!$B373,Feuil3!$D:$D)","v":0},null,{"$f":"SUMIF(Feuil4!$B:$B,Consolidation!$B373,Feuil4!$D:$D)","v":0},null,{"$f":"SUMIF(Feuil5!$B:$B,Consolidation!$B373,Feuil5!$D:$D)","v":0},null,{"$f":"D373+F373+H373+J373+L373","v":0},{"$f":"E373+G373+I373+K373+M373","v":0},{"$f":"SUMIF(Feuil1!$B:$B,Consolidation!$B373,Feuil1!$F:$F)","v":0},null,{"$f":"SUMIF(Feuil2!$B:$B,Consolidation!$B373,Feuil2!$F:$F)","v":0},null,{"$f":"SUMIF(Feuil3!$B:$B,Consolidation!$B373,Feuil3!$F:$F)","v":0},null,{"$f":"SUMIF(Feuil4!$B:$B,Consolidation!$B373,Feuil4!$F:$F)","v":0},null,{"$f":"SUMIF(Feuil5!$B:$B,Consolidation!$B373,Feuil5!$F:$F)","v":0},null,{"$f":"P373+R373+T373+V373+X373","v":0},{"$f":"Q373+S373+U373+W373+Y373","v":0},{"$f":"SUMIF(Feuil1!$B:$B,Consolidation!$B373,Feuil1!$H:$H)","v":0},null,{"$f":"SUMIF(Feuil2!$B:$B,Consolidation!$B373,Feuil2!$H:$H)","v":0},null,{"$f":"SUMIF(Feuil3!$B:$B,Consolidation!$B373,Feuil3!$H:$H)","v":0},null,{"$f":"SUMIF(Feuil4!$B:$B,Consolidation!$B373,Feuil4!$H:$H)","v":0},null,{"$f":"SUMIF(Feuil5!$B:$B,Consolidation!$B373,Feuil5!$H:$H)","v":0},null,{"$f":"AB373+AD373+AF373+AH373+AJ373","v":0},{"$f":"AC373+AE373+AG373+AI373+AK373","v":0},0]
["InsererLigne",6710,"Revenus kiosque, caféteria",{"$f":"SUMIF(Feuil1!$B:$B,Consolidation!$B374,Feuil1!$D:$D)","v":0},null,{"$f":"SUMIF(Feuil2!$B:$B,Consolidation!$B374,Feuil2!$D:$D)","v":0},null,{"$f":"SUMIF(Feuil3!$B:$B,Consolidation!$B374,Feuil3!$D:$D)","v":0},null,{"$f":"SUMIF(Feuil4!$B:$B,Consolidation!$B374,Feuil4!$D:$D)","v":0},null,{"$f":"SUMIF(Feuil5!$B:$B,Consolidation!$B374,Feuil5!$D:$D)","v":0},null,0,0,{"$f":"SUMIF(Feuil1!$B:$B,Consolidation!$B374,Feuil1!$F:$F)","v":0},null,{"$f":"SUMIF(Feuil2!$B:$B,Consolidation!$B374,Feuil2!$F:$F)","v":0},null,{"$f":"SUMIF(Feuil3!$B:$B,Consolidation!$B374,Feuil3!$F:$F)","v":0},null,{"$f":"SUMIF(Feuil4!$B:$B,Consolidation!$B374,Feuil4!$F:$F)","v":0},null,{"$f":"SUMIF(Feuil5!$B:$B,Consolidation!$B374,Feuil5!$F:$F)","v":0},null,0,0,{"$f":"SUMIF(Feuil1!$B:$B,Consolidation!$B374,Feuil1!$H:$H)","v":0},null,{"$f":"SUMIF(Feuil2!$B:$B,Consolidation!$B374,Feuil2!$H:$H)","v":0},null,{"$f":"SUMIF(Feuil3!$B:$B,Consolidation!$B374,Feuil3!$H:$H)","v":0},null,{"$f":"SUMIF(Feuil4!$B:$B,Consolidation!$B374,Feuil4!$H:$H)","v":0},null,{"$f":"SUMIF(Feuil5!$B:$B,Consolidation!$B374,Feuil5!$H:$H)","v":0},null,0,0,0]
["InsererLigne",6711,"Ventes boissons",{"$f":"SUMIF(Feuil1!$B:$B,Consolidation!$B375,Feuil1!$D:$D)","v":0},null,{"$f":"SUMIF(Feuil2!$B:$B,Consolidation!$B375,Feuil2!$D:$D)","v":0},null,{"$f":"SUMIF(Feuil3!$B:$B,Consolidation!$B375,Feuil3!$D:$D)","v":0},null,{"$f":"SUMIF(Feuil4!$B:$B,Consolidation!$B375,Feuil4!$D:$D)","v":0},null,{"$f":"SUMIF(Feuil5!$B:$B,Consolidation!$B375,Feuil5!$D:$D)","v":0},null,0,0,{"$f":"SUMIF(Feuil1!$B:$B,Consolidation!$B375,Feuil1!$F:$F)","v":0},null,{"$f":"SUMIF(Feuil2!$B:$B,Consolidation!$B375,Feuil2!$F:$F)","v":0},null,{"$f":"SUMIF(Feuil3!$B:$B,Consolidation!$B375,Feuil3!$F:$F)","v":0},null,{"$f":"SUMIF(Feuil4!$B:$B,Consolidation!$B375,Feuil4!$F:$F)","v":0},null,{"$f":"SUMIF(Feuil5!$B:$B,Consolidation!$B375,Feuil5!$F:$F)","v":0},null,0,0,{"$f":"SUMIF(Feuil1!$B:$B,Consolidation!$B375,Feuil1!$H:$H)","v":0},null,{"$f":"SUMIF(Feuil2!$B:$B,Consolidation!$B375,Feuil2!$H:$H)","v":0},null,{"$f":"SUMIF(Feuil3!$B:$B,Consolidation!$B375,Feuil3!$H:$H)","v":0},null,{"$f":"SUMIF(Feuil4!$B:$B,Consolidation!$B375,Feuil4!$H:$H)","v":0},null,{"$f":"SUMIF(Feuil5!$B:$B,Consolidation!$B375,Feuil5!$H:$H)","v":0},null,0,0,0]
["InsererLigne",6712,"Automates à boissons",{"$f":"SUMIF(Feuil1!$B:$B,Consolidation!$B376,Feuil1!$D:$D)","v":0},null,{"$f":"SUMIF(Feuil2!$B:$B,Consolidation!$B376,Feuil2!$D:$D)","v":0},null,{"$f":"SUMIF(Feuil3!$B:$B,Consolidation!$B376,Feuil3!$D:$D)","v":0},null,{"$f":"SUMIF(Feuil4!$B:$B,Consolidation!$B376,Feuil4!$D:$D)","v":0},null,{"$f":"SUMIF(Feuil5!$B:$B,Consolidation!$B376,Feuil5!$D:$D)","v":0},null,0,0,{"$f":"SUMIF(Feuil1!$B:$B,Consolidation!$B376,Feuil1!$F:$F)","v":0},null,{"$f":"SUMIF(Feuil2!$B:$B,Consolidation!$B376,Feuil2!$F:$F)","v":0},null,{"$f":"SUMIF(Feuil3!$B:$B,Consolidation!$B376,Feuil3!$F:$F)","v":0},null,{"$f":"SUMIF(Feuil4!$B:$B,Consolidation!$B376,Feuil4!$F:$F)","v":0},null,{"$f":"SUMIF(Feuil5!$B:$B,Consolidation!$B376,Feuil5!$F:$F)","v":0},null,0,0,{"$f":"SUMIF(Feuil1!$B:$B,Consolidation!$B376,Feuil1!$H:$H)","v":0},null,{"$f":"SUMIF(Feuil2!$B:$B,Consolidation!$B376,Feuil2!$H:$H)","v":0},null,{"$f":"SUMIF(Feuil3!$B:$B,Consolidation!$B376,Feuil3!$H:$H)","v":0},null,{"$f":"SUMIF(Feuil4!$B:$B,Consolidation!$B376,Feuil4!$H:$H)","v":0},null,{"$f":"SUMIF(Feuil5!$B:$B,Consolidation!$B376,Feuil5!$H:$H)","v":0},null,0,0,0]
["InsererLigne",6720,"Revenus kermesse, bazar",{"$f":"SUMIF(Feuil1!$B:$B,Consolidation!$B377,Feuil1!$D:$D)","v":0},null,{"$f":"SUMIF(Feuil2!$B:$B,Consolidation!$B377,Feuil2!$D:$D)","v":0},null,{"$f":"SUMIF(Feuil3!$B:$B,Consolidation!$B377,Feuil3!$D:$D)","v":0},null,{"$f":"SUMIF(Feuil4!$B:$B,Consolidation!$B377,Feuil4!$D:$D)","v":0},null,{"$f":"SUMIF(Feuil5!$B:$B,Consolidation!$B377,Feuil5!$D:$D)","v":0},null,0,0,{"$f":"SUMIF(Feuil1!$B:$B,Consolidation!$B377,Feuil1!$F:$F)","v":0},null,{"$f":"SUMIF(Feuil2!$B:$B,Consolidation!$B377,Feuil2!$F:$F)","v":0},null,{"$f":"SUMIF(Feuil3!$B:$B,Consolidation!$B377,Feuil3!$F:$F)","v":0},null,{"$f":"SUMIF(Feuil4!$B:$B,Consolidation!$B377,Feuil4!$F:$F)","v":0},null,{"$f":"SUMIF(Feuil5!$B:$B,Consolidation!$B377,Feuil5!$F:$F)","v":0},null,0,0,{"$f":"SUMIF(Feuil1!$B:$B,Consolidation!$B377,Feuil1!$H:$H)","v":0},null,{"$f":"SUMIF(Feuil2!$B:$B,Consolidation!$B377,Feuil2!$H:$H)","v":0},null,{"$f":"SUMIF(Feuil3!$B:$B,Consolidation!$B377,Feuil3!$H:$H)","v":0},null,{"$f":"SUMIF(Feuil4!$B:$B,Consolidation!$B377,Feuil4!$H:$H)","v":0},null,{"$f":"SUMIF(Feuil5!$B:$B,Consolidation!$B377,Feuil5!$H:$H)","v":0},null,0,0,0]
["InsererLigne",null,null,null,null,null,null,null,null,null,null,null,null,null,null,null,null,null,null,null,null,null,null,null,null,null,null,null,null,null,null,null,null,null,null,null,null,null,null,0]
[null,68,"Revenus provenant de prestations au personnel et à des tiers",{"$f":"SUBTOTAL(9,D380:D394)","v":0},{"$f":"IF($E$5>0,D379/$E$5,0)","v":0},{"$f":"SUBTOTAL(9,F380:F394)","v":0},{"$f":"IF($G$5>0,F379/$G$5,0)","v":0},{"$f":"SUBTOTAL(9,H380:H394)","v":0},{"$f":"IF($I$5>0,H379/$I$5,0)","v":0},{"$f":"SUBTOTAL(9,J380:J394)","v":0},{"$f":"IF($K$5>0,J379/$K$5,0)","v":0},{"$f":"SUBTOTAL(9,L380:L394)","v":0},{"$f":"IF($M$5>0,L379/$M$5,0)","v":0},{"$f":"D379+F379+H379+J379+L379","v":0},{"$f":"E379+G379+I379+K379+M379","v":0},{"$f":"SUBTOTAL(9,P380:P394)","v":0},{"$f":"IF($Q$5>0,P379/$Q$5,0)","v":0},{"$f":"SUBTOTAL(9,R380:R394)","v":0},{"$f":"IF($S$5>0,R379/$S$5,0)","v":0},{"$f":"SUBTOTAL(9,T380:T394)","v":0},{"$f":"IF($U$5>0,T379/$U$5,0)","v":0},{"$f":"SUBTOTAL(9,V380:V394)","v":0},{"$f":"IF($W$5>0,V379/$W$5,0)","v":0},{"$f":"SUBTOTAL(9,X380:X394)","v":0},{"$f":"IF($Y$5>0,X379/$Y$5,0)","v":0},{"$f":"P379+R379+T379+V379+X379","v":0},{"$f":"Q379+S379+U379+W379+Y379","v":0},{"$f":"SUBTOTAL(9,AB380:AB394)","v":0},{"$f":"IF($AC$5>0,AB379/$AC$5,0)","v":0},{"$f":"SUBTOTAL(9,AD380:AD394)","v":0},{"$f":"IF($AE$5>0,AD379/$AE$5,0)","v":0},{"$f":"SUBTOTAL(9,AF380:AF394)","v":0},{"$f":"IF($AG$5>0,AF379/$AG$5,0)","v":0},{"$f":"SUBTOTAL(9,AH380:AH394)","v":0},{"$f":"IF($AI$5>0,AH379/$AI$5,0)","v":0},{"$f":"SUBTOTAL(9,AJ380:AJ394)","v":0},{"$f":"IF($AK$5>0,AJ379/$AK$5,0)","v":0},{"$f":"AB379+AD379+AF379+AH379+AJ379","v":0},{"$f":"AC379+AE379+AG379+AI379+AK379","v":0},0]
[null,6800,"Nourriture du personnel                                                  ",{"$f":"SUMIF(Feuil1!$B:$B,Consolidation!$B380,Feuil1!$D:$D)","v":0},null,{"$f":"SUMIF(Feuil2!$B:$B,Consolidation!$B380,Feuil2!$D:$D)","v":0},null,{"$f":"SUMIF(Feuil3!$B:$B,Consolidation!$B380,Feuil3!$D:$D)","v":0},null,{"$f":"SUMIF(Feuil4!$B:$B,Consolidation!$B380,Feuil4!$D:$D)","v":0},null,{"$f":"SUMIF(Feuil5!$B:$B,Consolidation!$B380,Feuil5!$D:$D)","v":0},null,{"$f":"D380+F380+H380+J380+L380","v":0},{"$f":"E380+G380+I380+K380+M380","v":0},{"$f":"SUMIF(Feuil1!$B:$B,Consolidation!$B380,Feuil1!$F:$F)","v":0},null,{"$f":"SUMIF(Feuil2!$B:$B,Consolidation!$B380,Feuil2!$F:$F)","v":0},null,{"$f":"SUMIF(Feuil3!$B:$B,Consolidation!$B380,Feuil3!$F:$F)","v":0},null,{"$f":"SUMIF(Feuil4!$B:$B,Consolidation!$B380,Feuil4!$F:$F)","v":0},null,{"$f":"SUMIF(Feuil5!$B:$B,Consolidation!$B380,Feuil5!$F:$F)","v":0},null,{"$f":"P380+R380+T380+V380+X380","v":0},{"$f":"Q380+S380+U380+W380+Y380","v":0},{"$f":"SUMIF(Feuil1!$B:$B,Consolidation!$B380,Feuil1!$H:$H)","v":0},null,{"$f":"SUMIF(Feuil2!$B:$B,Consolidation!$B380,Feuil2!$H:$H)","v":0},null,{"$f":"SUMIF(Feuil3!$B:$B,Consolidation!$B380,Feuil3!$H:$H)","v":0},null,{"$f":"SUMIF(Feuil4!$B:$B,Consolidation!$B380,Feuil4!$H:$H)","v":0},null,{"$f":"SUMIF(Feuil5!$B:$B,Consolidation!$B380,Feuil5!$H:$H)","v":0},null,{"$f":"AB380+AD380+AF380+AH380+AJ380","v":0},{"$f":"AC380+AE380+AG380+AI380+AK380","v":0},0]
["InsererLigne",6805,"Prestations en nature",{"$f":"SUMIF(Feuil1!$B:$B,Consolidation!$B381,Feuil1!$D:$D)","v":0},null,{"$f":"SUMIF(Feuil2!$B:$B,Consolidation!$B381,Feuil2!$D:$D)","v":0},null,{"$f":"SUMIF(Feuil3!$B:$B,Consolidation!$B381,Feuil3!$D:$D)","v":0},null,{"$f":"SUMIF(Feuil4!$B:$B,Consolidation!$B381,Feuil4!$D:$D)","v":0},null,{"$f":"SUMIF(Feuil5!$B:$B,Consolidation!$B381,Feuil5!$D:$D)","v":0},null,0,0,{"$f":"SUMIF(Feuil1!$B:$B,Consolidation!$B381,Feuil1!$F:$F)","v":0},null,{"$f":"SUMIF(Feuil2!$B:$B,Consolidation!$B381,Feuil2!$F:$F)","v":0},null,{"$f":"SUMIF(Feuil3!$B:$B,Consolidation!$B381,Feuil3!$F:$F)","v":0},null,{"$f":"SUMIF(Feuil4!$B:$B,Consolidation!$B381,Feuil4!$F:$F)","v":0},null,{"$f":"SUMIF(Feuil5!$B:$B,Consolidation!$B381,Feuil5!$F:$F)","v":0},null,0,0,{"$f":"SUMIF(Feuil1!$B:$B,Consolidation!$B381,Feuil1!$H:$H)","v":0},null,{"$f":"SUMIF(Feuil2!$B:$B,Consolidation!$B381,Feuil2!$H:$H)","v":0},null,{"$f":"SUMIF(Feuil3!$B:$B,Consolidation!$B381,Feuil3!$H:$H)","v":0},null,{"$f":"SUMIF(Feuil4!$B:$B,Consolidation!$B381,Feuil4!$H:$H)","v":0},null,{"$f":"SUMIF(Feuil5!$B:$B,Consolidation!$B381,Feuil5!$H:$H)","v":0},null,0,0,0]
["InsererLigne",6810,"Logement du personnel                                                  ",{"$f":"SUMIF(Feuil1!$B:$B,Consolidation!$B382,Feuil1!$D:$D)","v":0},null,{"$f":"SUMIF(Feuil2!$B:$B,Consolidation!$B382,Feuil2!$D:$D)","v":0},null,{"$f":"SUMIF(Feuil3!$B:$B,Consolidation!$B382,Feuil3!$D:$D)","v":0},null,{"$f":"SUMIF(Feuil4!$B:$B,Consolidation!$B382,Feuil4!$D:$D)","v":0},null,{"$f":"SUMIF(Feuil5!$B:$B,Consolidation!$B382,Feuil5!$D:$D)","v":0},null,0,0,{"$f":"SUMIF(Feuil1!$B:$B,Consolidation!$B382,Feuil1!$F:$F)","v":0},null,{"$f":"SUMIF(Feuil2!$B:$B,Consolidation!$B382,Feuil2!$F:$F)","v":0},null,{"$f":"SUMIF(Feuil3!$B:$B,Consolidation!$B382,Feuil3!$F:$F)","v":0},null,{"$f":"SUMIF(Feuil4!$B:$B,Consolidation!$B382,Feuil4!$F:$F)","v":0},null,{"$f":"SUMIF(Feuil5!$B:$B,Consolidation!$B382,Feuil5!$F:$F)","v":0},null,0,0,{"$f":"SUMIF(Feuil1!$B:$B,Consolidation!$B382,Feuil1!$H:$H)","v":0},null,{"$f":"SUMIF(Feuil2!$B:$B,Consolidation!$B382,Feuil2!$H:$H)","v":0},null,{"$f":"SUMIF(Feuil3!$B:$B,Consolidation!$B382,Feuil3!$H:$H)","v":0},null,{"$f":"SUMIF(Feuil4!$B:$B,Consolidation!$B382,Feuil4!$H:$H)","v":0},null,{"$f":"SUMIF(Feuil5!$B:$B,Consolidation!$B382,Feuil5!$H:$H)","v":0},null,0,0,0]
["InsererLigne",6820,"Ecolages et frais de cours                                                  ",{"$f":"SUMIF(Feuil1!$B:$B,Consolidation!$B383,Feuil1!$D:$D)","v":0},null,{"$f":"SUMIF(Feuil2!$B:$B,Consolidation!$B383,Feuil2!$D:$D)","v":0},null,{"$f":"SUMIF(Feuil3!$B:$B,Consolidation!$B383,Feuil3!$D:$D)","v":0},null,{"$f":"SUMIF(Feuil4!$B:$B,Consolidation!$B383,Feuil4!$D:$D)","v":0},null,{"$f":"SUMIF(Feuil5!$B:$B,Consolidation!$B383,Feuil5!$D:$D)","v":0},null,0,0,{"$f":"SUMIF(Feuil1!$B:$B,Consolidation!$B383,Feuil1!$F:$F)","v":0},null,{"$f":"SUMIF(Feuil2!$B:$B,Consolidation!$B383,Feuil2!$F:$F)","v":0},null,{"$f":"SUMIF(Feuil3!$B:$B,Consolidation!$B383,Feuil3!$F:$F)","v":0},null,{"$f":"SUMIF(Feuil4!$B:$B,Consolidation!$B383,Feuil4!$F:$F)","v":0},null,{"$f":"SUMIF(Feuil5!$B:$B,Consolidation!$B383,Feuil5!$F:$F)","v":0},null,0,0,{"$f":"SUMIF(Feuil1!$B:$B,Consolidation!$B383,Feuil1!$H:$H)","v":0},null,{"$f":"SUMIF(Feuil2!$B:$B,Consolidation!$B383,Feuil2!$H:$H)","v":0},null,{"$f":"SUMIF(Feuil3!$B:$B,Consolidation!$B383,Feuil3!$H:$H)","v":0},null,{"$f":"SUMIF(Feuil4!$B:$B,Consolidation!$B383,Feuil4!$H:$H)","v":0},null,{"$f":"SUMIF(Feuil5!$B:$B,Consolidation!$B383,Feuil5!$H:$H)","v":0},null,0,0,0]
["InsererLigne",6830,"Ventes au personnel et à des tiers                                                  ",{"$f":"SUMIF(Feuil1!$B:$B,Consolidation!$B384,Feuil1!$D:$D)","v":0},null,{"$f":"SUMIF(Feuil2!$B:$B,Consolidation!$B384,Feuil2!$D:$D)","v":0},null,{"$f":"SUMIF(Feuil3!$B:$B,Consolidation!$B384,Feuil3!$D:$D)","v":0},null,{"$f":"SUMIF(Feuil4!$B:$B,Consolidation!$B384,Feuil4!$D:$D)","v":0},null,{"$f":"SUMIF(Feuil5!$B:$B,Consolidation!$B384,Feuil5!$D:$D)","v":0},null,0,0,{"$f":"SUMIF(Feuil1!$B:$B,Consolidation!$B384,Feuil1!$F:$F)","v":0},null,{"$f":"SUMIF(Feuil2!$B:$B,Consolidation!$B384,Feuil2!$F:$F)","v":0},null,{"$f":"SUMIF(Feuil3!$B:$B,Consolidation!$B384,Feuil3!$F:$F)","v":0},null,{"$f":"SUMIF(Feuil4!$B:$B,Consolidation!$B384,Feuil4!$F:$F)","v":0},null,{"$f":"SUMIF(Feuil5!$B:$B,Consolidation!$B384,Feuil5!$F:$F)","v":0},null,0,0,{"$f":"SUMIF(Feuil1!$B:$B,Consolidation!$B384,Feuil1!$H:$H)","v":0},null,{"$f":"SUMIF(Feuil2!$B:$B,Consolidation!$B384,Feuil2!$H:$H)","v":0},null,{"$f":"SUMIF(Feuil3!$B:$B,Consolidation!$B384,Feuil3!$H:$H)","v":0},null,{"$f":"SUMIF(Feuil4!$B:$B,Consolidation!$B384,Feuil4!$H:$H)","v":0},null,{"$f":"SUMIF(Feuil5!$B:$B,Consolidation!$B384,Feuil5!$H:$H)","v":0},null,0,0,0]
["InsererLigne",6840,"Produits de la lingerie                                                  ",{"$f":"SUMIF(Feuil1!$B:$B,Consolidation!$B385,Feuil1!$D:$D)","v":0},null,{"$f":"SUMIF(Feuil2!$B:$B,Consolidation!$B385,Feuil2!$D:$D)","v":0},null,{"$f":"SUMIF(Feuil3!$B:$B,Consolidation!$B385,Feuil3!$D:$D)","v":0},null,{"$f":"SUMIF(Feuil4!$B:$B,Consolidation!$B385,Feuil4!$D:$D)","v":0},null,{"$f":"SUMIF(Feuil5!$B:$B,Consolidation!$B385,Feuil5!$D:$D)","v":0},null,0,0,{"$f":"SUMIF(Feuil1!$B:$B,Consolidation!$B385,Feuil1!$F:$F)","v":0},null,{"$f":"SUMIF(Feuil2!$B:$B,Consolidation!$B385,Feuil2!$F:$F)","v":0},null,{"$f":"SUMIF(Feuil3!$B:$B,Consolidation!$B385,Feuil3!$F:$F)","v":0},null,{"$f":"SUMIF(Feuil4!$B:$B,Consolidation!$B385,Feuil4!$F:$F)","v":0},null,{"$f":"SUMIF(Feuil5!$B:$B,Consolidation!$B385,Feuil5!$F:$F)","v":0},null,0,0,{"$f":"SUMIF(Feuil1!$B:$B,Consolidation!$B385,Feuil1!$H:$H)","v":0},null,{"$f":"SUMIF(Feuil2!$B:$B,Consolidation!$B385,Feuil2!$H:$H)","v":0},null,{"$f":"SUMIF(Feuil3!$B:$B,Consolidation!$B385,Feuil3!$H:$H)","v":0},null,{"$f":"SUMIF(Feuil4!$B:$B,Consolidation!$B385,Feuil4!$H:$H)","v":0},null,{"$f":"SUMIF(Feuil5!$B:$B,Consolidation!$B385,Feuil5!$H:$H)","v":0},null,0,0,0]
["InsererLigne",6850,"Prestations internes à la fondation",{"$f":"SUMIF(Feuil1!$B:$B,Consolidation!$B386,Feuil1!$D:$D)","v":0},null,{"$f":"SUMIF(Feuil2!$B:$B,Consolidation!$B386,Feuil2!$D:$D)","v":0},null,{"$f":"SUMIF(Feuil3!$B:$B,Consolidation!$B386,Feuil3!$D:$D)","v":0},null,{"$f":"SUMIF(Feuil4!$B:$B,Consolidation!$B386,Feuil4!$D:$D)","v":0},null,{"$f":"SUMIF(Feuil5!$B:$B,Consolidation!$B386,Feuil5!$D:$D)","v":0},null,0,0,{"$f":"SUMIF(Feuil1!$B:$B,Consolidation!$B386,Feuil1!$F:$F)","v":0},null,{"$f":"SUMIF(Feuil2!$B:$B,Consolidation!$B386,Feuil2!$F:$F)","v":0},null,{"$f":"SUMIF(Feuil3!$B:$B,Consolidation!$B386,Feuil3!$F:$F)","v":0},null,{"$f":"SUMIF(Feuil4!$B:$B,Consolidation!$B386,Feuil4!$F:$F)","v":0},null,{"$f":"SUMIF(Feuil5!$B:$B,Consolidation!$B386,Feuil5!$F:$F)","v":0},null,0,0,{"$f":"SUMIF(Feuil1!$B:$B,Consolidation!$B386,Feuil1!$H:$H)","v":0},null,{"$f":"SUMIF(Feuil2!$B:$B,Consolidation!$B386,Feuil2!$H:$H)","v":0},null,{"$f":"SUMIF(Feuil3!$B:$B,Consolidation!$B386,Feuil3!$H:$H)","v":0},null,{"$f":"SUMIF(Feuil4!$B:$B,Consolidation!$B386,Feuil4!$H:$H)","v":0},null,{"$f":"SUMIF(Feuil5!$B:$B,Consolidation!$B386,Feuil5!$H:$H)","v":0},null,0,0,0]
["InsererLigne",6890,"Autres recettes                                                  ",{"$f":"SUMIF(Feuil1!$B:$B,Consolidation!$B387,Feuil1!$D:$D)","v":0},null,{"$f":"SUMIF(Feuil2!$B:$B,Consolidation!$B387,Feuil2!$D:$D)","v":0},null,{"$f":"SUMIF(Feuil3!$B:$B,Consolidation!$B387,Feuil3!$D:$D)","v":0},null,{"$f":"SUMIF(Feuil4!$B:$B,Consolidation!$B387,Feuil4!$D:$D)","v":0},null,{"$f":"SUMIF(Feuil5!$B:$B,Consolidation!$B387,Feuil5!$D:$D)","v":0},null,0,0,{"$f":"SUMIF(Feuil1!$B:$B,Consolidation!$B387,Feuil1!$F:$F)","v":0},null,{"$f":"SUMIF(Feuil2!$B:$B,Consolidation!$B387,Feuil2!$F:$F)","v":0},null,{"$f":"SUMIF(Feuil3!$B:$B,Consolidation!$B387,Feuil3!$F:$F)","v":0},null,{"$f":"SUMIF(Feuil4!$B:$B,Consolidation!$B387,Feuil4!$F:$F)","v":0},null,{"$f":"SUMIF(Feuil5!$B:$B,Consolidation!$B387,Feuil5!$F:$F)","v":0},null,0,0,{"$f":"SUMIF(Feuil1!$B:$B,Consolidation!$B387,Feuil1!$H:$H)","v":0},null,{"$f":"SUMIF(Feuil2!$B:$B,Consolidation!$B387,Feuil2!$H:$H)","v":0},null,{"$f":"SUMIF(Feuil3!$B:$B,Consolidation!$B387,Feuil3!$H:$H)","v":0},null,{"$f":"SUMIF(Feuil4!$B:$B,Consolidation!$B387,Feuil4!$H:$H)","v":0},null,{"$f":"SUMIF(Feuil5!$B:$B,Consolidation!$B387,Feuil5!$H:$H)","v":0},null,0,0,0]
["InsererLigne",6891,"Indemnités sinistres",{"$f":"SUMIF(Feuil1!$B:$B,Consolidation!$B388,Feuil1!$D:$D)","v":0},null,{"$f":"SUMIF(Feuil2!$B:$B,Consolidation!$B388,Feuil2!$D:$D)","v":0},null,{"$f":"SUMIF(Feuil3!$B:$B,Consolidation!$B388,Feuil3!$D:$D)","v":0},null,{"$f":"SUMIF(Feuil4!$B:$B,Consolidation!$B388,Feuil4!$D:$D)","v":0},null,{"$f":"SUMIF(Feuil5!$B:$B,Consolidation!$B388,Feuil5!$D:$D)","v":0},null,0,0,{"$f":"SUMIF(Feuil1!$B:$B,Consolidation!$B388,Feuil1!$F:$F)","v":0},null,{"$f":"SUMIF(Feuil2!$B:$B,Consolidation!$B388,Feuil2!$F:$F)","v":0},null,{"$f":"SUMIF(Feuil3!$B:$B,Consolidation!$B388,Feuil3!$F:$F)","v":0},null,{"$f":"SUMIF(Feuil4!$B:$B,Consolidation!$B388,Feuil4!$F:$F)","v":0},null,{"$f":"SUMIF(Feuil5!$B:$B,Consolidation!$B388,Feuil5!$F:$F)","v":0},null,0,0,{"$f":"SUMIF(Feuil1!$B:$B,Consolidation!$B388,Feuil1!$H:$H)","v":0},null,{"$f":"SUMIF(Feuil2!$B:$B,Consolidation!$B388,Feuil2!$H:$H)","v":0},null,{"$f":"SUMIF(Feuil3!$B:$B,Consolidation!$B388,Feuil3!$H:$H)","v":0},null,{"$f":"SUMIF(Feuil4!$B:$B,Consolidation!$B388,Feuil4!$H:$H)","v":0},null,{"$f":"SUMIF(Feuil5!$B:$B,Consolidation!$B388,Feuil5!$H:$H)","v":0},null,0,0,0]
["InsererLigne",6892,"Indemnités praticiens formateurs",{"$f":"SUMIF(Feuil1!$B:$B,Consolidation!$B389,Feuil1!$D:$D)","v":0},null,{"$f":"SUMIF(Feuil2!$B:$B,Consolidation!$B389,Feuil2!$D:$D)","v":0},null,{"$f":"SUMIF(Feuil3!$B:$B,Consolidation!$B389,Feuil3!$D:$D)","v":0},null,{"$f":"SUMIF(Feuil4!$B:$B,Consolidation!$B389,Feuil4!$D:$D)","v":0},null,{"$f":"SUMIF(Feuil5!$B:$B,Consolidation!$B389,Feuil5!$D:$D)","v":0},null,0,0,{"$f":"SUMIF(Feuil1!$B:$B,Consolidation!$B389,Feuil1!$F:$F)","v":0},null,{"$f":"SUMIF(Feuil2!$B:$B,Consolidation!$B389,Feuil2!$F:$F)","v":0},null,{"$f":"SUMIF(Feuil3!$B:$B,Consolidation!$B389,Feuil3!$F:$F)","v":0},null,{"$f":"SUMIF(Feuil4!$B:$B,Consolidation!$B389,Feuil4!$F:$F)","v":0},null,{"$f":"SUMIF(Feuil5!$B:$B,Consolidation!$B389,Feuil5!$F:$F)","v":0},null,0,0,{"$f":"SUMIF(Feuil1!$B:$B,Consolidation!$B389,Feuil1!$H:$H)","v":0},null,{"$f":"SUMIF(Feuil2!$B:$B,Consolidation!$B389,Feuil2!$H:$H)","v":0},null,{"$f":"SUMIF(Feuil3!$B:$B,Consolidation!$B389,Feuil3!$H:$H)","v":0},null,{"$f":"SUMIF(Feuil4!$B:$B,Consolidation!$B389,Feuil4!$H:$H)","v":0},null,{"$f":"SUMIF(Feuil5!$B:$B,Consolidation!$B389,Feuil5!$H:$H)","v":0},null,0,0,0]
["InsererLigne",6893,"Autres remboursements du personnel                                                  ",{"$f":"SUMIF(Feuil1!$B:$B,Consolidation!$B390,Feuil1!$D:$D)","v":0},null,{"$f":"SUMIF(Feuil2!$B:$B,Consolidation!$B390,Feuil2!$D:$D)","v":0},null,{"$f":"SUMIF(Feuil3!$B:$B,Consolidation!$B390,Feuil3!$D:$D)","v":0},null,{"$f":"SUMIF(Feuil4!$B:$B,Consolidation!$B390,Feuil4!$D:$D)","v":0},null,{"$f":"SUMIF(Feuil5!$B:$B,Consolidation!$B390,Feuil5!$D:$D)","v":0},null,0,0,{"$f":"SUMIF(Feuil1!$B:$B,Consolidation!$B390,Feuil1!$F:$F)","v":0},null,{"$f":"SUMIF(Feuil2!$B:$B,Consolidation!$B390,Feuil2!$F:$F)","v":0},null,{"$f":"SUMIF(Feuil3!$B:$B,Consolidation!$B390,Feuil3!$F:$F)","v":0},null,{"$f":"SUMIF(Feuil4!$B:$B,Consolidation!$B390,Feuil4!$F:$F)","v":0},null,{"$f":"SUMIF(Feuil5!$B:$B,Consolidation!$B390,Feuil5!$F:$F)","v":0},null,0,0,{"$f":"SUMIF(Feuil1!$B:$B,Consolidation!$B390,Feuil1!$H:$H)","v":0},null,{"$f":"SUMIF(Feuil2!$B:$B,Consolidation!$B390,Feuil2!$H:$H)","v":0},null,{"$f":"SUMIF(Feuil3!$B:$B,Consolidation!$B390,Feuil3!$H:$H)","v":0},null,{"$f":"SUMIF(Feuil4!$B:$B,Consolidation!$B390,Feuil4!$H:$H)","v":0},null,{"$f":"SUMIF(Feuil5!$B:$B,Consolidation!$B390,Feuil5!$H:$H)","v":0},null,0,0,0]
["InsererLigne",6894,"Téléphones",{"$f":"SUMIF(Feuil1!$B:$B,Consolidation!$B391,Feuil1!$D:$D)","v":0},null,{"$f":"SUMIF(Feuil2!$B:$B,Consolidation!$B391,Feuil2!$D:$D)","v":0},null,{"$f":"SUMIF(Feuil3!$B:$B,Consolidation!$B391,Feuil3!$D:$D)","v":0},null,{"$f":"SUMIF(Feuil4!$B:$B,Consolidation!$B391,Feuil4!$D:$D)","v":0},null,{"$f":"SUMIF(Feuil5!$B:$B,Consolidation!$B391,Feuil5!$D:$D)","v":0},null,0,0,{"$f":"SUMIF(Feuil1!$B:$B,Consolidation!$B391,Feuil1!$F:$F)","v":0},null,{"$f":"SUMIF(Feuil2!$B:$B,Consolidation!$B391,Feuil2!$F:$F)","v":0},null,{"$f":"SUMIF(Feuil3!$B:$B,Consolidation!$B391,Feuil3!$F:$F)","v":0},null,{"$f":"SUMIF(Feuil4!$B:$B,Consolidation!$B391,Feuil4!$F:$F)","v":0},null,{"$f":"SUMIF(Feuil5!$B:$B,Consolidation!$B391,Feuil5!$F:$F)","v":0},null,0,0,{"$f":"SUMIF(Feuil1!$B:$B,Consolidation!$B391,Feuil1!$H:$H)","v":0},null,{"$f":"SUMIF(Feuil2!$B:$B,Consolidation!$B391,Feuil2!$H:$H)","v":0},null,{"$f":"SUMIF(Feuil3!$B:$B,Consolidation!$B391,Feuil3!$H:$H)","v":0},null,{"$f":"SUMIF(Feuil4!$B:$B,Consolidation!$B391,Feuil4!$H:$H)","v":0},null,{"$f":"SUMIF(Feuil5!$B:$B,Consolidation!$B391,Feuil5!$H:$H)","v":0},null,0,0,{"$f":"SUM(D391:AM391)","v":0}]
["InsererLigne",6895,"Indemnités d'interventions à l'extérieur",{"$f":"SUMIF(Feuil1!$B:$B,Consolidation!$B392,Feuil1!$D:$D)","v":0},null,{"$f":"SUMIF(Feuil2!$B:$B,Consolidation!$B392,Feuil2!$D:$D)","v":0},null,{"$f":"SUMIF(Feuil3!$B:$B,Consolidation!$B392,Feuil3!$D:$D)","v":0},null,{"$f":"SUMIF(Feuil4!$B:$B,Consolidation!$B392,Feuil4!$D:$D)","v":0},null,{"$f":"SUMIF(Feuil5!$B:$B,Consolidation!$B392,Feuil5!$D:$D)","v":0},null,0,0,{"$f":"SUMIF(Feuil1!$B:$B,Consolidation!$B392,Feuil1!$F:$F)","v":0},null,{"$f":"SUMIF(Feuil2!$B:$B,Consolidation!$B392,Feuil2!$F:$F)","v":0},null,{"$f":"SUMIF(Feuil3!$B:$B,Consolidation!$B392,Feuil3!$F:$F)","v":0},null,{"$f":"SUMIF(Feuil4!$B:$B,Consolidation!$B392,Feuil4!$F:$F)","v":0},null,{"$f":"SUMIF(Feuil5!$B:$B,Consolidation!$B392,Feuil5!$F:$F)","v":0},null,0,0,{"$f":"SUMIF(Feuil1!$B:$B,Consolidation!$B392,Feuil1!$H:$H)","v":0},null,{"$f":"SUMIF(Feuil2!$B:$B,Consolidation!$B392,Feuil2!$H:$H)","v":0},null,{"$f":"SUMIF(Feuil3!$B:$B,Consolidation!$B392,Feuil3!$H:$H)","v":0},null,{"$f":"SUMIF(Feuil4!$B:$B,Consolidation!$B392,Feuil4!$H:$H)","v":0},null,{"$f":"SUMIF(Feuil5!$B:$B,Consolidation!$B392,Feuil5!$H:$H)","v":0},null,0,0,0]
["InsererLigne",6896,"Recettes piscine                                                  ",{"$f":"SUMIF(Feuil1!$B:$B,Consolidation!$B393,Feuil1!$D:$D)","v":0},null,{"$f":"SUMIF(Feuil2!$B:$B,Consolidation!$B393,Feuil2!$D:$D)","v":0},null,{"$f":"SUMIF(Feuil3!$B:$B,Consolidation!$B393,Feuil3!$D:$D)","v":0},null,{"$f":"SUMIF(Feuil4!$B:$B,Consolidation!$B393,Feuil4!$D:$D)","v":0},null,{"$f":"SUMIF(Feuil5!$B:$B,Consolidation!$B393,Feuil5!$D:$D)","v":0},null,0,0,{"$f":"SUMIF(Feuil1!$B:$B,Consolidation!$B393,Feuil1!$F:$F)","v":0},null,{"$f":"SUMIF(Feuil2!$B:$B,Consolidation!$B393,Feuil2!$F:$F)","v":0},null,{"$f":"SUMIF(Feuil3!$B:$B,Consolidation!$B393,Feuil3!$F:$F)","v":0},null,{"$f":"SUMIF(Feuil4!$B:$B,Consolidation!$B393,Feuil4!$F:$F)","v":0},null,{"$f":"SUMIF(Feuil5!$B:$B,Consolidation!$B393,Feuil5!$F:$F)","v":0},null,0,0,{"$f":"SUMIF(Feuil1!$B:$B,Consolidation!$B393,Feuil1!$H:$H)","v":0},null,{"$f":"SUMIF(Feuil2!$B:$B,Consolidation!$B393,Feuil2!$H:$H)","v":0},null,{"$f":"SUMIF(Feuil3!$B:$B,Consolidation!$B393,Feuil3!$H:$H)","v":0},null,{"$f":"SUMIF(Feuil4!$B:$B,Consolidation!$B393,Feuil4!$H:$H)","v":0},null,{"$f":"SUMIF(Feuil5!$B:$B,Consolidation!$B393,Feuil5!$H:$H)","v":0},null,0,0,0]
["InsererLigne",null,null,null,null,null,null,null,null,null,null,null,null,null,null,null,null,null,null,null,null,null,null,null,null,null,null,null,null,null,null,null,null,null,null,null,null,null,null,0]
[null,69,"Contributions à l'exploitation et dons",{"$f":"SUBTOTAL(9,D396:D407)","v":0},{"$f":"IF($E$5>0,D395/$E$5,0)","v":0},{"$f":"SUBTOTAL(9,F396:F407)","v":0},{"$f":"IF($G$5>0,F395/$G$5,0)","v":0},{"$f":"SUBTOTAL(9,H396:H407)","v":0},{"$f":"IF($I$5>0,H395/$I$5,0)","v":0},{"$f":"SUBTOTAL(9,J396:J407)","v":0},{"$f":"IF($K$5>0,J395/$K$5,0)","v":0},{"$f":"SUBTOTAL(9,L396:L407)","v":0},{"$f":"IF($M$5>0,L395/$M$5,0)","v":0},{"$f":"D395+F395+H395+J395+L395","v":0},{"$f":"E395+G395+I395+K395+M395","v":0},{"$f":"SUBTOTAL(9,P396:P407)","v":0},{"$f":"IF($Q$5>0,P395/$Q$5,0)","v":0},{"$f":"SUBTOTAL(9,R396:R407)","v":0},{"$f":"IF($S$5>0,R395/$S$5,0)","v":0},{"$f":"SUBTOTAL(9,T396:T407)","v":0},{"$f":"IF($U$5>0,T395/$U$5,0)","v":0},{"$f":"SUBTOTAL(9,V396:V407)","v":0},{"$f":"IF($W$5>0,V395/$W$5,0)","v":0},{"$f":"SUBTOTAL(9,X396:X407)","v":0},{"$f":"IF($Y$5>0,X395/$Y$5,0)","v":0},{"$f":"P395+R395+T395+V395+X395","v":0},{"$f":"Q395+S395+U395+W395+Y395","v":0},{"$f":"SUBTOTAL(9,AB396:AB407)","v":0},{"$f":"IF($AC$5>0,AB395/$AC$5,0)","v":0},{"$f":"SUBTOTAL(9,AD396:AD407)","v":0},{"$f":"IF($AE$5>0,AD395/$AE$5,0)","v":0},{"$f":"SUBTOTAL(9,AF396:AF407)","v":0},{"$f":"IF($AG$5>0,AF395/$AG$5,0)","v":0},{"$f":"SUBTOTAL(9,AH396:AH407)","v":0},{"$f":"IF($AI$5>0,AH395/$AI$5,0)","v":0},{"$f":"SUBTOTAL(9,AJ396:AJ407)","v":0},{"$f":"IF($AK$5>0,AJ395/$AK$5,0)","v":0},{"$f":"AB395+AD395+AF395+AH395+AJ395","v":0},{"$f":"AC395+AE395+AG395+AI395+AK395","v":0},0]
[null,6900,"Contributions des communes                                                  ",{"$f":"SUMIF(Feuil1!$B:$B,Consolidation!$B396,Feuil1!$D:$D)","v":0},null,{"$f":"SUMIF(Feuil2!$B:$B,Consolidation!$B396,Feuil2!$D:$D)","v":0},null,{"$f":"SUMIF(Feuil3!$B:$B,Consolidation!$B396,Feuil3!$D:$D)","v":0},null,{"$f":"SUMIF(Feuil4!$B:$B,Consolidation!$B396,Feuil4!$D:$D)","v":0},null,{"$f":"SUMIF(Feuil5!$B:$B,Consolidation!$B396,Feuil5!$D:$D)","v":0},null,{"$f":"D396+F396+H396+J396+L396","v":0},{"$f":"E396+G396+I396+K396+M396","v":0},{"$f":"SUMIF(Feuil1!$B:$B,Consolidation!$B396,Feuil1!$F:$F)","v":0},null,{"$f":"SUMIF(Feuil2!$B:$B,Consolidation!$B396,Feuil2!$F:$F)","v":0},null,{"$f":"SUMIF(Feuil3!$B:$B,Consolidation!$B396,Feuil3!$F:$F)","v":0},null,{"$f":"SUMIF(Feuil4!$B:$B,Consolidation!$B396,Feuil4!$F:$F)","v":0},null,{"$f":"SUMIF(Feuil5!$B:$B,Consolidation!$B396,Feuil5!$F:$F)","v":0},null,{"$f":"P396+R396+T396+V396+X396","v":0},{"$f":"Q396+S396+U396+W396+Y396","v":0},{"$f":"SUMIF(Feuil1!$B:$B,Consolidation!$B396,Feuil1!$H:$H)","v":0},null,{"$f":"SUMIF(Feuil2!$B:$B,Consolidation!$B396,Feuil2!$H:$H)","v":0},null,{"$f":"SUMIF(Feuil3!$B:$B,Consolidation!$B396,Feuil3!$H:$H)","v":0},null,{"$f":"SUMIF(Feuil4!$B:$B,Consolidation!$B396,Feuil4!$H:$H)","v":0},null,{"$f":"SUMIF(Feuil5!$B:$B,Consolidation!$B396,Feuil5!$H:$H)","v":0},null,{"$f":"AB396+AD396+AF396+AH396+AJ396","v":0},{"$f":"AC396+AE396+AG396+AI396+AK396","v":0},0]
["InsererLigne",6910,"Dons de corporations, fondations et particuliers                                                  ",{"$f":"SUMIF(Feuil1!$B:$B,Consolidation!$B397,Feuil1!$D:$D)","v":0},null,{"$f":"SUMIF(Feuil2!$B:$B,Consolidation!$B397,Feuil2!$D:$D)","v":0},null,{"$f":"SUMIF(Feuil3!$B:$B,Consolidation!$B397,Feuil3!$D:$D)","v":0},null,{"$f":"SUMIF(Feuil4!$B:$B,Consolidation!$B397,Feuil4!$D:$D)","v":0},null,{"$f":"SUMIF(Feuil5!$B:$B,Consolidation!$B397,Feuil5!$D:$D)","v":0},null,0,0,{"$f":"SUMIF(Feuil1!$B:$B,Consolidation!$B397,Feuil1!$F:$F)","v":0},null,{"$f":"SUMIF(Feuil2!$B:$B,Consolidation!$B397,Feuil2!$F:$F)","v":0},null,{"$f":"SUMIF(Feuil3!$B:$B,Consolidation!$B397,Feuil3!$F:$F)","v":0},null,{"$f":"SUMIF(Feuil4!$B:$B,Consolidation!$B397,Feuil4!$F:$F)","v":0},null,{"$f":"SUMIF(Feuil5!$B:$B,Consolidation!$B397,Feuil5!$F:$F)","v":0},null,0,0,{"$f":"SUMIF(Feuil1!$B:$B,Consolidation!$B397,Feuil1!$H:$H)","v":0},null,{"$f":"SUMIF(Feuil2!$B:$B,Consolidation!$B397,Feuil2!$H:$H)","v":0},null,{"$f":"SUMIF(Feuil3!$B:$B,Consolidation!$B397,Feuil3!$H:$H)","v":0},null,{"$f":"SUMIF(Feuil4!$B:$B,Consolidation!$B397,Feuil4!$H:$H)","v":0},null,{"$f":"SUMIF(Feuil5!$B:$B,Consolidation!$B397,Feuil5!$H:$H)","v":0},null,0,0,0]
["InsererLigne",6911,"Contributions SAS à l'encadrement",{"$f":"SUMIF(Feuil1!$B:$B,Consolidation!$B398,Feuil1!$D:$D)","v":0},null,{"$f":"SUMIF(Feuil2!$B:$B,Consolidation!$B398,Feuil2!$D:$D)","v":0},null,{"$f":"SUMIF(Feuil3!$B:$B,Consolidation!$B398,Feuil3!$D:$D)","v":0},null,{"$f":"SUMIF(Feuil4!$B:$B,Consolidation!$B398,Feuil4!$D:$D)","v":0},null,{"$f":"SUMIF(Feuil5!$B:$B,Consolidation!$B398,Feuil5!$D:$D)","v":0},null,0,0,{"$f":"SUMIF(Feuil1!$B:$B,Consolidation!$B398,Feuil1!$F:$F)","v":0},null,{"$f":"SUMIF(Feuil2!$B:$B,Consolidation!$B398,Feuil2!$F:$F)","v":0},null,{"$f":"SUMIF(Feuil3!$B:$B,Consolidation!$B398,Feuil3!$F:$F)","v":0},null,{"$f":"SUMIF(Feuil4!$B:$B,Consolidation!$B398,Feuil4!$F:$F)","v":0},null,{"$f":"SUMIF(Feuil5!$B:$B,Consolidation!$B398,Feuil5!$F:$F)","v":0},null,0,0,{"$f":"SUMIF(Feuil1!$B:$B,Consolidation!$B398,Feuil1!$H:$H)","v":0},null,{"$f":"SUMIF(Feuil2!$B:$B,Consolidation!$B398,Feuil2!$H:$H)","v":0},null,{"$f":"SUMIF(Feuil3!$B:$B,Consolidation!$B398,Feuil3!$H:$H)","v":0},null,{"$f":"SUMIF(Feuil4!$B:$B,Consolidation!$B398,Feuil4!$H:$H)","v":0},null,{"$f":"SUMIF(Feuil5!$B:$B,Consolidation!$B398,Feuil5!$H:$H)","v":0},null,0,0,0]
["InsererLigne",6912,"Contribution Dîme s/alcool",{"$f":"SUMIF(Feuil1!$B:$B,Consolidation!$B399,Feuil1!$D:$D)","v":0},null,{"$f":"SUMIF(Feuil2!$B:$B,Consolidation!$B399,Feuil2!$D:$D)","v":0},null,{"$f":"SUMIF(Feuil3!$B:$B,Consolidation!$B399,Feuil3!$D:$D)","v":0},null,{"$f":"SUMIF(Feuil4!$B:$B,Consolidation!$B399,Feuil4!$D:$D)","v":0},null,{"$f":"SUMIF(Feuil5!$B:$B,Consolidation!$B399,Feuil5!$D:$D)","v":0},null,0,0,{"$f":"SUMIF(Feuil1!$B:$B,Consolidation!$B399,Feuil1!$F:$F)","v":0},null,{"$f":"SUMIF(Feuil2!$B:$B,Consolidation!$B399,Feuil2!$F:$F)","v":0},null,{"$f":"SUMIF(Feuil3!$B:$B,Consolidation!$B399,Feuil3!$F:$F)","v":0},null,{"$f":"SUMIF(Feuil4!$B:$B,Consolidation!$B399,Feuil4!$F:$F)","v":0},null,{"$f":"SUMIF(Feuil5!$B:$B,Consolidation!$B399,Feuil5!$F:$F)","v":0},null,0,0,{"$f":"SUMIF(Feuil1!$B:$B,Consolidation!$B399,Feuil1!$H:$H)","v":0},null,{"$f":"SUMIF(Feuil2!$B:$B,Consolidation!$B399,Feuil2!$H:$H)","v":0},null,{"$f":"SUMIF(Feuil3!$B:$B,Consolidation!$B399,Feuil3!$H:$H)","v":0},null,{"$f":"SUMIF(Feuil4!$B:$B,Consolidation!$B399,Feuil4!$H:$H)","v":0},null,{"$f":"SUMIF(Feuil5!$B:$B,Consolidation!$B399,Feuil5!$H:$H)","v":0},null,0,0,0]
["InsererLigne",6913,"Redistribution produit de la taxe CO2",{"$f":"SUMIF(Feuil1!$B:$B,Consolidation!$B400,Feuil1!$D:$D)","v":0},null,{"$f":"SUMIF(Feuil2!$B:$B,Consolidation!$B400,Feuil2!$D:$D)","v":0},null,{"$f":"SUMIF(Feuil3!$B:$B,Consolidation!$B400,Feuil3!$D:$D)","v":0},null,{"$f":"SUMIF(Feuil4!$B:$B,Consolidation!$B400,Feuil4!$D:$D)","v":0},null,{"$f":"SUMIF(Feuil5!$B:$B,Consolidation!$B400,Feuil5!$D:$D)","v":0},null,null,null,{"$f":"SUMIF(Feuil1!$B:$B,Consolidation!$B400,Feuil1!$F:$F)","v":0},null,{"$f":"SUMIF(Feuil2!$B:$B,Consolidation!$B400,Feuil2!$F:$F)","v":0},null,{"$f":"SUMIF(Feuil3!$B:$B,Consolidation!$B400,Feuil3!$F:$F)","v":0},null,{"$f":"SUMIF(Feuil4!$B:$B,Consolidation!$B400,Feuil4!$F:$F)","v":0},null,{"$f":"SUMIF(Feuil5!$B:$B,Consolidation!$B400,Feuil5!$F:$F)","v":0},null,null,null,{"$f":"SUMIF(Feuil1!$B:$B,Consolidation!$B400,Feuil1!$H:$H)","v":0},null,{"$f":"SUMIF(Feuil2!$B:$B,Consolidation!$B400,Feuil2!$H:$H)","v":0},null,{"$f":"SUMIF(Feuil3!$B:$B,Consolidation!$B400,Feuil3!$H:$H)","v":0},null,{"$f":"SUMIF(Feuil4!$B:$B,Consolidation!$B400,Feuil4!$H:$H)","v":0},null,{"$f":"SUMIF(Feuil5!$B:$B,Consolidation!$B400,Feuil5!$H:$H)","v":0},null,null,null,0]
["InsererLigne",6920,"Contributions d'autres cantons                                                  ",{"$f":"SUMIF(Feuil1!$B:$B,Consolidation!$B401,Feuil1!$D:$D)","v":0},null,{"$f":"SUMIF(Feuil2!$B:$B,Consolidation!$B401,Feuil2!$D:$D)","v":0},null,{"$f":"SUMIF(Feuil3!$B:$B,Consolidation!$B401,Feuil3!$D:$D)","v":0},null,{"$f":"SUMIF(Feuil4!$B:$B,Consolidation!$B401,Feuil4!$D:$D)","v":0},null,{"$f":"SUMIF(Feuil5!$B:$B,Consolidation!$B401,Feuil5!$D:$D)","v":0},null,0,0,{"$f":"SUMIF(Feuil1!$B:$B,Consolidation!$B401,Feuil1!$F:$F)","v":0},null,{"$f":"SUMIF(Feuil2!$B:$B,Consolidation!$B401,Feuil2!$F:$F)","v":0},null,{"$f":"SUMIF(Feuil3!$B:$B,Consolidation!$B401,Feuil3!$F:$F)","v":0},null,{"$f":"SUMIF(Feuil4!$B:$B,Consolidation!$B401,Feuil4!$F:$F)","v":0},null,{"$f":"SUMIF(Feuil5!$B:$B,Consolidation!$B401,Feuil5!$F:$F)","v":0},null,{"$f":"P401+R401+T401+V401+X401","v":0},{"$f":"Q401+S401+U401+W401+Y401","v":0},{"$f":"SUMIF(Feuil1!$B:$B,Consolidation!$B401,Feuil1!$H:$H)","v":0},null,{"$f":"SUMIF(Feuil2!$B:$B,Consolidation!$B401,Feuil2!$H:$H)","v":0},null,{"$f":"SUMIF(Feuil3!$B:$B,Consolidation!$B401,Feuil3!$H:$H)","v":0},null,{"$f":"SUMIF(Feuil4!$B:$B,Consolidation!$B401,Feuil4!$H:$H)","v":0},null,{"$f":"SUMIF(Feuil5!$B:$B,Consolidation!$B401,Feuil5!$H:$H)","v":0},null,{"$f":"AB401+AD401+AF401+AH401+AJ401","v":0},{"$f":"AC401+AE401+AG401+AI401+AK401","v":0},0]
["InsererLigne",6930,"Contributions de la Confédération                                                  ",{"$f":"SUMIF(Feuil1!$B:$B,Consolidation!$B402,Feuil1!$D:$D)","v":0},null,{"$f":"SUMIF(Feuil2!$B:$B,Consolidation!$B402,Feuil2!$D:$D)","v":0},null,{"$f":"SUMIF(Feuil3!$B:$B,Consolidation!$B402,Feuil3!$D:$D)","v":0},null,{"$f":"SUMIF(Feuil4!$B:$B,Consolidation!$B402,Feuil4!$D:$D)","v":0},null,{"$f":"SUMIF(Feuil5!$B:$B,Consolidation!$B402,Feuil5!$D:$D)","v":0},null,0,0,{"$f":"SUMIF(Feuil1!$B:$B,Consolidation!$B402,Feuil1!$F:$F)","v":0},null,{"$f":"SUMIF(Feuil2!$B:$B,Consolidation!$B402,Feuil2!$F:$F)","v":0},null,{"$f":"SUMIF(Feuil3!$B:$B,Consolidation!$B402,Feuil3!$F:$F)","v":0},null,{"$f":"SUMIF(Feuil4!$B:$B,Consolidation!$B402,Feuil4!$F:$F)","v":0},null,{"$f":"SUMIF(Feuil5!$B:$B,Consolidation!$B402,Feuil5!$F:$F)","v":0},null,0,0,{"$f":"SUMIF(Feuil1!$B:$B,Consolidation!$B402,Feuil1!$H:$H)","v":0},null,{"$f":"SUMIF(Feuil2!$B:$B,Consolidation!$B402,Feuil2!$H:$H)","v":0},null,{"$f":"SUMIF(Feuil3!$B:$B,Consolidation!$B402,Feuil3!$H:$H)","v":0},null,{"$f":"SUMIF(Feuil4!$B:$B,Consolidation!$B402,Feuil4!$H:$H)","v":0},null,{"$f":"SUMIF(Feuil5!$B:$B,Consolidation!$B402,Feuil5!$H:$H)","v":0},null,0,0,0]
["InsererLigne",6950,"Contributions aux traitements des enseignants",{"$f":"SUMIF(Feuil1!$B:$B,Consolidation!$B403,Feuil1!$D:$D)","v":0},null,{"$f":"SUMIF(Feuil2!$B:$B,Consolidation!$B403,Feuil2!$D:$D)","v":0},null,{"$f":"SUMIF(Feuil3!$B:$B,Consolidation!$B403,Feuil3!$D:$D)","v":0},null,{"$f":"SUMIF(Feuil4!$B:$B,Consolidation!$B403,Feuil4!$D:$D)","v":0},null,{"$f":"SUMIF(Feuil5!$B:$B,Consolidation!$B403,Feuil5!$D:$D)","v":0},null,0,0,{"$f":"SUMIF(Feuil1!$B:$B,Consolidation!$B403,Feuil1!$F:$F)","v":0},null,{"$f":"SUMIF(Feuil2!$B:$B,Consolidation!$B403,Feuil2!$F:$F)","v":0},null,{"$f":"SUMIF(Feuil3!$B:$B,Consolidation!$B403,Feuil3!$F:$F)","v":0},null,{"$f":"SUMIF(Feuil4!$B:$B,Consolidation!$B403,Feuil4!$F:$F)","v":0},null,{"$f":"SUMIF(Feuil5!$B:$B,Consolidation!$B403,Feuil5!$F:$F)","v":0},null,0,0,{"$f":"SUMIF(Feuil1!$B:$B,Consolidation!$B403,Feuil1!$H:$H)","v":0},null,{"$f":"SUMIF(Feuil2!$B:$B,Consolidation!$B403,Feuil2!$H:$H)","v":0},null,{"$f":"SUMIF(Feuil3!$B:$B,Consolidation!$B403,Feuil3!$H:$H)","v":0},null,{"$f":"SUMIF(Feuil4!$B:$B,Consolidation!$B403,Feuil4!$H:$H)","v":0},null,{"$f":"SUMIF(Feuil5!$B:$B,Consolidation!$B403,Feuil5!$H:$H)","v":0},null,0,0,0]
["InsererLigne",6970,"Dons de corporations, fondations et particuliers                                                  ",{"$f":"SUMIF(Feuil1!$B:$B,Consolidation!$B404,Feuil1!$D:$D)","v":0},null,{"$f":"SUMIF(Feuil2!$B:$B,Consolidation!$B404,Feuil2!$D:$D)","v":0},null,{"$f":"SUMIF(Feuil3!$B:$B,Consolidation!$B404,Feuil3!$D:$D)","v":0},null,{"$f":"SUMIF(Feuil4!$B:$B,Consolidation!$B404,Feuil4!$D:$D)","v":0},null,{"$f":"SUMIF(Feuil5!$B:$B,Consolidation!$B404,Feuil5!$D:$D)","v":0},null,0,0,{"$f":"SUMIF(Feuil1!$B:$B,Consolidation!$B404,Feuil1!$F:$F)","v":0},null,{"$f":"SUMIF(Feuil2!$B:$B,Consolidation!$B404,Feuil2!$F:$F)","v":0},null,{"$f":"SUMIF(Feuil3!$B:$B,Consolidation!$B404,Feuil3!$F:$F)","v":0},null,{"$f":"SUMIF(Feuil4!$B:$B,Consolidation!$B404,Feuil4!$F:$F)","v":0},null,{"$f":"SUMIF(Feuil5!$B:$B,Consolidation!$B404,Feuil5!$F:$F)","v":0},null,0,0,{"$f":"SUMIF(Feuil1!$B:$B,Consolidation!$B404,Feuil1!$H:$H)","v":0},null,{"$f":"SUMIF(Feuil2!$B:$B,Consolidation!$B404,Feuil2!$H:$H)","v":0},null,{"$f":"SUMIF(Feuil3!$B:$B,Consolidation!$B404,Feuil3!$H:$H)","v":0},null,{"$f":"SUMIF(Feuil4!$B:$B,Consolidation!$B404,Feuil4!$H:$H)","v":0},null,{"$f":"SUMIF(Feuil5!$B:$B,Consolidation!$B404,Feuil5!$H:$H)","v":0},null,0,0,0]
["InsererLigne",6971,"Prélèvements de dons en faveur du bilan                                                  ",{"$f":"SUMIF(Feuil1!$B:$B,Consolidation!$B405,Feuil1!$D:$D)","v":0},null,{"$f":"SUMIF(Feuil2!$B:$B,Consolidation!$B405,Feuil2!$D:$D)","v":0},null,{"$f":"SUMIF(Feuil3!$B:$B,Consolidation!$B405,Feuil3!$D:$D)","v":0},null,{"$f":"SUMIF(Feuil4!$B:$B,Consolidation!$B405,Feuil4!$D:$D)","v":0},null,{"$f":"SUMIF(Feuil5!$B:$B,Consolidation!$B405,Feuil5!$D:$D)","v":0},null,0,0,{"$f":"SUMIF(Feuil1!$B:$B,Consolidation!$B405,Feuil1!$F:$F)","v":0},null,{"$f":"SUMIF(Feuil2!$B:$B,Consolidation!$B405,Feuil2!$F:$F)","v":0},null,{"$f":"SUMIF(Feuil3!$B:$B,Consolidation!$B405,Feuil3!$F:$F)","v":0},null,{"$f":"SUMIF(Feuil4!$B:$B,Consolidation!$B405,Feuil4!$F:$F)","v":0},null,{"$f":"SUMIF(Feuil5!$B:$B,Consolidation!$B405,Feuil5!$F:$F)","v":0},null,0,0,{"$f":"SUMIF(Feuil1!$B:$B,Consolidation!$B405,Feuil1!$H:$H)","v":0},null,{"$f":"SUMIF(Feuil2!$B:$B,Consolidation!$B405,Feuil2!$H:$H)","v":0},null,{"$f":"SUMIF(Feuil3!$B:$B,Consolidation!$B405,Feuil3!$H:$H)","v":0},null,{"$f":"SUMIF(Feuil4!$B:$B,Consolidation!$B405,Feuil4!$H:$H)","v":0},null,{"$f":"SUMIF(Feuil5!$B:$B,Consolidation!$B405,Feuil5!$H:$H)","v":0},null,0,0,0]
["InsererLigne",6980,"Cotisations de membres association                                                  ",{"$f":"SUMIF(Feuil1!$B:$B,Consolidation!$B406,Feuil1!$D:$D)","v":0},null,{"$f":"SUMIF(Feuil2!$B:$B,Consolidation!$B406,Feuil2!$D:$D)","v":0},null,{"$f":"SUMIF(Feuil3!$B:$B,Consolidation!$B406,Feuil3!$D:$D)","v":0},null,{"$f":"SUMIF(Feuil4!$B:$B,Consolidation!$B406,Feuil4!$D:$D)","v":0},null,{"$f":"SUMIF(Feuil5!$B:$B,Consolidation!$B406,Feuil5!$D:$D)","v":0},null,0,0,{"$f":"SUMIF(Feuil1!$B:$B,Consolidation!$B406,Feuil1!$F:$F)","v":0},null,{"$f":"SUMIF(Feuil2!$B:$B,Consolidation!$B406,Feuil2!$F:$F)","v":0},null,{"$f":"SUMIF(Feuil3!$B:$B,Consolidation!$B406,Feuil3!$F:$F)","v":0},null,{"$f":"SUMIF(Feuil4!$B:$B,Consolidation!$B406,Feuil4!$F:$F)","v":0},null,{"$f":"SUMIF(Feuil5!$B:$B,Consolidation!$B406,Feuil5!$F:$F)","v":0},null,0,0,{"$f":"SUMIF(Feuil1!$B:$B,Consolidation!$B406,Feuil1!$H:$H)","v":0},null,{"$f":"SUMIF(Feuil2!$B:$B,Consolidation!$B406,Feuil2!$H:$H)","v":0},null,{"$f":"SUMIF(Feuil3!$B:$B,Consolidation!$B406,Feuil3!$H:$H)","v":0},null,{"$f":"SUMIF(Feuil4!$B:$B,Consolidation!$B406,Feuil4!$H:$H)","v":0},null,{"$f":"SUMIF(Feuil5!$B:$B,Consolidation!$B406,Feuil5!$H:$H)","v":0},null,0,0,0]
["InsererLigne",null,null,null,null,null,null,null,null,null,null,null,null,null,null,null,null,null,null,null,null,null,null,null,null,null,null,null,null,null,null,null,null,null,null,null,null,null,null,0]
[null,null,"Total des charges d'exploitation",{"$f":"SUBTOTAL(9,D7:D276)","v":0},{"$f":"IF($E$5>0,D408/$E$5,0)","v":0},{"$f":"SUBTOTAL(9,F7:F276)","v":0},{"$f":"IF($G$5>0,F408/$G$5,0)","v":0},{"$f":"SUBTOTAL(9,H7:H276)","v":0},{"$f":"IF($I$5>0,H408/$I$5,0)","v":0},{"$f":"SUBTOTAL(9,J7:J276)","v":0},{"$f":"IF($K$5>0,J408/$K$5,0)","v":0},{"$f":"SUBTOTAL(9,L7:L276)","v":0},{"$f":"IF($M$5>0,L408/$M$5,0)","v":0},{"$f":"D408+F408+H408+J408+L408","v":0},{"$f":"E408+G408+I408+K408+M408","v":0},{"$f":"SUBTOTAL(9,P7:P276)","v":0},{"$f":"IF($Q$5>0,P408/$Q$5,0)","v":0},{"$f":"SUBTOTAL(9,R7:R276)","v":0},{"$f":"IF($S$5>0,R408/$S$5,0)","v":0},{"$f":"SUBTOTAL(9,T7:T276)","v":0},{"$f":"IF($U$5>0,T408/$U$5,0)","v":0},{"$f":"SUBTOTAL(9,V7:V276)","v":0},{"$f":"IF($W$5>0,V408/$W$5,0)","v":0},{"$f":"SUBTOTAL(9,X7:X276)","v":0},{"$f":"IF($Y$5>0,X408/$Y$5,0)","v":0},{"$f":"P408+R408+T408+V408+X408","v":0},{"$f":"Q408+S408+U408+W408+Y408","v":0},{"$f":"SUBTOTAL(9,AB7:AB276)","v":0},{"$f":"IF($AC$5>0,AB408/$AC$5,0)","v":0},{"$f":"SUBTOTAL(9,AD7:AD276)","v":0},{"$f":"IF($AE$5>0,AD408/$AE$5,0)","v":0},{"$f":"SUBTOTAL(9,AF7:AF276)","v":0},{"$f":"IF($AG$5>0,AF408/$AG$5,0)","v":0},{"$f":"SUBTOTAL(9,AH7:AH276)","v":0},{"$f":"IF($AI$5>0,AH408/$AI$5,0)","v":0},{"$f":"SUBTOTAL(9,AJ7:AJ276)","v":0},{"$f":"IF($AK$5>0,AJ408/$AK$5,0)","v":0},{"$f":"AB408+AD408+AF408+AH408+AJ408","v":0},{"$f":"AC408+AE408+AG408+AI408+AK408","v":0},"."]
[null,null,"Total des recettes d'exploitation",{"$f":"SUBTOTAL(9,D277:D407)","v":0},{"$f":"IF($E$5>0,D409/$E$5,0)","v":0},{"$f":"SUBTOTAL(9,F277:F407)","v":0},{"$f":"IF($G$5>0,F409/$G$5,0)","v":0},{"$f":"SUBTOTAL(9,H277:H407)","v":0},{"$f":"IF($I$5>0,H409/$I$5,0)","v":0},{"$f":"SUBTOTAL(9,J277:J407)","v":0},{"$f":"IF($K$5>0,J409/$K$5,0)","v":0},{"$f":"SUBTOTAL(9,L277:L407)","v":0},{"$f":"IF($M$5>0,L409/$M$5,0)","v":0},0,0,{"$f":"SUBTOTAL(9,P277:P407)","v":0},{"$f":"IF($Q$5>0,P409/$Q$5,0)","v":0},{"$f":"SUBTOTAL(9,R277:R407)","v":0},{"$f":"IF($S$5>0,R409/$S$5,0)","v":0},{"$f":"SUBTOTAL(9,T277:T407)","v":0},{"$f":"IF($U$5>0,T409/$U$5,0)","v":0},{"$f":"SUBTOTAL(9,V277:V407)","v":0},{"$f":"IF($W$5>0,V409/$W$5,0)","v":0},{"$f":"SUBTOTAL(9,X277:X407)","v":0},{"$f":"IF($Y$5>0,X409/$Y$5,0)","v":0},0,0,{"$f":"SUBTOTAL(9,AB277:AB407)","v":0},{"$f":"IF($AC$5>0,AB409/$AC$5,0)","v":0},{"$f":"SUBTOTAL(9,AD277:AD407)","v":0},{"$f":"IF($AE$5>0,AD409/$AE$5,0)","v":0},{"$f":"SUBTOTAL(9,AF277:AF407)","v":0},{"$f":"IF($AG$5>0,AF409/$AG$5,0)","v":0},{"$f":"SUBTOTAL(9,AH277:AH407)","v":0},{"$f":"IF($AI$5>0,AH409/$AI$5,0)","v":0},{"$f":"SUBTOTAL(9,AJ277:AJ407)","v":0},{"$f":"IF($AK$5>0,AJ409/$AK$5,0)","v":0},0,0,"."]
[null,null,null,null,null,null,null,null,null,null,null,null,null,null,null,null,null,null,null,null,null,null,null,null,null,null,null,null,null,null,null,null,null,null,null,null,null,null,null,"."]
[null,null,{"$f":"IF(AL411=0,\"\",IF(AL411>0,\"Excédent provisoire des recettes\",IF(AL411<0,\"Excédent provisoire des charges\")))","v":""},{"$f":"D408+D409","v":0},{"$f":"IF($E$5>0,D411/$E$5,0)","v":0},{"$f":"F408+F409","v":0},{"$f":"IF($G$5>0,F411/$G$5,0)","v":0},{"$f":"H408+H409","v":0},{"$f":"IF($I$5>0,H411/$I$5,0)","v":0},{"$f":"J408+J409","v":0},{"$f":"IF($K$5>0,J411/$K$5,0)","v":0},{"$f":"L408+L409","v":0},{"$f":"IF($M$5>0,L411/$M$5,0)","v":0},0,0,{"$f":"P408+P409","v":0},{"$f":"IF($Q$5>0,P411/$Q$5,0)","v":0},{"$f":"R408+R409","v":0},{"$f":"IF($S$5>0,R411/$S$5,0)","v":0},{"$f":"T408+T409","v":0},{"$f":"IF($U$5>0,T411/$U$5,0)","v":0},{"$f":"V408+V409","v":0},{"$f":"IF($W$5>0,V411/$W$5,0)","v":0},{"$f":"X408+X409","v":0},{"$f":"IF($Y$5>0,X411/$Y$5,0)","v":0},{"$f":"P411+R411+T411+V411+X411","v":0},{"$f":"Q411+S411+U411+W411+Y411","v":0},{"$f":"AB408+AB409","v":0},{"$f":"IF($AC$5>0,AB411/$AC$5,0)","v":0},{"$f":"AD408+AD409","v":0},{"$f":"IF($AE$5>0,AD411/$AE$5,0)","v":0},{"$f":"AF408+AF409","v":0},{"$f":"IF($AG$5>0,AF411/$AG$5,0)","v":0},{"$f":"AH408+AH409","v":0},{"$f":"IF($AI$5>0,AH411/$AI$5,0)","v":0},{"$f":"AJ408+AJ409","v":0},{"$f":"IF($AK$5>0,AJ411/$AK$5,0)","v":0},{"$f":"AB411+AD411+AF411+AH411+AJ411","v":0},{"$f":"AC411+AE411+AG411+AI411+AK411","v":0},"."]